BEGIN:VCALENDAR
VERSION:2.0
PRODID:-//Jacksonville Cottages - Nightly &amp; Monthly Rentals in Jacksonville, Oregon - ECPv6.15.20//NONSGML v1.0//EN
CALSCALE:GREGORIAN
METHOD:PUBLISH
X-WR-CALNAME:Jacksonville Cottages - Nightly &amp; Monthly Rentals in Jacksonville, Oregon
X-ORIGINAL-URL:https://jacksonvillecottages.com
X-WR-CALDESC:Events for Jacksonville Cottages - Nightly &amp; Monthly Rentals in Jacksonville, Oregon
REFRESH-INTERVAL;VALUE=DURATION:PT1H
X-Robots-Tag:noindex
X-PUBLISHED-TTL:PT1H
BEGIN:VTIMEZONE
TZID:America/Los_Angeles
BEGIN:DAYLIGHT
TZOFFSETFROM:-0800
TZOFFSETTO:-0700
TZNAME:PDT
DTSTART:20210314T100000
END:DAYLIGHT
BEGIN:STANDARD
TZOFFSETFROM:-0700
TZOFFSETTO:-0800
TZNAME:PST
DTSTART:20211107T090000
END:STANDARD
BEGIN:DAYLIGHT
TZOFFSETFROM:-0800
TZOFFSETTO:-0700
TZNAME:PDT
DTSTART:20220313T100000
END:DAYLIGHT
BEGIN:STANDARD
TZOFFSETFROM:-0700
TZOFFSETTO:-0800
TZNAME:PST
DTSTART:20221106T090000
END:STANDARD
BEGIN:DAYLIGHT
TZOFFSETFROM:-0800
TZOFFSETTO:-0700
TZNAME:PDT
DTSTART:20230312T100000
END:DAYLIGHT
BEGIN:STANDARD
TZOFFSETFROM:-0700
TZOFFSETTO:-0800
TZNAME:PST
DTSTART:20231105T090000
END:STANDARD
END:VTIMEZONE
BEGIN:VEVENT
DTSTART;VALUE=DATE:20220715
DTEND;VALUE=DATE:20220718
DTSTAMP:20260423T163354
CREATED:20220708T172629Z
LAST-MODIFIED:20220717T182034Z
UID:96-1657843200-1658102399@jacksonvillecottages.com
SUMMARY:SOLT Lavender Festival Weekend
DESCRIPTION:It’s that time of year totake in the scenes and scents of lovely lavender farms right here in Jacksonville’sbackyard. Treat yourself by visiting any or all six local lavender farms on the Southern Oregon LavenderTrail\, who are happy to welcome you and yours for Lavender Festival Weekend\,July 15-17. Each farm specializesin different lavender and aspects of growing it—making for a very interestingday out. In addition to viewing lavender\, there’s music\, vendors\, and food toenjoy!  \nGuests are encouraged tocheck the opening times and dates for each farm which may be different. Theseare all small\, family-run businesses who love to share what they do withvisitors and your experience on each of the farms is likely to be quitedifferent.  \nThis year\, guests mayvisit Lavender Ally\, Dos Mariposas Vineyards & Lavender Farm\,Applegate River Lavender Farm\, Goodwin Creek Gardens\, EnglishLavender Farm—and the newest farm-member to join the lavender tour\, KingfisherFarms\, located on the upper Applegate River\, with 2500 new plantsrepresenting 21 separate species.  \nInaddition to taking in the sights and smells\, curious guests will have a chanceto talk to the local farmers who will share useful growing tips. Farms will beoffering lavender treats\, u-pick\, lavender essential oil demonstrations andwreath-making. There is no better time or place to take a breath and appreciatethe splendor of this wonderful herb grown right on our doorstep. \nFor up-to-dateinformation before you visit\, www.southernoregonlavendertrail.com\,Facebook/SouthernOregonLavenderTrail\, or the individual farm websites andFacebook pages. 
URL:https://jacksonvillecottages.com/event/solt-lavender-festival-weekend/
END:VEVENT
BEGIN:VEVENT
DTSTART;TZID=America/Los_Angeles:20220715T180000
DTEND;TZID=America/Los_Angeles:20220715T200000
DTSTAMP:20260423T163354
CREATED:20220722T150507Z
LAST-MODIFIED:20220722T150507Z
UID:635-1657908000-1657915200@jacksonvillecottages.com
SUMMARY:Live Music W/ Steve Hopkins & Band of Bro’s
DESCRIPTION:
URL:https://jacksonvillecottages.com/event/live-music-w-steve-hopkins-band-of-bros/
END:VEVENT
END:VCALENDAR