BEGIN:VCALENDAR
VERSION:2.0
PRODID:-//Jacksonville Cottages - Nightly &amp; Monthly Rentals in Jacksonville, Oregon - ECPv6.15.20//NONSGML v1.0//EN
CALSCALE:GREGORIAN
METHOD:PUBLISH
X-ORIGINAL-URL:https://jacksonvillecottages.com
X-WR-CALDESC:Events for Jacksonville Cottages - Nightly &amp; Monthly Rentals in Jacksonville, Oregon
REFRESH-INTERVAL;VALUE=DURATION:PT1H
X-Robots-Tag:noindex
X-PUBLISHED-TTL:PT1H
BEGIN:VTIMEZONE
TZID:America/Los_Angeles
BEGIN:DAYLIGHT
TZOFFSETFROM:-0800
TZOFFSETTO:-0700
TZNAME:PDT
DTSTART:20210314T100000
END:DAYLIGHT
BEGIN:STANDARD
TZOFFSETFROM:-0700
TZOFFSETTO:-0800
TZNAME:PST
DTSTART:20211107T090000
END:STANDARD
BEGIN:DAYLIGHT
TZOFFSETFROM:-0800
TZOFFSETTO:-0700
TZNAME:PDT
DTSTART:20220313T100000
END:DAYLIGHT
BEGIN:STANDARD
TZOFFSETFROM:-0700
TZOFFSETTO:-0800
TZNAME:PST
DTSTART:20221106T090000
END:STANDARD
BEGIN:DAYLIGHT
TZOFFSETFROM:-0800
TZOFFSETTO:-0700
TZNAME:PDT
DTSTART:20230312T100000
END:DAYLIGHT
BEGIN:STANDARD
TZOFFSETFROM:-0700
TZOFFSETTO:-0800
TZNAME:PST
DTSTART:20231105T090000
END:STANDARD
END:VTIMEZONE
BEGIN:VEVENT
DTSTART;VALUE=DATE:20220715
DTEND;VALUE=DATE:20220718
DTSTAMP:20260423T163038
CREATED:20220708T172629Z
LAST-MODIFIED:20220717T182034Z
UID:96-1657843200-1658102399@jacksonvillecottages.com
SUMMARY:SOLT Lavender Festival Weekend
DESCRIPTION:It’s that time of year totake in the scenes and scents of lovely lavender farms right here in Jacksonville’sbackyard. Treat yourself by visiting any or all six local lavender farms on the Southern Oregon LavenderTrail\, who are happy to welcome you and yours for Lavender Festival Weekend\,July 15-17. Each farm specializesin different lavender and aspects of growing it—making for a very interestingday out. In addition to viewing lavender\, there’s music\, vendors\, and food toenjoy!  \nGuests are encouraged tocheck the opening times and dates for each farm which may be different. Theseare all small\, family-run businesses who love to share what they do withvisitors and your experience on each of the farms is likely to be quitedifferent.  \nThis year\, guests mayvisit Lavender Ally\, Dos Mariposas Vineyards & Lavender Farm\,Applegate River Lavender Farm\, Goodwin Creek Gardens\, EnglishLavender Farm—and the newest farm-member to join the lavender tour\, KingfisherFarms\, located on the upper Applegate River\, with 2500 new plantsrepresenting 21 separate species.  \nInaddition to taking in the sights and smells\, curious guests will have a chanceto talk to the local farmers who will share useful growing tips. Farms will beoffering lavender treats\, u-pick\, lavender essential oil demonstrations andwreath-making. There is no better time or place to take a breath and appreciatethe splendor of this wonderful herb grown right on our doorstep. \nFor up-to-dateinformation before you visit\, www.southernoregonlavendertrail.com\,Facebook/SouthernOregonLavenderTrail\, or the individual farm websites andFacebook pages. 
URL:https://jacksonvillecottages.com/event/solt-lavender-festival-weekend/
END:VEVENT
BEGIN:VEVENT
DTSTART;TZID=America/Los_Angeles:20220716T100000
DTEND;TZID=America/Los_Angeles:20220716T110000
DTSTAMP:20260423T163038
CREATED:20220708T172629Z
LAST-MODIFIED:20220715T181913Z
UID:91-1657965600-1657969200@jacksonvillecottages.com
SUMMARY:Jacksonville "Walk Through History" Walking Tour
DESCRIPTION:Walkthrough History – These 1-hour walking tours will be offered everySaturday from May 28th through September 3rd.  Tours begin at 10am andleave from Jacksonville’s New City Hall (the historic 1883 Jackson CountyCourthouse) on North 5th Street. Participantsvisit the sites and hear the stories of the people who transformed a gold rushtown into Southern Oregon’s 19th Century governmental\, social\, andcommercial hub.  Tours are free—but donationsare strongly encouraged!  Information at https://www.historicjacksonville.org/walk-through-history/ \n \n \nHistoricJacksonville\, Inc. is a volunteer 501(c)(3) non-profit organization.  All net proceeds go towards preserving andmaintaining Jacksonville\, Oregon’s historic buildings.
URL:https://jacksonvillecottages.com/event/jacksonville-walk-through-history-walking-tour-2/
LOCATION:Jacksonville City Hall\, 206 N 5th St\, Jacksonville\, OR 97530\, USA
END:VEVENT
BEGIN:VEVENT
DTSTART;TZID=America/Los_Angeles:20220716T110000
DTEND;TZID=America/Los_Angeles:20220716T150000
DTSTAMP:20260423T163038
CREATED:20220708T172629Z
LAST-MODIFIED:20220716T182000Z
UID:89-1657969200-1657983600@jacksonvillecottages.com
SUMMARY:Beekman Bank "Behind the Counter" Tours
DESCRIPTION:BeekmanBank “Behind the Counter” Tours –   Between 11am and 3pm on every weekend from May28th through September 4th\, a costumed docent invites you to step “Behind theCounter” of the 1863 Beekman Bank.  Begunin 1856 as a gold dust office\, it’s the oldest financial institution betweenSan Francisco and Portland.  Preserved asa museum since 1915\, it saw over $40 million in gold cross its counter duringJacksonville’s heyday in the late 1800s—worth over $1 billion today!  It’s suggested you allow 30 minutes to hearthe stories of 19th Century banking practices\, gold shipping\, andhandshake deals.  Tours are free—but donationsare strongly encouraged!  Information at https://www.historicjacksonville.org/behind-the-counter-tours/  \nHistoricJacksonville\, Inc. is a volunteer 501(c)(3) non-profit organization.  All net proceeds go towards preserving andmaintaining Jacksonville\, Oregon’s historic buildings.
URL:https://jacksonvillecottages.com/event/beekman-bank-behind-the-counter-tours-3/
LOCATION:Beekman Bank\, California Street\, Jacksonville\, Oregon
END:VEVENT
BEGIN:VEVENT
DTSTART;TZID=America/Los_Angeles:20220716T120000
DTEND;TZID=America/Los_Angeles:20220716T150000
DTSTAMP:20260423T163038
CREATED:20220708T172629Z
LAST-MODIFIED:20220716T182000Z
UID:94-1657972800-1657983600@jacksonvillecottages.com
SUMMARY:Beekman House Victorian Days Museum Tours
DESCRIPTION:Victorian Days – On the 3rd Saturday of each month from May 21st through August 16th we’llbe offering Victorian Days themed tours at the historic 1873 Beekman House\,located at 470 E. California Street in Jacksonville.  Each month addressesa different aspect of Victorian society viewed through the lens of Jacksonvilleand the Beekman family\, the town’s wealthiest and most prominent pioneerfamily.  \n Topics include Etiquette\, MedicalPractices\, Newfangled Inventions\, and Travel in the Victorian Era.  OnSeptember 17 and 18\, we will offer a full weekend of Victorian Fashions; and onOctober 22 and 23\, a full weekend of Victorian Mourning Customs.  Toursbegin every 20 minutes with the first tour starting at 12n and the last at3pm.  Each tour lasts about 1 hour.  Tour group size is capped at 8 people.   \n     Toursare $10 per person and reservations are required.  Information and tickets for all tours areavailable now at www.historicjacksonville.org/victorian-theme-tours/.   \n HistoricJacksonville\, Inc. is a volunteer 501(c)(3) non-profit organization.  All net proceeds go towards preserving andmaintaining Jacksonville\, Oregon’s historic buildings.
URL:https://jacksonvillecottages.com/event/beekman-house-victorian-days-museum-tours/
LOCATION:Beekman House\, 452 E California St\, Jacksonville\, OR 97530\, USA
END:VEVENT
BEGIN:VEVENT
DTSTART;TZID=America/Los_Angeles:20220716T180000
DTEND;TZID=America/Los_Angeles:20220716T200000
DTSTAMP:20260423T163038
CREATED:20220722T150512Z
LAST-MODIFIED:20220722T153951Z
UID:644-1657994400-1658001600@jacksonvillecottages.com
SUMMARY:S.Stage Cellars:  Live Music w/ The Girls of the Rogue Suspects – 6-8pm\, $15 cover
DESCRIPTION:
URL:https://jacksonvillecottages.com/event/live-music-w-the-girls-of-the-rogue-suspects-6-8pm-15-cover/
END:VEVENT
END:VCALENDAR