BEGIN:VCALENDAR
VERSION:2.0
PRODID:-//Jacksonville Cottages - Nightly &amp; Monthly Rentals in Jacksonville, Oregon - ECPv6.15.20//NONSGML v1.0//EN
CALSCALE:GREGORIAN
METHOD:PUBLISH
X-WR-CALNAME:Jacksonville Cottages - Nightly &amp; Monthly Rentals in Jacksonville, Oregon
X-ORIGINAL-URL:https://jacksonvillecottages.com
X-WR-CALDESC:Events for Jacksonville Cottages - Nightly &amp; Monthly Rentals in Jacksonville, Oregon
REFRESH-INTERVAL;VALUE=DURATION:PT1H
X-Robots-Tag:noindex
X-PUBLISHED-TTL:PT1H
BEGIN:VTIMEZONE
TZID:America/Los_Angeles
BEGIN:DAYLIGHT
TZOFFSETFROM:-0800
TZOFFSETTO:-0700
TZNAME:PDT
DTSTART:20210314T100000
END:DAYLIGHT
BEGIN:STANDARD
TZOFFSETFROM:-0700
TZOFFSETTO:-0800
TZNAME:PST
DTSTART:20211107T090000
END:STANDARD
BEGIN:DAYLIGHT
TZOFFSETFROM:-0800
TZOFFSETTO:-0700
TZNAME:PDT
DTSTART:20220313T100000
END:DAYLIGHT
BEGIN:STANDARD
TZOFFSETFROM:-0700
TZOFFSETTO:-0800
TZNAME:PST
DTSTART:20221106T090000
END:STANDARD
BEGIN:DAYLIGHT
TZOFFSETFROM:-0800
TZOFFSETTO:-0700
TZNAME:PDT
DTSTART:20230312T100000
END:DAYLIGHT
BEGIN:STANDARD
TZOFFSETFROM:-0700
TZOFFSETTO:-0800
TZNAME:PST
DTSTART:20231105T090000
END:STANDARD
END:VTIMEZONE
BEGIN:VTIMEZONE
TZID:Etc/GMT
BEGIN:STANDARD
TZOFFSETFROM:+0000
TZOFFSETTO:+0000
TZNAME:GMT
DTSTART:20210101T000000
END:STANDARD
END:VTIMEZONE
BEGIN:VTIMEZONE
TZID:UTC
BEGIN:STANDARD
TZOFFSETFROM:+0000
TZOFFSETTO:+0000
TZNAME:UTC
DTSTART:20210101T000000
END:STANDARD
END:VTIMEZONE
BEGIN:VEVENT
DTSTART;TZID=America/Los_Angeles:20220731T090000
DTEND;TZID=America/Los_Angeles:20220731T140000
DTSTAMP:20260423T163344
CREATED:20220729T190509Z
LAST-MODIFIED:20220731T191911Z
UID:1041-1659258000-1659276000@jacksonvillecottages.com
SUMMARY:Jville Market - Weekly Farmers Market
DESCRIPTION:Your friendly neighborhood market located on the lawn of the historic courthouse in Jacksonville.  Come on down and have some food and fun with your community!  Every Sunday from 9-2.
URL:https://jacksonvillecottages.com/event/jville-market-weekly-farmers-market/
LOCATION:Jacksonville City Hall\, 206 N 5th St\, Jacksonville\, OR 97530\, USA
END:VEVENT
BEGIN:VEVENT
DTSTART;TZID=America/Los_Angeles:20220731T110000
DTEND;TZID=America/Los_Angeles:20220731T150000
DTSTAMP:20260423T163344
CREATED:20220708T172631Z
LAST-MODIFIED:20220731T191911Z
UID:122-1659265200-1659279600@jacksonvillecottages.com
SUMMARY:Beekman Bank "Behind the Counter" Tours
DESCRIPTION:BeekmanBank “Behind the Counter” Tours –   Between 11am and 3pm on every weekend from May28th through September 4th\, a costumed docent invites you to step “Behind theCounter” of the 1863 Beekman Bank.  Begunin 1856 as a gold dust office\, it’s the oldest financial institution betweenSan Francisco and Portland.  Preserved asa museum since 1915\, it saw over $40 million in gold cross its counter duringJacksonville’s heyday in the late 1800s—worth over $1 billion today!  It’s suggested you allow 30 minutes to hearthe stories of 19th Century banking practices\, gold shipping\, andhandshake deals.  Tours are free—but donationsare strongly encouraged!  Information at https://www.historicjacksonville.org/behind-the-counter-tours/  \nHistoricJacksonville\, Inc. is a volunteer 501(c)(3) non-profit organization.  All net proceeds go towards preserving andmaintaining Jacksonville\, Oregon’s historic buildings.
URL:https://jacksonvillecottages.com/event/beekman-bank-behind-the-counter-tours-8/
LOCATION:Beekman Bank\, California Street\, Jacksonville\, Oregon
END:VEVENT
BEGIN:VEVENT
DTSTART;TZID=America/Los_Angeles:20220731T110000
DTEND;TZID=America/Los_Angeles:20220731T160000
DTSTAMP:20260423T163344
CREATED:20220708T172631Z
LAST-MODIFIED:20220731T191911Z
UID:123-1659265200-1659283200@jacksonvillecottages.com
SUMMARY:CANCELED DUE TO EXTREME HEAT- History Hoopla at Hanley
DESCRIPTION:Southern Oregon Historical Society Presents: History Hoopla at Hanley\nCelebrating the Heritage of the Rogue Valley\nNative American Lore\, Civil War Encampment\, Little Butte Mountain Men\, 1800s Fashions\, Music\, Wagon Rides\, Gold Panning\, and more!\nAdults $10\nAge 12 & Under $5\nFamily (5 or less) $25\nhoopla@sohs.org
URL:https://jacksonvillecottages.com/event/history-hoopla-at-hanley-2/
LOCATION:Hanley Farm\, 1053 Hanley Rd\, Central Point\, OR 97502\, USA
END:VEVENT
BEGIN:VEVENT
DTSTART;TZID=Etc/GMT:20220731T160000
DTEND;TZID=Etc/GMT:20220731T180000
DTSTAMP:20260423T163344
CREATED:20220722T153008Z
LAST-MODIFIED:20220722T153840Z
UID:854-1659283200-1659290400@jacksonvillecottages.com
SUMMARY:Rellik Winery: Live Music: Michael Quinn & Cherry Wine
DESCRIPTION:
URL:https://jacksonvillecottages.com/event/live-music-michael-quinn-cherry-wine/
CATEGORIES:General
ORGANIZER;CN="llower31":MAILTO:laurel@creativemdesign.com
END:VEVENT
BEGIN:VEVENT
DTSTART;TZID=UTC:20220731T170000
DTEND;TZID=UTC:20220731T190000
DTSTAMP:20260423T163344
CREATED:20220722T154206Z
LAST-MODIFIED:20220722T160509Z
UID:925-1659286800-1659294000@jacksonvillecottages.com
SUMMARY:Daisy Creek Winery:  Live Music: NICK & SHAE
DESCRIPTION:
URL:https://jacksonvillecottages.com/event/live-music-nick-shae/
END:VEVENT
END:VCALENDAR