BEGIN:VCALENDAR
VERSION:2.0
PRODID:-//Jacksonville Cottages - Nightly &amp; Monthly Rentals in Jacksonville, Oregon - ECPv6.15.20//NONSGML v1.0//EN
CALSCALE:GREGORIAN
METHOD:PUBLISH
X-WR-CALNAME:Jacksonville Cottages - Nightly &amp; Monthly Rentals in Jacksonville, Oregon
X-ORIGINAL-URL:https://jacksonvillecottages.com
X-WR-CALDESC:Events for Jacksonville Cottages - Nightly &amp; Monthly Rentals in Jacksonville, Oregon
REFRESH-INTERVAL;VALUE=DURATION:PT1H
X-Robots-Tag:noindex
X-PUBLISHED-TTL:PT1H
BEGIN:VTIMEZONE
TZID:America/Los_Angeles
BEGIN:DAYLIGHT
TZOFFSETFROM:-0800
TZOFFSETTO:-0700
TZNAME:PDT
DTSTART:20210314T100000
END:DAYLIGHT
BEGIN:STANDARD
TZOFFSETFROM:-0700
TZOFFSETTO:-0800
TZNAME:PST
DTSTART:20211107T090000
END:STANDARD
BEGIN:DAYLIGHT
TZOFFSETFROM:-0800
TZOFFSETTO:-0700
TZNAME:PDT
DTSTART:20220313T100000
END:DAYLIGHT
BEGIN:STANDARD
TZOFFSETFROM:-0700
TZOFFSETTO:-0800
TZNAME:PST
DTSTART:20221106T090000
END:STANDARD
BEGIN:DAYLIGHT
TZOFFSETFROM:-0800
TZOFFSETTO:-0700
TZNAME:PDT
DTSTART:20230312T100000
END:DAYLIGHT
BEGIN:STANDARD
TZOFFSETFROM:-0700
TZOFFSETTO:-0800
TZNAME:PST
DTSTART:20231105T090000
END:STANDARD
END:VTIMEZONE
BEGIN:VEVENT
DTSTART;TZID=America/Los_Angeles:20220808T100000
DTEND;TZID=America/Los_Angeles:20220808T150000
DTSTAMP:20260423T163330
CREATED:20220714T180842Z
LAST-MODIFIED:20220808T200855Z
UID:574-1659952800-1659970800@jacksonvillecottages.com
SUMMARY:Blood Drive Jacksonville Presbyterian Church
DESCRIPTION:American Red Cross Blood Drive\nJacksonville Presbyterian Church\n Rooms 104-105 Education Building \nMonday\, August 8\, 2022\n10:00 a.m. to 3:00 p.m.\nTo schedule your appointment or for more information\, contact American Red Cross at 1-800-RED-CROSS (1-800-733-2767) or www.redcrossblood.org and use sponsor code: Jacksonville. Per OHA\, as a health care operation\, masks are required.\nStreamline your donation experience and save up to 15 minutes by visiting RedCrossBlood.org/RapidPass to complete your pre-donation reading and health history questions on the day of your appointment.
URL:https://jacksonvillecottages.com/event/blood-drive-jacksonville-presbyterian-church/
LOCATION:Jacksonville Presbyterian Church\, 425 Middle St\, Jacksonville\, OR 97530\, USA
END:VEVENT
END:VCALENDAR