BEGIN:VCALENDAR
VERSION:2.0
PRODID:-//Jacksonville Cottages - Nightly &amp; Monthly Rentals in Jacksonville, Oregon - ECPv6.15.20//NONSGML v1.0//EN
CALSCALE:GREGORIAN
METHOD:PUBLISH
X-ORIGINAL-URL:https://jacksonvillecottages.com
X-WR-CALDESC:Events for Jacksonville Cottages - Nightly &amp; Monthly Rentals in Jacksonville, Oregon
REFRESH-INTERVAL;VALUE=DURATION:PT1H
X-Robots-Tag:noindex
X-PUBLISHED-TTL:PT1H
BEGIN:VTIMEZONE
TZID:America/Los_Angeles
BEGIN:DAYLIGHT
TZOFFSETFROM:-0800
TZOFFSETTO:-0700
TZNAME:PDT
DTSTART:20210314T100000
END:DAYLIGHT
BEGIN:STANDARD
TZOFFSETFROM:-0700
TZOFFSETTO:-0800
TZNAME:PST
DTSTART:20211107T090000
END:STANDARD
BEGIN:DAYLIGHT
TZOFFSETFROM:-0800
TZOFFSETTO:-0700
TZNAME:PDT
DTSTART:20220313T100000
END:DAYLIGHT
BEGIN:STANDARD
TZOFFSETFROM:-0700
TZOFFSETTO:-0800
TZNAME:PST
DTSTART:20221106T090000
END:STANDARD
BEGIN:DAYLIGHT
TZOFFSETFROM:-0800
TZOFFSETTO:-0700
TZNAME:PDT
DTSTART:20230312T100000
END:DAYLIGHT
BEGIN:STANDARD
TZOFFSETFROM:-0700
TZOFFSETTO:-0800
TZNAME:PST
DTSTART:20231105T090000
END:STANDARD
END:VTIMEZONE
BEGIN:VEVENT
DTSTART;TZID=America/Los_Angeles:20220811T100000
DTEND;TZID=America/Los_Angeles:20220811T110000
DTSTAMP:20260423T150746
CREATED:20220708T172632Z
LAST-MODIFIED:20220810T201910Z
UID:131-1660212000-1660215600@jacksonvillecottages.com
SUMMARY:Tai Chi with Carolyn
DESCRIPTION:This program is sponsored by the Jacksonville Commmunity Center(JCC). JCC is a charitable 501(c)(3) non-profit organization. \nIndoor Location: Great Room \nOutdoor Location: Parking lot near the Jacksonville Cemetery entrance; Enter on West D St. \nThursdays (11/4\, 11/11\, 11/18\, (11/25 OFF) 12/2\, 12/9\, 12/16)) \n10:00 am – 11:00 am   \n$5 Fee (scholarships available) \nRegistration is strongly recommended.  \nPlease pre-register for each class\, as the location will be communicated via email at least an hour before class starts. \n \nhttps://jacksonvillecommunitycenter.org/eventer/tai-chi-with-carolyn-2/  \n \nPlease arrive 5-10 minutes early to fill out the necessary paperwork. \n \nPlease be advised: If a class needs to be cancelled or changed in some way\, registrants will receive an email at least an hour before class. Please check your email prior to attending our classes. \n \nPractice Tai Chi and relax while you tone and gently exercise your body. Tai Chi incorporates balance\, breathing\, and slow movements of the entire body while relaxing your mind. Tai Chi will gradually improve your posture\, balance\, flexibility and sense of well being by the continued practice of this Chinese art form. \nNew students can begin the class anytime.  \n \nAbout Carolyn \nCarolyn Wolf is a retired educator\, transplanted from California. For the past 12 years she has been studying and practicing Tai Chi and Qigong with her Sifu\, Estin Kiger\, here in the Rogue Valley. She has a Practice Leader Certificate from the Institute of Integral Qigong and Tai Chi\, and has been leading practice groups for six years. The rest of her life is consumed by gardening\, hiking and exploring beautiful Southern Oregon\, and creating one of a kind scrap quilts and fiber art. \n \nParticipant Requirements 8.27.2021
URL:https://jacksonvillecottages.com/event/tai-chi-with-carolyn-5/
END:VEVENT
BEGIN:VEVENT
DTSTART;TZID=America/Los_Angeles:20220811T133000
DTEND;TZID=America/Los_Angeles:20220811T150000
DTSTAMP:20260423T150746
CREATED:20220712T175356Z
LAST-MODIFIED:20220809T201918Z
UID:566-1660224600-1660230000@jacksonvillecottages.com
SUMMARY:GR - Birds of a Feather! The Joy of Birds as Pets
DESCRIPTION:This program is sponsored by the Jacksonville Commmunity Center(JCC). JCC is a charitable 501(c)(3) non-profit organization. Visit https://jacksonvillecommunitycenter.org/events-classes/ for more information.  \nBirds are amazing animals; there is no doubl about that! We marvel at their beauty\, get impressed when they take a flight and even laugh at some of their various antics in the wild. But did you know that birds can also make great pets?  It’s true!  Join us to learn more about keeping birds as pets and see if you have what it takes to open your heart and your home to welcome some of these wonderful animals into your family.
URL:https://jacksonvillecottages.com/event/gr-birds-of-a-feather-the-joy-of-birds-as-pets/
END:VEVENT
BEGIN:VEVENT
DTSTART;TZID=America/Los_Angeles:20220811T160000
DTEND;TZID=America/Los_Angeles:20220811T200000
DTSTAMP:20260423T150746
CREATED:20220708T172632Z
LAST-MODIFIED:20220811T201910Z
UID:132-1660233600-1660248000@jacksonvillecottages.com
SUMMARY:“Summer Thursdays” at SOHS Hanley Farm
DESCRIPTION:Summer fun begins at Hanley Farm!  \nThursday\, June 2\, from 4-8pm\, is the first “Summer Thursday” at the Farm. Summer Thursdays continue weekly thereafter\, up to and including Thursday\, September 1. Every week\, bring a picnic\, relax and enjoy the summer evening. Then stroll about the grounds\, take self-guided garden tours\, and tour historic Hanley House. There is a modest fee for Hanley House tours. However\, admission\, barn tours and everything else is free! \nThere’s something new every Thursday—House tours weekly\, “Old Barn” tours on first Thursdays\, Wagon Rides on third Thursdays—plus\, every Thursday there will be children’s games. \nTour the Hanley home: costumed docents will guide you through the house and share the history of the family and their home. The Hanley’s purchased the farm in 1857 and lived in a log cabin until the first part of their home was built in the 1860s. In 1875\, when Michael Hanley was a successful businessman and rancher\, the front section was built\, completing their two-story home. You’ll also learn some of the farm’s history. Native people lived on this land for centuries before the Europeans arrived\, and archeological finds are common.  \nThe first Thursday of each month\, take a tour of the Farm’s “old barn\,” one of the oldest in Oregon that is still standing. The center portion was built in 1854 at the front of the farm\, by Hanley Road. In early 1900\, Alice Hanley had it moved to the back of the farm\, by Jackson Creek. Made of huge hand-hewn beams with pegs\, the barn was built as a stock and threshing barn. When the original second-story hayloft and center threshing floor were removed\, a hayfork system was installed. Wagons were driven into the barn\, and grains\, still on their stalks\, were spread on the floor. The heads were knocked from the stalks by beating with a flail. Bill Hanley\, in his biography “Feelin’ Fine\,” remembers doing this when he was a boy.
URL:https://jacksonvillecottages.com/event/summer-thursdays-at-sohs-hanley-farm-5/
LOCATION:Hanley Farm\, 1053 Hanley Rd\, Central Point\, OR 97502\, USA
END:VEVENT
BEGIN:VEVENT
DTSTART;TZID=America/Los_Angeles:20220811T180000
DTEND;TZID=America/Los_Angeles:20220811T200000
DTSTAMP:20260423T150746
CREATED:20220708T172632Z
LAST-MODIFIED:20220811T201910Z
UID:133-1660240800-1660248000@jacksonvillecottages.com
SUMMARY:Rock the River at Red Lily Vineyards
DESCRIPTION:ROCK the RIVER with us this Summer!   \n \nJoin us EVERY Thursday night\, from 6-8 for AMAZING local bands\, food trucks\, and Red Lily wines! \n(No Cover/No Outside Alcohol)  \nJune 09 Redwood Empire \nJune 16 Sterling Vintage Jazz \nJune 23 Saucy \nJune 30 Shine On \nJuly 07 Blue Lightning \nJuly 14 Sasha Rose \nJuly 21 An Evening with Les Stroud \nJuly 28 Rogue Suspects \nAug 04 Adam Gabriel and the Cavaliers \nAug 11 Mercy featuring Lynda Day \nAug 18 TC and The Reactions \nAug 25 Danielle Kelly Soul Project \nSept 01 Alquimistas \n redlilyvineyards.com \n  \n 
URL:https://jacksonvillecottages.com/event/rock-the-river-at-red-lily-vineyards-5/
LOCATION:Red Lily Vineyards\, 11777 OR-238\, Jacksonville\, OR 97530\, USA
END:VEVENT
END:VCALENDAR