BEGIN:VCALENDAR
VERSION:2.0
PRODID:-//Jacksonville Cottages - Nightly &amp; Monthly Rentals in Jacksonville, Oregon - ECPv6.15.20//NONSGML v1.0//EN
CALSCALE:GREGORIAN
METHOD:PUBLISH
X-WR-CALNAME:Jacksonville Cottages - Nightly &amp; Monthly Rentals in Jacksonville, Oregon
X-ORIGINAL-URL:https://jacksonvillecottages.com
X-WR-CALDESC:Events for Jacksonville Cottages - Nightly &amp; Monthly Rentals in Jacksonville, Oregon
REFRESH-INTERVAL;VALUE=DURATION:PT1H
X-Robots-Tag:noindex
X-PUBLISHED-TTL:PT1H
BEGIN:VTIMEZONE
TZID:America/Los_Angeles
BEGIN:DAYLIGHT
TZOFFSETFROM:-0800
TZOFFSETTO:-0700
TZNAME:PDT
DTSTART:20210314T100000
END:DAYLIGHT
BEGIN:STANDARD
TZOFFSETFROM:-0700
TZOFFSETTO:-0800
TZNAME:PST
DTSTART:20211107T090000
END:STANDARD
BEGIN:DAYLIGHT
TZOFFSETFROM:-0800
TZOFFSETTO:-0700
TZNAME:PDT
DTSTART:20220313T100000
END:DAYLIGHT
BEGIN:STANDARD
TZOFFSETFROM:-0700
TZOFFSETTO:-0800
TZNAME:PST
DTSTART:20221106T090000
END:STANDARD
BEGIN:DAYLIGHT
TZOFFSETFROM:-0800
TZOFFSETTO:-0700
TZNAME:PDT
DTSTART:20230312T100000
END:DAYLIGHT
BEGIN:STANDARD
TZOFFSETFROM:-0700
TZOFFSETTO:-0800
TZNAME:PST
DTSTART:20231105T090000
END:STANDARD
END:VTIMEZONE
BEGIN:VEVENT
DTSTART;TZID=America/Los_Angeles:20220816T120000
DTEND;TZID=America/Los_Angeles:20220816T140000
DTSTAMP:20260423T163347
CREATED:20220719T182231Z
LAST-MODIFIED:20220815T210437Z
UID:588-1660651200-1660658400@jacksonvillecottages.com
SUMMARY:City Council Work Session
DESCRIPTION:All meeting held at New City Hall Assembly Room (NCHAR) CITIZEN ADVISORY COMMITTEE:  Tuesday\, August 2\, 2:30pmCITY COUNCIL: Tuesday\, August 2\, 6:00pmPLANNING COMMISSION: Wednesday\, August 10\, 6:00pmCITY COUNCIL WORK SESSION: Tuesday\, August 16\, noon CITIZEN ADVISORY COMMITTEE: Tuesday\, August 16\, 2:30pmHARC: Wednesday\, August 24\, 5:00pmCITIZEN ADVISORY COMMITTEE: Tuesday\, August 30\, 2:30pm
URL:https://jacksonvillecottages.com/event/city-council-work-session-2/
LOCATION:Jacksonville City Hall\, 206 N 5th St\, Jacksonville\, OR 97530\, USA
END:VEVENT
BEGIN:VEVENT
DTSTART;TZID=America/Los_Angeles:20220816T133000
DTEND;TZID=America/Los_Angeles:20220816T150000
DTSTAMP:20260423T163347
CREATED:20220708T172632Z
LAST-MODIFIED:20220816T211105Z
UID:140-1660656600-1660662000@jacksonvillecottages.com
SUMMARY:CT- Lets Create!
DESCRIPTION:JCC Cottage \n1st and 3rd Tuesdays \nTuesday\, October 5th and 19th \n1:30 pm- 3:00 pm \nDonations appreciated.  \nNo registration required.  \n\nDescription:  \nBring a project from home (knitting\, crocheting\, wreath making\, etc)  to work on while chatting \nwith neighbors\, learning new skills\, and making new friends! \n  \nParticipant Requirements 8.27.2021
URL:https://jacksonvillecottages.com/event/ct-lets-create-3/
END:VEVENT
BEGIN:VEVENT
DTSTART;TZID=America/Los_Angeles:20220816T143000
DTEND;TZID=America/Los_Angeles:20220816T173000
DTSTAMP:20260423T163347
CREATED:20220719T182231Z
LAST-MODIFIED:20220816T211105Z
UID:589-1660660200-1660671000@jacksonvillecottages.com
SUMMARY:Citizens Advisory Committee
DESCRIPTION:All meeting held at New City Hall Assembly Room (NCHAR) CITIZEN ADVISORY COMMITTEE:  Tuesday\, August 2\, 2:30pmCITY COUNCIL: Tuesday\, August 2\, 6:00pmPLANNING COMMISSION: Wednesday\, August 10\, 6:00pmCITY COUNCIL WORK SESSION: Tuesday\, August 16\, noon CITIZEN ADVISORY COMMITTEE: Tuesday\, August 16\, 2:30pmHARC: Wednesday\, August 24\, 5:00pmCITIZEN ADVISORY COMMITTEE: Tuesday\, August 30\, 2:30pm
URL:https://jacksonvillecottages.com/event/citizens-advisory-committee-3/
LOCATION:Jacksonville City Hall\, 206 N 5th St\, Jacksonville\, OR 97530\, USA
END:VEVENT
END:VCALENDAR