BEGIN:VCALENDAR
VERSION:2.0
PRODID:-//Jacksonville Cottages - Nightly &amp; Monthly Rentals in Jacksonville, Oregon - ECPv6.15.20//NONSGML v1.0//EN
CALSCALE:GREGORIAN
METHOD:PUBLISH
X-ORIGINAL-URL:https://jacksonvillecottages.com
X-WR-CALDESC:Events for Jacksonville Cottages - Nightly &amp; Monthly Rentals in Jacksonville, Oregon
REFRESH-INTERVAL;VALUE=DURATION:PT1H
X-Robots-Tag:noindex
X-PUBLISHED-TTL:PT1H
BEGIN:VTIMEZONE
TZID:America/Los_Angeles
BEGIN:DAYLIGHT
TZOFFSETFROM:-0800
TZOFFSETTO:-0700
TZNAME:PDT
DTSTART:20210314T100000
END:DAYLIGHT
BEGIN:STANDARD
TZOFFSETFROM:-0700
TZOFFSETTO:-0800
TZNAME:PST
DTSTART:20211107T090000
END:STANDARD
BEGIN:DAYLIGHT
TZOFFSETFROM:-0800
TZOFFSETTO:-0700
TZNAME:PDT
DTSTART:20220313T100000
END:DAYLIGHT
BEGIN:STANDARD
TZOFFSETFROM:-0700
TZOFFSETTO:-0800
TZNAME:PST
DTSTART:20221106T090000
END:STANDARD
BEGIN:DAYLIGHT
TZOFFSETFROM:-0800
TZOFFSETTO:-0700
TZNAME:PDT
DTSTART:20230312T100000
END:DAYLIGHT
BEGIN:STANDARD
TZOFFSETFROM:-0700
TZOFFSETTO:-0800
TZNAME:PST
DTSTART:20231105T090000
END:STANDARD
END:VTIMEZONE
BEGIN:VTIMEZONE
TZID:UTC
BEGIN:STANDARD
TZOFFSETFROM:+0000
TZOFFSETTO:+0000
TZNAME:UTC
DTSTART:20210101T000000
END:STANDARD
END:VTIMEZONE
BEGIN:VEVENT
DTSTART;VALUE=DATE:20220817
DTEND;VALUE=DATE:20220822
DTSTAMP:20260423T150918
CREATED:20220708T172633Z
LAST-MODIFIED:20220821T213705Z
UID:148-1660694400-1661126399@jacksonvillecottages.com
SUMMARY:Oregon Wine Experience
DESCRIPTION:OWE is a multi-day event that will be held just outside of Jacksonville at Stage Pass\, August 17-21\, 2022.  This distinct experience celebrates the state’s unrivaled wines\, paired with mouthwatering culinary creations unique to only Oregon.  This annual event boasts the full breadth and depth of Oregon’s vast varietal selections.  Since 2014\, OWE has raised over $8.2 million for Asante health care programs.  Please visit www.theoregonwineexperience.com
URL:https://jacksonvillecottages.com/event/oregon-wine-experience/
LOCATION:The Vineyards At Stage Pass\, 4735 S Stage Rd\, Medford\, OR 97501\, USA
END:VEVENT
BEGIN:VEVENT
DTSTART;TZID=America/Los_Angeles:20220821T090000
DTEND;TZID=America/Los_Angeles:20220821T140000
DTSTAMP:20260423T150918
CREATED:20220729T190512Z
LAST-MODIFIED:20220820T213411Z
UID:1053-1661072400-1661090400@jacksonvillecottages.com
SUMMARY:Jville Market - Weekly Farmers Market
DESCRIPTION:Your friendly neighborhood market located on the lawn of the historic courthouse in Jacksonville.  Come on down and have some food and fun with your community!  Every Sunday from 9-2.
URL:https://jacksonvillecottages.com/event/jville-market-weekly-farmers-market-4/
LOCATION:Jacksonville City Hall\, 206 N 5th St\, Jacksonville\, OR 97530\, USA
END:VEVENT
BEGIN:VEVENT
DTSTART;TZID=America/Los_Angeles:20220821T110000
DTEND;TZID=America/Los_Angeles:20220821T150000
DTSTAMP:20260423T150918
CREATED:20220708T172633Z
LAST-MODIFIED:20220821T213705Z
UID:146-1661079600-1661094000@jacksonvillecottages.com
SUMMARY:Beekman Bank "Behind the Counter" Tours
DESCRIPTION:BeekmanBank “Behind the Counter” Tours –   Between 11am and 3pm on every weekend from May28th through September 4th\, a costumed docent invites you to step “Behind theCounter” of the 1863 Beekman Bank.  Begunin 1856 as a gold dust office\, it’s the oldest financial institution betweenSan Francisco and Portland.  Preserved asa museum since 1915\, it saw over $40 million in gold cross its counter duringJacksonville’s heyday in the late 1800s—worth over $1 billion today!  It’s suggested you allow 30 minutes to hearthe stories of 19th Century banking practices\, gold shipping\, andhandshake deals.  Tours are free—but donationsare strongly encouraged!  Information at https://www.historicjacksonville.org/behind-the-counter-tours/  \nHistoricJacksonville\, Inc. is a volunteer 501(c)(3) non-profit organization.  All net proceeds go towards preserving andmaintaining Jacksonville\, Oregon’s historic buildings.
URL:https://jacksonvillecottages.com/event/beekman-bank-behind-the-counter-tours-14/
LOCATION:Beekman Bank\, California Street\, Jacksonville\, Oregon
END:VEVENT
BEGIN:VEVENT
DTSTART;TZID=UTC:20220821T170000
DTEND;TZID=UTC:20220821T190000
DTSTAMP:20260423T150918
CREATED:20220722T154207Z
LAST-MODIFIED:20220722T160607Z
UID:935-1661101200-1661108400@jacksonvillecottages.com
SUMMARY:Daisy Creek Winery:  Live Music: J BROTHERS
DESCRIPTION:
URL:https://jacksonvillecottages.com/event/live-music-j-brothers/
END:VEVENT
END:VCALENDAR