BEGIN:VCALENDAR
VERSION:2.0
PRODID:-//Jacksonville Cottages - Nightly &amp; Monthly Rentals in Jacksonville, Oregon - ECPv6.15.20//NONSGML v1.0//EN
CALSCALE:GREGORIAN
METHOD:PUBLISH
X-WR-CALNAME:Jacksonville Cottages - Nightly &amp; Monthly Rentals in Jacksonville, Oregon
X-ORIGINAL-URL:https://jacksonvillecottages.com
X-WR-CALDESC:Events for Jacksonville Cottages - Nightly &amp; Monthly Rentals in Jacksonville, Oregon
REFRESH-INTERVAL;VALUE=DURATION:PT1H
X-Robots-Tag:noindex
X-PUBLISHED-TTL:PT1H
BEGIN:VTIMEZONE
TZID:America/Los_Angeles
BEGIN:DAYLIGHT
TZOFFSETFROM:-0800
TZOFFSETTO:-0700
TZNAME:PDT
DTSTART:20210314T100000
END:DAYLIGHT
BEGIN:STANDARD
TZOFFSETFROM:-0700
TZOFFSETTO:-0800
TZNAME:PST
DTSTART:20211107T090000
END:STANDARD
BEGIN:DAYLIGHT
TZOFFSETFROM:-0800
TZOFFSETTO:-0700
TZNAME:PDT
DTSTART:20220313T100000
END:DAYLIGHT
BEGIN:STANDARD
TZOFFSETFROM:-0700
TZOFFSETTO:-0800
TZNAME:PST
DTSTART:20221106T090000
END:STANDARD
BEGIN:DAYLIGHT
TZOFFSETFROM:-0800
TZOFFSETTO:-0700
TZNAME:PDT
DTSTART:20230312T100000
END:DAYLIGHT
BEGIN:STANDARD
TZOFFSETFROM:-0700
TZOFFSETTO:-0800
TZNAME:PST
DTSTART:20231105T090000
END:STANDARD
END:VTIMEZONE
BEGIN:VEVENT
DTSTART;TZID=America/Los_Angeles:20220824T170000
DTEND;TZID=America/Los_Angeles:20220824T200000
DTSTAMP:20260423T163349
CREATED:20220719T182232Z
LAST-MODIFIED:20220824T220758Z
UID:590-1661360400-1661371200@jacksonvillecottages.com
SUMMARY:HARC Meeting
DESCRIPTION:All meeting held at New City Hall Assembly Room (NCHAR) CITIZEN ADVISORY COMMITTEE:  Tuesday\, August 2\, 2:30pmCITY COUNCIL: Tuesday\, August 2\, 6:00pmPLANNING COMMISSION: Wednesday\, August 10\, 6:00pmCITY COUNCIL WORK SESSION: Tuesday\, August 16\, noon CITIZEN ADVISORY COMMITTEE: Tuesday\, August 16\, 2:30pmHARC: Wednesday\, August 24\, 5:00pmCITIZEN ADVISORY COMMITTEE: Tuesday\, August 30\, 2:30pm
URL:https://jacksonvillecottages.com/event/harc-meeting-2/
LOCATION:Jacksonville City Hall\, 206 N 5th St\, Jacksonville\, OR 97530\, USA
END:VEVENT
BEGIN:VEVENT
DTSTART;TZID=America/Los_Angeles:20220824T180000
DTEND;TZID=America/Los_Angeles:20220824T200000
DTSTAMP:20260423T163349
CREATED:20220722T150504Z
LAST-MODIFIED:20220722T160604Z
UID:625-1661364000-1661371200@jacksonvillecottages.com
SUMMARY:South Stage Cellars: Dinner & Live Music W/ Jeff Kloetzel $15
DESCRIPTION:
URL:https://jacksonvillecottages.com/event/dinner-live-music-w-jeff-kloetzel-15/
END:VEVENT
END:VCALENDAR