BEGIN:VCALENDAR
VERSION:2.0
PRODID:-//Jacksonville Cottages - Nightly &amp; Monthly Rentals in Jacksonville, Oregon - ECPv6.15.20//NONSGML v1.0//EN
CALSCALE:GREGORIAN
METHOD:PUBLISH
X-WR-CALNAME:Jacksonville Cottages - Nightly &amp; Monthly Rentals in Jacksonville, Oregon
X-ORIGINAL-URL:https://jacksonvillecottages.com
X-WR-CALDESC:Events for Jacksonville Cottages - Nightly &amp; Monthly Rentals in Jacksonville, Oregon
REFRESH-INTERVAL;VALUE=DURATION:PT1H
X-Robots-Tag:noindex
X-PUBLISHED-TTL:PT1H
BEGIN:VTIMEZONE
TZID:America/Los_Angeles
BEGIN:DAYLIGHT
TZOFFSETFROM:-0800
TZOFFSETTO:-0700
TZNAME:PDT
DTSTART:20210314T100000
END:DAYLIGHT
BEGIN:STANDARD
TZOFFSETFROM:-0700
TZOFFSETTO:-0800
TZNAME:PST
DTSTART:20211107T090000
END:STANDARD
BEGIN:DAYLIGHT
TZOFFSETFROM:-0800
TZOFFSETTO:-0700
TZNAME:PDT
DTSTART:20220313T100000
END:DAYLIGHT
BEGIN:STANDARD
TZOFFSETFROM:-0700
TZOFFSETTO:-0800
TZNAME:PST
DTSTART:20221106T090000
END:STANDARD
BEGIN:DAYLIGHT
TZOFFSETFROM:-0800
TZOFFSETTO:-0700
TZNAME:PDT
DTSTART:20230312T100000
END:DAYLIGHT
BEGIN:STANDARD
TZOFFSETFROM:-0700
TZOFFSETTO:-0800
TZNAME:PST
DTSTART:20231105T090000
END:STANDARD
END:VTIMEZONE
BEGIN:VTIMEZONE
TZID:UTC
BEGIN:STANDARD
TZOFFSETFROM:+0000
TZOFFSETTO:+0000
TZNAME:UTC
DTSTART:20210101T000000
END:STANDARD
END:VTIMEZONE
BEGIN:VEVENT
DTSTART;TZID=America/Los_Angeles:20220827T100000
DTEND;TZID=America/Los_Angeles:20220827T110000
DTSTAMP:20260423T163358
CREATED:20220708T172634Z
LAST-MODIFIED:20220826T220426Z
UID:153-1661594400-1661598000@jacksonvillecottages.com
SUMMARY:Jacksonville "Walk Through History" Walking Tour
DESCRIPTION:Walkthrough History – These 1-hour walking tours will be offered everySaturday from May 28th through September 3rd.  Tours begin at 10am andleave from Jacksonville’s New City Hall (the historic 1883 Jackson CountyCourthouse) on North 5th Street. Participantsvisit the sites and hear the stories of the people who transformed a gold rushtown into Southern Oregon’s 19th Century governmental\, social\, andcommercial hub.  Tours are free—but donationsare strongly encouraged!  Information at https://www.historicjacksonville.org/walk-through-history/ \n \n \nHistoricJacksonville\, Inc. is a volunteer 501(c)(3) non-profit organization.  All net proceeds go towards preserving andmaintaining Jacksonville\, Oregon’s historic buildings.
URL:https://jacksonvillecottages.com/event/jacksonville-walk-through-history-walking-tour-8/
LOCATION:Jacksonville City Hall\, 206 N 5th St\, Jacksonville\, OR 97530\, USA
END:VEVENT
BEGIN:VEVENT
DTSTART;TZID=America/Los_Angeles:20220827T110000
DTEND;TZID=America/Los_Angeles:20220827T140000
DTSTAMP:20260423T163358
CREATED:20220729T190512Z
LAST-MODIFIED:20220826T220425Z
UID:1055-1661598000-1661608800@jacksonvillecottages.com
SUMMARY:Pioneer Village End of Summer Bash
DESCRIPTION:Car show\, prizes\, live music\, hot dogs\, lemonade stand\, kona hawaiin shaved ice truck  \nRSVP to Joni Shale jshale@pioneervillageoregon.com\n541-702-1112 \nwww.pioneervillageoregon.com
URL:https://jacksonvillecottages.com/event/pioneer-village-end-of-summer-bash/
LOCATION:Pioneer Village\, 805 N 5th St\, Jacksonville\, OR 97530\, USA
END:VEVENT
BEGIN:VEVENT
DTSTART;TZID=America/Los_Angeles:20220827T110000
DTEND;TZID=America/Los_Angeles:20220827T150000
DTSTAMP:20260423T163358
CREATED:20220708T172634Z
LAST-MODIFIED:20220826T220426Z
UID:152-1661598000-1661612400@jacksonvillecottages.com
SUMMARY:Beekman Bank "Behind the Counter" Tours
DESCRIPTION:BeekmanBank “Behind the Counter” Tours –   Between 11am and 3pm on every weekend from May28th through September 4th\, a costumed docent invites you to step “Behind theCounter” of the 1863 Beekman Bank.  Begunin 1856 as a gold dust office\, it’s the oldest financial institution betweenSan Francisco and Portland.  Preserved asa museum since 1915\, it saw over $40 million in gold cross its counter duringJacksonville’s heyday in the late 1800s—worth over $1 billion today!  It’s suggested you allow 30 minutes to hearthe stories of 19th Century banking practices\, gold shipping\, andhandshake deals.  Tours are free—but donationsare strongly encouraged!  Information at https://www.historicjacksonville.org/behind-the-counter-tours/  \nHistoricJacksonville\, Inc. is a volunteer 501(c)(3) non-profit organization.  All net proceeds go towards preserving andmaintaining Jacksonville\, Oregon’s historic buildings.
URL:https://jacksonvillecottages.com/event/beekman-bank-behind-the-counter-tours-15/
LOCATION:Beekman Bank\, California Street\, Jacksonville\, Oregon
END:VEVENT
BEGIN:VEVENT
DTSTART;TZID=UTC:20220827T170000
DTEND;TZID=UTC:20220827T190000
DTSTAMP:20260423T163358
CREATED:20220722T154207Z
LAST-MODIFIED:20220722T160552Z
UID:939-1661619600-1661626800@jacksonvillecottages.com
SUMMARY:Daisy Creek Winery:  Live Music: SHYBO DUO
DESCRIPTION:
URL:https://jacksonvillecottages.com/event/live-music-shybo-duo-2/
END:VEVENT
END:VCALENDAR