BEGIN:VCALENDAR
VERSION:2.0
PRODID:-//Jacksonville Cottages - Nightly &amp; Monthly Rentals in Jacksonville, Oregon - ECPv6.15.20//NONSGML v1.0//EN
CALSCALE:GREGORIAN
METHOD:PUBLISH
X-ORIGINAL-URL:https://jacksonvillecottages.com
X-WR-CALDESC:Events for Jacksonville Cottages - Nightly &amp; Monthly Rentals in Jacksonville, Oregon
REFRESH-INTERVAL;VALUE=DURATION:PT1H
X-Robots-Tag:noindex
X-PUBLISHED-TTL:PT1H
BEGIN:VTIMEZONE
TZID:America/Los_Angeles
BEGIN:DAYLIGHT
TZOFFSETFROM:-0800
TZOFFSETTO:-0700
TZNAME:PDT
DTSTART:20210314T100000
END:DAYLIGHT
BEGIN:STANDARD
TZOFFSETFROM:-0700
TZOFFSETTO:-0800
TZNAME:PST
DTSTART:20211107T090000
END:STANDARD
BEGIN:DAYLIGHT
TZOFFSETFROM:-0800
TZOFFSETTO:-0700
TZNAME:PDT
DTSTART:20220313T100000
END:DAYLIGHT
BEGIN:STANDARD
TZOFFSETFROM:-0700
TZOFFSETTO:-0800
TZNAME:PST
DTSTART:20221106T090000
END:STANDARD
BEGIN:DAYLIGHT
TZOFFSETFROM:-0800
TZOFFSETTO:-0700
TZNAME:PDT
DTSTART:20230312T100000
END:DAYLIGHT
BEGIN:STANDARD
TZOFFSETFROM:-0700
TZOFFSETTO:-0800
TZNAME:PST
DTSTART:20231105T090000
END:STANDARD
END:VTIMEZONE
BEGIN:VEVENT
DTSTART;TZID=America/Los_Angeles:20220831T180000
DTEND;TZID=America/Los_Angeles:20220831T200000
DTSTAMP:20260423T123108
CREATED:20220722T150501Z
LAST-MODIFIED:20220722T160545Z
UID:615-1661968800-1661976000@jacksonvillecottages.com
SUMMARY:South Stage Cellars: Dinner & Live Music W/ Jared Gutridge $15
DESCRIPTION:
URL:https://jacksonvillecottages.com/event/dinner-live-music-w-jared-gutridge-15/
END:VEVENT
END:VCALENDAR