BEGIN:VCALENDAR
VERSION:2.0
PRODID:-//Jacksonville Cottages - Nightly &amp; Monthly Rentals in Jacksonville, Oregon - ECPv6.15.20//NONSGML v1.0//EN
CALSCALE:GREGORIAN
METHOD:PUBLISH
X-ORIGINAL-URL:https://jacksonvillecottages.com
X-WR-CALDESC:Events for Jacksonville Cottages - Nightly &amp; Monthly Rentals in Jacksonville, Oregon
REFRESH-INTERVAL;VALUE=DURATION:PT1H
X-Robots-Tag:noindex
X-PUBLISHED-TTL:PT1H
BEGIN:VTIMEZONE
TZID:UTC
BEGIN:STANDARD
TZOFFSETFROM:+0000
TZOFFSETTO:+0000
TZNAME:UTC
DTSTART:20210101T000000
END:STANDARD
END:VTIMEZONE
BEGIN:VEVENT
DTSTART;TZID=UTC:20220902T170000
DTEND;TZID=UTC:20220902T190000
DTSTAMP:20260423T123107
CREATED:20220722T154207Z
LAST-MODIFIED:20220722T160648Z
UID:945-1662138000-1662145200@jacksonvillecottages.com
SUMMARY:Daisy Creek Winery:  Live Music: DAYTON MASON
DESCRIPTION:
URL:https://jacksonvillecottages.com/event/live-music-dayton-mason/
END:VEVENT
END:VCALENDAR