BEGIN:VCALENDAR
VERSION:2.0
PRODID:-//Jacksonville Cottages - Nightly &amp; Monthly Rentals in Jacksonville, Oregon - ECPv6.15.20//NONSGML v1.0//EN
CALSCALE:GREGORIAN
METHOD:PUBLISH
X-WR-CALNAME:Jacksonville Cottages - Nightly &amp; Monthly Rentals in Jacksonville, Oregon
X-ORIGINAL-URL:https://jacksonvillecottages.com
X-WR-CALDESC:Events for Jacksonville Cottages - Nightly &amp; Monthly Rentals in Jacksonville, Oregon
REFRESH-INTERVAL;VALUE=DURATION:PT1H
X-Robots-Tag:noindex
X-PUBLISHED-TTL:PT1H
BEGIN:VTIMEZONE
TZID:America/Los_Angeles
BEGIN:DAYLIGHT
TZOFFSETFROM:-0800
TZOFFSETTO:-0700
TZNAME:PDT
DTSTART:20210314T100000
END:DAYLIGHT
BEGIN:STANDARD
TZOFFSETFROM:-0700
TZOFFSETTO:-0800
TZNAME:PST
DTSTART:20211107T090000
END:STANDARD
BEGIN:DAYLIGHT
TZOFFSETFROM:-0800
TZOFFSETTO:-0700
TZNAME:PDT
DTSTART:20220313T100000
END:DAYLIGHT
BEGIN:STANDARD
TZOFFSETFROM:-0700
TZOFFSETTO:-0800
TZNAME:PST
DTSTART:20221106T090000
END:STANDARD
BEGIN:DAYLIGHT
TZOFFSETFROM:-0800
TZOFFSETTO:-0700
TZNAME:PDT
DTSTART:20230312T100000
END:DAYLIGHT
BEGIN:STANDARD
TZOFFSETFROM:-0700
TZOFFSETTO:-0800
TZNAME:PST
DTSTART:20231105T090000
END:STANDARD
END:VTIMEZONE
BEGIN:VTIMEZONE
TZID:UTC
BEGIN:STANDARD
TZOFFSETFROM:+0000
TZOFFSETTO:+0000
TZNAME:UTC
DTSTART:20210101T000000
END:STANDARD
END:VTIMEZONE
BEGIN:VEVENT
DTSTART;TZID=America/Los_Angeles:20220904T090000
DTEND;TZID=America/Los_Angeles:20220904T140000
DTSTAMP:20260423T122812
CREATED:20220729T190513Z
LAST-MODIFIED:20220903T224910Z
UID:1058-1662282000-1662300000@jacksonvillecottages.com
SUMMARY:Jville Market - Weekly Farmers Market
DESCRIPTION:Your friendly neighborhood market located on the lawn of the historic courthouse in Jacksonville.  Come on down and have some food and fun with your community!  Every Sunday from 9-2.
URL:https://jacksonvillecottages.com/event/jville-market-weekly-farmers-market-6/
LOCATION:Jacksonville City Hall\, 206 N 5th St\, Jacksonville\, OR 97530\, USA
END:VEVENT
BEGIN:VEVENT
DTSTART;TZID=America/Los_Angeles:20220904T110000
DTEND;TZID=America/Los_Angeles:20220904T150000
DTSTAMP:20260423T122812
CREATED:20220708T172634Z
LAST-MODIFIED:20220903T224910Z
UID:160-1662289200-1662303600@jacksonvillecottages.com
SUMMARY:Beekman Bank "Behind the Counter" Tours
DESCRIPTION:BeekmanBank “Behind the Counter” Tours –   Between 11am and 3pm on every weekend from May28th through September 4th\, a costumed docent invites you to step “Behind theCounter” of the 1863 Beekman Bank.  Begunin 1856 as a gold dust office\, it’s the oldest financial institution betweenSan Francisco and Portland.  Preserved asa museum since 1915\, it saw over $40 million in gold cross its counter duringJacksonville’s heyday in the late 1800s—worth over $1 billion today!  It’s suggested you allow 30 minutes to hearthe stories of 19th Century banking practices\, gold shipping\, andhandshake deals.  Tours are free—but donationsare strongly encouraged!  Information at https://www.historicjacksonville.org/behind-the-counter-tours/  \nHistoricJacksonville\, Inc. is a volunteer 501(c)(3) non-profit organization.  All net proceeds go towards preserving andmaintaining Jacksonville\, Oregon’s historic buildings.
URL:https://jacksonvillecottages.com/event/beekman-bank-behind-the-counter-tours-18/
LOCATION:Beekman Bank\, California Street\, Jacksonville\, Oregon
END:VEVENT
BEGIN:VEVENT
DTSTART;TZID=UTC:20220904T133000
DTEND;TZID=UTC:20220904T163000
DTSTAMP:20260423T122812
CREATED:20220722T154207Z
LAST-MODIFIED:20220722T154207Z
UID:950-1662298200-1662309000@jacksonvillecottages.com
SUMMARY:Live Music: MARSHALL THOMPSON
DESCRIPTION:
URL:https://jacksonvillecottages.com/event/live-music-marshall-thompson-2/
END:VEVENT
END:VCALENDAR