BEGIN:VCALENDAR
VERSION:2.0
PRODID:-//Jacksonville Cottages - Nightly &amp; Monthly Rentals in Jacksonville, Oregon - ECPv6.15.20//NONSGML v1.0//EN
CALSCALE:GREGORIAN
METHOD:PUBLISH
X-WR-CALNAME:Jacksonville Cottages - Nightly &amp; Monthly Rentals in Jacksonville, Oregon
X-ORIGINAL-URL:https://jacksonvillecottages.com
X-WR-CALDESC:Events for Jacksonville Cottages - Nightly &amp; Monthly Rentals in Jacksonville, Oregon
REFRESH-INTERVAL;VALUE=DURATION:PT1H
X-Robots-Tag:noindex
X-PUBLISHED-TTL:PT1H
BEGIN:VTIMEZONE
TZID:America/Los_Angeles
BEGIN:DAYLIGHT
TZOFFSETFROM:-0800
TZOFFSETTO:-0700
TZNAME:PDT
DTSTART:20210314T100000
END:DAYLIGHT
BEGIN:STANDARD
TZOFFSETFROM:-0700
TZOFFSETTO:-0800
TZNAME:PST
DTSTART:20211107T090000
END:STANDARD
BEGIN:DAYLIGHT
TZOFFSETFROM:-0800
TZOFFSETTO:-0700
TZNAME:PDT
DTSTART:20220313T100000
END:DAYLIGHT
BEGIN:STANDARD
TZOFFSETFROM:-0700
TZOFFSETTO:-0800
TZNAME:PST
DTSTART:20221106T090000
END:STANDARD
BEGIN:DAYLIGHT
TZOFFSETFROM:-0800
TZOFFSETTO:-0700
TZNAME:PDT
DTSTART:20230312T100000
END:DAYLIGHT
BEGIN:STANDARD
TZOFFSETFROM:-0700
TZOFFSETTO:-0800
TZNAME:PST
DTSTART:20231105T090000
END:STANDARD
END:VTIMEZONE
BEGIN:VTIMEZONE
TZID:UTC
BEGIN:STANDARD
TZOFFSETFROM:+0000
TZOFFSETTO:+0000
TZNAME:UTC
DTSTART:20210101T000000
END:STANDARD
END:VTIMEZONE
BEGIN:VEVENT
DTSTART;VALUE=DATE:20220909
DTEND;VALUE=DATE:20220910
DTSTAMP:20260423T122822
CREATED:20220729T190513Z
LAST-MODIFIED:20220909T232637Z
UID:1061-1662681600-1662767999@jacksonvillecottages.com
SUMMARY:BASO Builders Golf Rodeo
DESCRIPTION:Hosted by BASO – www.buildso.com \nTo sign-up a team or become a sponsor\, please call 541-773-2872
URL:https://jacksonvillecottages.com/event/baso-builders-golf-rodeo/
LOCATION:Eagle Point Golf Club\, 100 Eagle Point Dr\, Eagle Point\, OR 97524\, USA
END:VEVENT
BEGIN:VEVENT
DTSTART;VALUE=DATE:20220909
DTEND;VALUE=DATE:20220912
DTSTAMP:20260423T122822
CREATED:20220901T223922Z
LAST-MODIFIED:20220911T233719Z
UID:1251-1662681600-1662940799@jacksonvillecottages.com
SUMMARY:Jacksonville Citywide Yard Sale
DESCRIPTION:Friday-Sunday\, September 9-11\, Jacksonville Citywide Yard Sale.
URL:https://jacksonvillecottages.com/event/jacksonville-citywide-yard-sale/
END:VEVENT
BEGIN:VEVENT
DTSTART;TZID=America/Los_Angeles:20220909T150000
DTEND;TZID=America/Los_Angeles:20220909T190000
DTSTAMP:20260423T122822
CREATED:20220901T223922Z
LAST-MODIFIED:20220909T232637Z
UID:1249-1662735600-1662750000@jacksonvillecottages.com
SUMMARY:Jacksonville-Applegate Rotary Winery Poker Run
DESCRIPTION:Join us for our Second Annual Jacksonville-Applegate Rotary Winery Poker Run on Friday\, September 9\, 3-7pm\, or Saturday\, September 10\, 1-7pm! Participants (Players) will simply purchase poker card(s) at any seven of the nine Jacksonville wine tasting rooms on Friday\, September 9 or Saturday\, September 10. Players will progressively play their hands at each winery and fill-in the cards. Winners will be announced at the Rotary BBQ (cost of $20) at Rellik Winery\, on Sunday\, September 11\, between 1-3pm. Attendees will enjoy music by the Danielle Kelly Soul Project. There are 3 incredible top prizes for the best hands (don’t have to be present to win) and during the Sunday BBQ we will randomly pull cards from the unfortunate losing hands and give away lots of fun gifts (must be present to win). Visit us at www.rotarypokerrun.com for prizes and further details.Your Jacksonville-Applegate Rotary Club is here to serve the community! While we seem to be well known for our international water projects in Tanzania\, Africa\, Jalisco\, Mexico and Guatemala\, we also have a long and rich history of local projects. The famous motto of Rotary Clubs throughout the world is\, “Service Above Self.” And your little club takes that commitment very seriously. Not only do we support many local projects financially\, we are hands-on too. In recent years\, members of the Jacksonville Applegate Rotary Club have joined the Boy Scouts Troup #17 for their food drive\, put in a garden for education at Jacksonville Elementary School\, built a chicken coop at Hanley Farms\, painted the fence at Beekman House\, adopted three JV Cemetery blocks\, as well as numerous projects at Ruch Elementary School including safety road signs\, and Christmas gifts for economically challenged families in Ruch. The club also helps Britt Music and Arts Festival with their annual spring clean-up and popcorn sales at every single concert. Up until the pandemic hit\, our club members faithfully showed up at Jackson Elementary School in Medford every Friday to pack-up nutritious meals for students in need of food security. Recently\, this program was turned over to ACCESS with continued support from our Club and other Rogue Valley Rotary Clubs. Also\, during the pandemic\, we manufactured sanitizers and sewed masks for Pioneer Village. And each year\, we provide a 4-year college scholarship for one deserving student in the Rogue Valley. The list goes on and on…This update is to remind our community that all of the proceeds from the second annual Jacksonville-Applegate Rotary Poker Run event will go toward local projects. The Rotary Club’s next big local project scheduled for September 17\, is the Beekman House picket fence—hard to believe that it has been a decade since local Rotarians painted that white fence! Time to get to work. See ad this page.
URL:https://jacksonvillecottages.com/event/jacksonville-applegate-rotary-winery-poker-run/
END:VEVENT
BEGIN:VEVENT
DTSTART;TZID=UTC:20220909T170000
DTEND;TZID=UTC:20220909T190000
DTSTAMP:20260423T122822
CREATED:20220722T154207Z
LAST-MODIFIED:20220722T160642Z
UID:951-1662742800-1662750000@jacksonvillecottages.com
SUMMARY:Daisy Creek Winery:  Live Music: NICK GARRETT-POWELL
DESCRIPTION:
URL:https://jacksonvillecottages.com/event/live-music-nick-garrett-powell-6/
END:VEVENT
BEGIN:VEVENT
DTSTART;TZID=America/Los_Angeles:20220909T190000
DTEND;TZID=America/Los_Angeles:20220909T194500
DTSTAMP:20260423T122822
CREATED:20220708T172635Z
LAST-MODIFIED:20220909T232637Z
UID:163-1662750000-1662752700@jacksonvillecottages.com
SUMMARY:Jacksonville Haunted History Walking Tours
DESCRIPTION:Jacksonville Haunted History Walking Tours – The 2nd Friday of each month from May 13ththrough September 9th we’ll share tales of woe\, sorrow\, and regret fromthe spirits who still linger in Jacksonville’s historic buildings.  These are not yourtypical ghost tours with special effects but are history tours about realhauntings resulting from past events.   \n     Toursleave from the Jacksonville Visitors Center at the corner of North Oregon and Cstreets and last about 1 hour.  Twodifferent tours are offered 2 times each night. The 7pm and 7:30pm Courthouse route features brothels\, epidemics\, andhangings.  The 7:15pm and 7:45pm BrittHill tours highlight arson\, saloons\, and Oregon’s oldest Chinatown.  Both tours have lots of haunted houses.   \n    Special tours will be offered on Friday and Saturday\, October 14th and 15th at 6\, 6:15\, 6:30\,6:45\, and 7pm with alternating start times. Friday night begins with the Courthouse tour; Saturday night kicks offwith the Britt Hill tour.  \n     Toursare $10 per person and reservations are required.  Information and tickets for all tours areavailable now at www.historicjacksonville.org/haunted-history-tours/.   \n HistoricJacksonville\, Inc. is a volunteer 501(c)(3) non-profit organization.  All net proceeds go towards preserving andmaintaining Jacksonville\, Oregon’s historic buildings. \n 
URL:https://jacksonvillecottages.com/event/jacksonville-haunted-history-walking-tours-3/
END:VEVENT
END:VCALENDAR