BEGIN:VCALENDAR
VERSION:2.0
PRODID:-//Jacksonville Cottages - Nightly &amp; Monthly Rentals in Jacksonville, Oregon - ECPv6.15.20//NONSGML v1.0//EN
CALSCALE:GREGORIAN
METHOD:PUBLISH
X-ORIGINAL-URL:https://jacksonvillecottages.com
X-WR-CALDESC:Events for Jacksonville Cottages - Nightly &amp; Monthly Rentals in Jacksonville, Oregon
REFRESH-INTERVAL;VALUE=DURATION:PT1H
X-Robots-Tag:noindex
X-PUBLISHED-TTL:PT1H
BEGIN:VTIMEZONE
TZID:America/Los_Angeles
BEGIN:DAYLIGHT
TZOFFSETFROM:-0800
TZOFFSETTO:-0700
TZNAME:PDT
DTSTART:20210314T100000
END:DAYLIGHT
BEGIN:STANDARD
TZOFFSETFROM:-0700
TZOFFSETTO:-0800
TZNAME:PST
DTSTART:20211107T090000
END:STANDARD
BEGIN:DAYLIGHT
TZOFFSETFROM:-0800
TZOFFSETTO:-0700
TZNAME:PDT
DTSTART:20220313T100000
END:DAYLIGHT
BEGIN:STANDARD
TZOFFSETFROM:-0700
TZOFFSETTO:-0800
TZNAME:PST
DTSTART:20221106T090000
END:STANDARD
BEGIN:DAYLIGHT
TZOFFSETFROM:-0800
TZOFFSETTO:-0700
TZNAME:PDT
DTSTART:20230312T100000
END:DAYLIGHT
BEGIN:STANDARD
TZOFFSETFROM:-0700
TZOFFSETTO:-0800
TZNAME:PST
DTSTART:20231105T090000
END:STANDARD
END:VTIMEZONE
BEGIN:VEVENT
DTSTART;TZID=America/Los_Angeles:20220914T103000
DTEND;TZID=America/Los_Angeles:20220914T110000
DTSTAMP:20260423T122830
CREATED:20220901T223923Z
LAST-MODIFIED:20220913T234912Z
UID:1253-1663151400-1663153200@jacksonvillecottages.com
SUMMARY:Jacksonville Library Wednesdays: Preschool Storytime
DESCRIPTION:September Events at Jacksonville Library:  Who’s In Your Yard? Common Feeder Birds of the Rogue Valley\, 18+ YRS Thursday\, September 15\, 5:30–6:30pmErin Ulrich\, President of the Rogue Valley Audubon Society\, will identify the common birds that visit our backyard feeders\, as well as which birds are migrating through the area at this time. She will also discuss Project FeederWatch\, a citizen science project through Cornell University’s Lab of Ornithology.   Internet Security: How to Protect Yourself Online\, Wednesday\, September 28\, 3:00-4:00pmEmail scams\, phishing\, malware—is it even safe to be connected? Discover tools to help you remain paranoia-free while enjoying the benefits of the internet without compromising your security or privacy.   Preschool Storytime:Every Wednesday\, 10:30-11:00amBring your preschoolers (ages 3-5) to enjoy stories\, rhymes\, songs and fun at the library. A great opportunity to encourage an interest in books and reading and help young children develop important socialization skills.
URL:https://jacksonvillecottages.com/event/jacksonville-library-wednesdays-preschool-storytime-2/
LOCATION:Jacksonville Library\, 340 W C St\, Jacksonville\, OR 97530\, USA
END:VEVENT
END:VCALENDAR