BEGIN:VCALENDAR
VERSION:2.0
PRODID:-//Jacksonville Cottages - Nightly &amp; Monthly Rentals in Jacksonville, Oregon - ECPv6.15.20//NONSGML v1.0//EN
CALSCALE:GREGORIAN
METHOD:PUBLISH
X-WR-CALNAME:Jacksonville Cottages - Nightly &amp; Monthly Rentals in Jacksonville, Oregon
X-ORIGINAL-URL:https://jacksonvillecottages.com
X-WR-CALDESC:Events for Jacksonville Cottages - Nightly &amp; Monthly Rentals in Jacksonville, Oregon
REFRESH-INTERVAL;VALUE=DURATION:PT1H
X-Robots-Tag:noindex
X-PUBLISHED-TTL:PT1H
BEGIN:VTIMEZONE
TZID:America/Los_Angeles
BEGIN:DAYLIGHT
TZOFFSETFROM:-0800
TZOFFSETTO:-0700
TZNAME:PDT
DTSTART:20210314T100000
END:DAYLIGHT
BEGIN:STANDARD
TZOFFSETFROM:-0700
TZOFFSETTO:-0800
TZNAME:PST
DTSTART:20211107T090000
END:STANDARD
BEGIN:DAYLIGHT
TZOFFSETFROM:-0800
TZOFFSETTO:-0700
TZNAME:PDT
DTSTART:20220313T100000
END:DAYLIGHT
BEGIN:STANDARD
TZOFFSETFROM:-0700
TZOFFSETTO:-0800
TZNAME:PST
DTSTART:20221106T090000
END:STANDARD
BEGIN:DAYLIGHT
TZOFFSETFROM:-0800
TZOFFSETTO:-0700
TZNAME:PDT
DTSTART:20230312T100000
END:DAYLIGHT
BEGIN:STANDARD
TZOFFSETFROM:-0700
TZOFFSETTO:-0800
TZNAME:PST
DTSTART:20231105T090000
END:STANDARD
END:VTIMEZONE
BEGIN:VTIMEZONE
TZID:UTC
BEGIN:STANDARD
TZOFFSETFROM:+0000
TZOFFSETTO:+0000
TZNAME:UTC
DTSTART:20210101T000000
END:STANDARD
END:VTIMEZONE
BEGIN:VEVENT
DTSTART;TZID=America/Los_Angeles:20220917T090000
DTEND;TZID=America/Los_Angeles:20220917T120000
DTSTAMP:20260423T122152
CREATED:20220901T223923Z
LAST-MODIFIED:20220916T234917Z
UID:1256-1663405200-1663416000@jacksonvillecottages.com
SUMMARY:Cemetery Marker Cleaning Workshop
DESCRIPTION:Marker Cleaning Workshop\, Saturday\, September 17\, 9am-12noon—This will also be our final marker cleaning workshop of the year as the weather starts to turn cooler. Join our group of dedicated volunteers and learn how to safely clean and preserve the beautiful headstones and monuments in our cemetery. All the necessary tools and instructions will be provided. Meet at the Sexton’s Tool House at the top of the Cemetery Road. Dress for the project and we suggest a hat\, sunscreen and perhaps a stool to sit on. Check our website at friendsjvillecemetery.org for complete details.
URL:https://jacksonvillecottages.com/event/cemetery-marker-cleaning-workshop-2/
LOCATION:Jacksonville Cemetery\, Cemetery Rd\, Jacksonville\, OR 97530\, USA
END:VEVENT
BEGIN:VEVENT
DTSTART;TZID=America/Los_Angeles:20220917T120000
DTEND;TZID=America/Los_Angeles:20220917T150000
DTSTAMP:20260423T122152
CREATED:20220901T223923Z
LAST-MODIFIED:20220916T234917Z
UID:1255-1663416000-1663426800@jacksonvillecottages.com
SUMMARY:1873 Beekman House Museum Tours: "Victorian Fashions"
DESCRIPTION:Saturday & Sunday\, September 17 & 18\, noon-3pm:  1873 Beekman House Museum Tours. “Victorian Fashions.”  \nwww.historicjacksonville.org
URL:https://jacksonvillecottages.com/event/1873-beekman-house-museum-tours-victorian-fashions/
LOCATION:Beekman House\, 452 E California St\, Jacksonville\, OR 97530\, USA
END:VEVENT
BEGIN:VEVENT
DTSTART;TZID=UTC:20220917T170000
DTEND;TZID=UTC:20220917T190000
DTSTAMP:20260423T122152
CREATED:20220722T154208Z
LAST-MODIFIED:20220722T160628Z
UID:955-1663434000-1663441200@jacksonvillecottages.com
SUMMARY:Daisy Creek Winery:  Live Music: CHARLES GUY
DESCRIPTION:
URL:https://jacksonvillecottages.com/event/live-music-charles-guy/
END:VEVENT
END:VCALENDAR