BEGIN:VCALENDAR
VERSION:2.0
PRODID:-//Jacksonville Cottages - Nightly &amp; Monthly Rentals in Jacksonville, Oregon - ECPv6.15.20//NONSGML v1.0//EN
CALSCALE:GREGORIAN
METHOD:PUBLISH
X-WR-CALNAME:Jacksonville Cottages - Nightly &amp; Monthly Rentals in Jacksonville, Oregon
X-ORIGINAL-URL:https://jacksonvillecottages.com
X-WR-CALDESC:Events for Jacksonville Cottages - Nightly &amp; Monthly Rentals in Jacksonville, Oregon
REFRESH-INTERVAL;VALUE=DURATION:PT1H
X-Robots-Tag:noindex
X-PUBLISHED-TTL:PT1H
BEGIN:VTIMEZONE
TZID:America/Los_Angeles
BEGIN:DAYLIGHT
TZOFFSETFROM:-0800
TZOFFSETTO:-0700
TZNAME:PDT
DTSTART:20210314T100000
END:DAYLIGHT
BEGIN:STANDARD
TZOFFSETFROM:-0700
TZOFFSETTO:-0800
TZNAME:PST
DTSTART:20211107T090000
END:STANDARD
BEGIN:DAYLIGHT
TZOFFSETFROM:-0800
TZOFFSETTO:-0700
TZNAME:PDT
DTSTART:20220313T100000
END:DAYLIGHT
BEGIN:STANDARD
TZOFFSETFROM:-0700
TZOFFSETTO:-0800
TZNAME:PST
DTSTART:20221106T090000
END:STANDARD
BEGIN:DAYLIGHT
TZOFFSETFROM:-0800
TZOFFSETTO:-0700
TZNAME:PDT
DTSTART:20230312T100000
END:DAYLIGHT
BEGIN:STANDARD
TZOFFSETFROM:-0700
TZOFFSETTO:-0800
TZNAME:PST
DTSTART:20231105T090000
END:STANDARD
END:VTIMEZONE
BEGIN:VTIMEZONE
TZID:UTC
BEGIN:STANDARD
TZOFFSETFROM:+0000
TZOFFSETTO:+0000
TZNAME:UTC
DTSTART:20210101T000000
END:STANDARD
END:VTIMEZONE
BEGIN:VEVENT
DTSTART;TZID=America/Los_Angeles:20220918T090000
DTEND;TZID=America/Los_Angeles:20220918T140000
DTSTAMP:20260423T122234
CREATED:20220729T190514Z
LAST-MODIFIED:20220917T235206Z
UID:1064-1663491600-1663509600@jacksonvillecottages.com
SUMMARY:Jville Market - Weekly Farmers Market
DESCRIPTION:Your friendly neighborhood market located on the lawn of the historic courthouse in Jacksonville.  Come on down and have some food and fun with your community!  Every Sunday from 9-2.
URL:https://jacksonvillecottages.com/event/jville-market-weekly-farmers-market-8/
LOCATION:Jacksonville City Hall\, 206 N 5th St\, Jacksonville\, OR 97530\, USA
END:VEVENT
BEGIN:VEVENT
DTSTART;TZID=America/Los_Angeles:20220918T120000
DTEND;TZID=America/Los_Angeles:20220918T150000
DTSTAMP:20260423T122234
CREATED:20220901T223923Z
LAST-MODIFIED:20220917T235206Z
UID:1257-1663502400-1663513200@jacksonvillecottages.com
SUMMARY:1873 Beekman House Museum Tours: "Victorian Fashions"
DESCRIPTION:Saturday & Sunday\, September 17 & 18\, noon-3pm:  1873 Beekman House Museum Tours. “Victorian Fashions.”  \nwww.historicjacksonville.org
URL:https://jacksonvillecottages.com/event/1873-beekman-house-museum-tours-victorian-fashions-2/
LOCATION:Beekman House\, 452 E California St\, Jacksonville\, OR 97530\, USA
END:VEVENT
BEGIN:VEVENT
DTSTART;TZID=UTC:20220918T132500
DTEND;TZID=UTC:20220918T163000
DTSTAMP:20260423T122234
CREATED:20220722T154208Z
LAST-MODIFIED:20220722T160623Z
UID:956-1663507500-1663518600@jacksonvillecottages.com
SUMMARY:Daisy Creek Winery:  Live Music: J BROTHERS
DESCRIPTION:
URL:https://jacksonvillecottages.com/event/live-music-j-brothers-2/
END:VEVENT
END:VCALENDAR