BEGIN:VCALENDAR
VERSION:2.0
PRODID:-//Jacksonville Cottages - Nightly &amp; Monthly Rentals in Jacksonville, Oregon - ECPv6.15.20//NONSGML v1.0//EN
CALSCALE:GREGORIAN
METHOD:PUBLISH
X-WR-CALNAME:Jacksonville Cottages - Nightly &amp; Monthly Rentals in Jacksonville, Oregon
X-ORIGINAL-URL:https://jacksonvillecottages.com
X-WR-CALDESC:Events for Jacksonville Cottages - Nightly &amp; Monthly Rentals in Jacksonville, Oregon
REFRESH-INTERVAL;VALUE=DURATION:PT1H
X-Robots-Tag:noindex
X-PUBLISHED-TTL:PT1H
BEGIN:VTIMEZONE
TZID:America/Los_Angeles
BEGIN:DAYLIGHT
TZOFFSETFROM:-0800
TZOFFSETTO:-0700
TZNAME:PDT
DTSTART:20210314T100000
END:DAYLIGHT
BEGIN:STANDARD
TZOFFSETFROM:-0700
TZOFFSETTO:-0800
TZNAME:PST
DTSTART:20211107T090000
END:STANDARD
BEGIN:DAYLIGHT
TZOFFSETFROM:-0800
TZOFFSETTO:-0700
TZNAME:PDT
DTSTART:20220313T100000
END:DAYLIGHT
BEGIN:STANDARD
TZOFFSETFROM:-0700
TZOFFSETTO:-0800
TZNAME:PST
DTSTART:20221106T090000
END:STANDARD
BEGIN:DAYLIGHT
TZOFFSETFROM:-0800
TZOFFSETTO:-0700
TZNAME:PDT
DTSTART:20230312T100000
END:DAYLIGHT
BEGIN:STANDARD
TZOFFSETFROM:-0700
TZOFFSETTO:-0800
TZNAME:PST
DTSTART:20231105T090000
END:STANDARD
END:VTIMEZONE
BEGIN:VTIMEZONE
TZID:UTC
BEGIN:STANDARD
TZOFFSETFROM:+0000
TZOFFSETTO:+0000
TZNAME:UTC
DTSTART:20210101T000000
END:STANDARD
END:VTIMEZONE
BEGIN:VEVENT
DTSTART;TZID=America/Los_Angeles:20221001T110000
DTEND;TZID=America/Los_Angeles:20221001T150000
DTSTAMP:20260423T095051
CREATED:20220901T223924Z
LAST-MODIFIED:20221001T003443Z
UID:1262-1664622000-1664636400@jacksonvillecottages.com
SUMMARY:Hanley Farm Annual Scarecrow Festival
DESCRIPTION:11th Annual Scarecrow FestivalThis Friday and Saturday\, October 1 & 2 from 11:00 am – 3:00 pm both days!  \nScarecrow-making kits will be available and will have everything needed to make your scarecrow. In addition to scarecrow-making\, be sure to enjoy the many other activities\, including photos with scarecrows\, children’s activities\, and more! \nAdmission: FREE * Kits: $20/non-Members; $15/SOHS MembersSOHS Hanley Farm – 1053 Hanley Road\, Central Point \nwww.sohs.org for event info  
URL:https://jacksonvillecottages.com/event/hanley-farm-scarecrow-festival/
LOCATION:Hanley Farm\, 1053 Hanley Rd\, Central Point\, OR 97502\, USA
END:VEVENT
BEGIN:VEVENT
DTSTART;TZID=UTC:20221001T170000
DTEND;TZID=UTC:20221001T190000
DTSTAMP:20260423T095051
CREATED:20220722T154208Z
LAST-MODIFIED:20220722T160725Z
UID:961-1664643600-1664650800@jacksonvillecottages.com
SUMMARY:Daisy Creek Winery:  Live Music: CLAYTON JOSEPH SCOTT
DESCRIPTION:
URL:https://jacksonvillecottages.com/event/live-music-clayton-joseph-scott-4/
END:VEVENT
END:VCALENDAR