BEGIN:VCALENDAR
VERSION:2.0
PRODID:-//Jacksonville Cottages - Nightly &amp; Monthly Rentals in Jacksonville, Oregon - ECPv6.15.20//NONSGML v1.0//EN
CALSCALE:GREGORIAN
METHOD:PUBLISH
X-ORIGINAL-URL:https://jacksonvillecottages.com
X-WR-CALDESC:Events for Jacksonville Cottages - Nightly &amp; Monthly Rentals in Jacksonville, Oregon
REFRESH-INTERVAL;VALUE=DURATION:PT1H
X-Robots-Tag:noindex
X-PUBLISHED-TTL:PT1H
BEGIN:VTIMEZONE
TZID:America/Los_Angeles
BEGIN:DAYLIGHT
TZOFFSETFROM:-0800
TZOFFSETTO:-0700
TZNAME:PDT
DTSTART:20210314T100000
END:DAYLIGHT
BEGIN:STANDARD
TZOFFSETFROM:-0700
TZOFFSETTO:-0800
TZNAME:PST
DTSTART:20211107T090000
END:STANDARD
BEGIN:DAYLIGHT
TZOFFSETFROM:-0800
TZOFFSETTO:-0700
TZNAME:PDT
DTSTART:20220313T100000
END:DAYLIGHT
BEGIN:STANDARD
TZOFFSETFROM:-0700
TZOFFSETTO:-0800
TZNAME:PST
DTSTART:20221106T090000
END:STANDARD
BEGIN:DAYLIGHT
TZOFFSETFROM:-0800
TZOFFSETTO:-0700
TZNAME:PDT
DTSTART:20230312T100000
END:DAYLIGHT
BEGIN:STANDARD
TZOFFSETFROM:-0700
TZOFFSETTO:-0800
TZNAME:PST
DTSTART:20231105T090000
END:STANDARD
END:VTIMEZONE
BEGIN:VTIMEZONE
TZID:UTC
BEGIN:STANDARD
TZOFFSETFROM:+0000
TZOFFSETTO:+0000
TZNAME:UTC
DTSTART:20210101T000000
END:STANDARD
END:VTIMEZONE
BEGIN:VEVENT
DTSTART;TZID=America/Los_Angeles:20221002T090000
DTEND;TZID=America/Los_Angeles:20221002T140000
DTSTAMP:20260423T095143
CREATED:20220729T190514Z
LAST-MODIFIED:20221002T003536Z
UID:1068-1664701200-1664719200@jacksonvillecottages.com
SUMMARY:Jville Market - Weekly Farmers Market
DESCRIPTION:Your friendly neighborhood market located on the lawn of the historic courthouse in Jacksonville.  Come on down and have some food and fun with your community!  Every Sunday from 9-2.
URL:https://jacksonvillecottages.com/event/jville-market-weekly-farmers-market-10/
LOCATION:Jacksonville City Hall\, 206 N 5th St\, Jacksonville\, OR 97530\, USA
END:VEVENT
BEGIN:VEVENT
DTSTART;TZID=America/Los_Angeles:20221002T100000
DTEND;TZID=America/Los_Angeles:20221002T150000
DTSTAMP:20260423T095143
CREATED:20220901T223924Z
LAST-MODIFIED:20221002T003536Z
UID:1265-1664704800-1664722800@jacksonvillecottages.com
SUMMARY:42nd Annual BirdMart
DESCRIPTION:42nd annual BirdMart \nSunday\, October 2\, 2022\, 10 to 3 \nRogue valley square dance center \n3377 Table Rock Rd\, Medford OR \nBirds for sale: parrots\, finches\, canaries\, doves and more \nBird items for sale: cages\, seed\, toys and more \nMeet the wildlife Ambassadors…Owls\, vultures\,Hawks\, falcons \nTalk with avian behaviorist\, Animal answers KF \nMeet the exotic Animal Veterinarian team from Phoenix Animal Hospital  \nOn-site bird grooming available \nAdmission:$5 for adults \nChildren 16 and under free
URL:https://jacksonvillecottages.com/event/42nd-annual-birdmart/
LOCATION:Rogue Valley Square Dance Center\, 3377 Table Rock Rd\, Medford\, OR 97504\, USA
END:VEVENT
BEGIN:VEVENT
DTSTART;TZID=America/Los_Angeles:20221002T110000
DTEND;TZID=America/Los_Angeles:20221002T150000
DTSTAMP:20260423T095143
CREATED:20220901T223924Z
LAST-MODIFIED:20221002T003536Z
UID:1263-1664708400-1664722800@jacksonvillecottages.com
SUMMARY:Hanley Farm Annual Scarecrow Festival
DESCRIPTION:11th Annual Scarecrow FestivalThis Friday and Saturday\, October 1 & 2 from 11:00 am – 3:00 pm both days!  \nScarecrow-making kits will be available and will have everything needed to make your scarecrow. In addition to scarecrow-making\, be sure to enjoy the many other activities\, including photos with scarecrows\, children’s activities\, and more! \nAdmission: FREE * Kits: $20/non-Members; $15/SOHS MembersSOHS Hanley Farm – 1053 Hanley Road\, Central Point \nwww.sohs.org for event info  
URL:https://jacksonvillecottages.com/event/hanley-farm-scarecrow-festival-2/
LOCATION:Hanley Farm\, 1053 Hanley Rd\, Central Point\, OR 97502\, USA
END:VEVENT
BEGIN:VEVENT
DTSTART;TZID=UTC:20221002T133000
DTEND;TZID=UTC:20221002T163000
DTSTAMP:20260423T095143
CREATED:20220722T154208Z
LAST-MODIFIED:20220722T160722Z
UID:962-1664717400-1664728200@jacksonvillecottages.com
SUMMARY:Daisy Creek Winery:  Live Music: ROGUE RAGE
DESCRIPTION:
URL:https://jacksonvillecottages.com/event/live-music-rogue-rage/
END:VEVENT
END:VCALENDAR