BEGIN:VCALENDAR
VERSION:2.0
PRODID:-//Jacksonville Cottages - Nightly &amp; Monthly Rentals in Jacksonville, Oregon - ECPv6.15.20//NONSGML v1.0//EN
CALSCALE:GREGORIAN
METHOD:PUBLISH
X-ORIGINAL-URL:https://jacksonvillecottages.com
X-WR-CALDESC:Events for Jacksonville Cottages - Nightly &amp; Monthly Rentals in Jacksonville, Oregon
REFRESH-INTERVAL;VALUE=DURATION:PT1H
X-Robots-Tag:noindex
X-PUBLISHED-TTL:PT1H
BEGIN:VTIMEZONE
TZID:America/Los_Angeles
BEGIN:DAYLIGHT
TZOFFSETFROM:-0800
TZOFFSETTO:-0700
TZNAME:PDT
DTSTART:20210314T100000
END:DAYLIGHT
BEGIN:STANDARD
TZOFFSETFROM:-0700
TZOFFSETTO:-0800
TZNAME:PST
DTSTART:20211107T090000
END:STANDARD
BEGIN:DAYLIGHT
TZOFFSETFROM:-0800
TZOFFSETTO:-0700
TZNAME:PDT
DTSTART:20220313T100000
END:DAYLIGHT
BEGIN:STANDARD
TZOFFSETFROM:-0700
TZOFFSETTO:-0800
TZNAME:PST
DTSTART:20221106T090000
END:STANDARD
BEGIN:DAYLIGHT
TZOFFSETFROM:-0800
TZOFFSETTO:-0700
TZNAME:PDT
DTSTART:20230312T100000
END:DAYLIGHT
BEGIN:STANDARD
TZOFFSETFROM:-0700
TZOFFSETTO:-0800
TZNAME:PST
DTSTART:20231105T090000
END:STANDARD
END:VTIMEZONE
BEGIN:VEVENT
DTSTART;TZID=America/Los_Angeles:20221012T133000
DTEND;TZID=America/Los_Angeles:20221012T150000
DTSTAMP:20260423T095206
CREATED:20220914T235011Z
LAST-MODIFIED:20221012T003525Z
UID:1322-1665581400-1665586800@jacksonvillecottages.com
SUMMARY:GR/K - How to Make a French Apple Tart
DESCRIPTION:This program is sponsored by the Jacksonville Commmunity Center(JCC). JCC is a charitable 501(c)(3) non-profit organization. \nHow to Make a French Apple Tart \nJCC Great Room & Kitchen \nWednesday\, October 12th \n1:30 pm- 3:00 pm \n$7 Fee (scholarships available) \nPre-registration required.  \nhttps://jacksonvillecommunitycenter.org/eventer/how-to-make-a-french-apple-tart/edate/2022-10-12/ \n\nIt’s Fall harvest  and fresh apples are in season.  Learn to make a delicious French Apple Tart with self-taught chef\, Jerry Pendzick.  He will demonstrate how to make this delicious  and easlily prepared dessert\, provide the recipe and offer a tasting session.  \nPresenter: Jerry Pendzick \nJerry Pendzick loves to cook and desserts are one of his specialities!  Over the years\, he has continue to explore his culinary interests which delights his family and friends. His is primarily self-taught and finds experience is the “best” teacher!
URL:https://jacksonvillecottages.com/event/gr-k-how-to-make-a-french-apple-tart/
END:VEVENT
END:VCALENDAR