BEGIN:VCALENDAR
VERSION:2.0
PRODID:-//Jacksonville Cottages - Nightly &amp; Monthly Rentals in Jacksonville, Oregon - ECPv6.15.20//NONSGML v1.0//EN
CALSCALE:GREGORIAN
METHOD:PUBLISH
X-WR-CALNAME:Jacksonville Cottages - Nightly &amp; Monthly Rentals in Jacksonville, Oregon
X-ORIGINAL-URL:https://jacksonvillecottages.com
X-WR-CALDESC:Events for Jacksonville Cottages - Nightly &amp; Monthly Rentals in Jacksonville, Oregon
REFRESH-INTERVAL;VALUE=DURATION:PT1H
X-Robots-Tag:noindex
X-PUBLISHED-TTL:PT1H
BEGIN:VTIMEZONE
TZID:UTC
BEGIN:STANDARD
TZOFFSETFROM:+0000
TZOFFSETTO:+0000
TZNAME:UTC
DTSTART:20210101T000000
END:STANDARD
END:VTIMEZONE
BEGIN:VTIMEZONE
TZID:America/Los_Angeles
BEGIN:DAYLIGHT
TZOFFSETFROM:-0800
TZOFFSETTO:-0700
TZNAME:PDT
DTSTART:20210314T100000
END:DAYLIGHT
BEGIN:STANDARD
TZOFFSETFROM:-0700
TZOFFSETTO:-0800
TZNAME:PST
DTSTART:20211107T090000
END:STANDARD
BEGIN:DAYLIGHT
TZOFFSETFROM:-0800
TZOFFSETTO:-0700
TZNAME:PDT
DTSTART:20220313T100000
END:DAYLIGHT
BEGIN:STANDARD
TZOFFSETFROM:-0700
TZOFFSETTO:-0800
TZNAME:PST
DTSTART:20221106T090000
END:STANDARD
BEGIN:DAYLIGHT
TZOFFSETFROM:-0800
TZOFFSETTO:-0700
TZNAME:PDT
DTSTART:20230312T100000
END:DAYLIGHT
BEGIN:STANDARD
TZOFFSETFROM:-0700
TZOFFSETTO:-0800
TZNAME:PST
DTSTART:20231105T090000
END:STANDARD
END:VTIMEZONE
BEGIN:VEVENT
DTSTART;TZID=UTC:20221014T170000
DTEND;TZID=UTC:20221014T190000
DTSTAMP:20260423T095049
CREATED:20220722T154208Z
LAST-MODIFIED:20220722T160705Z
UID:966-1665766800-1665774000@jacksonvillecottages.com
SUMMARY:Daisy Creek Winery:  Live Music: STEVE SCHEIN
DESCRIPTION:
URL:https://jacksonvillecottages.com/event/live-music-steve-schein/
END:VEVENT
BEGIN:VEVENT
DTSTART;TZID=America/Los_Angeles:20221014T180000
DTEND;TZID=America/Los_Angeles:20221014T190000
DTSTAMP:20260423T095049
CREATED:20220919T234929Z
LAST-MODIFIED:20221015T005130Z
UID:1427-1665770400-1665774000@jacksonvillecottages.com
SUMMARY:Historic Jacksonville's Haunted History Walking Tours
DESCRIPTION:October 14 and 15 – Haunted History walking tours\, Historic Jacksonville’s last “spirited” evenings of 2022.  Two different tours share true stories of ghosts that still linger in Jacksonville’s historic buildings!  Choose brothels\, epidemics\, and hangings\, or murder\, arson\, saloons\, and Chinatown\, or one each night. Tours begin at 6\, 6:15\, 6:30\, 6:45\, and 7pm with alternating start times.  https://www.historicjacksonville.org/haunted-history-tours/
URL:https://jacksonvillecottages.com/event/historic-jacksonvilles-haunted-history-walking-tours/
LOCATION:Jacksonville\, OR 97530\, USA
END:VEVENT
END:VCALENDAR