BEGIN:VCALENDAR
VERSION:2.0
PRODID:-//Jacksonville Cottages - Nightly &amp; Monthly Rentals in Jacksonville, Oregon - ECPv6.15.20//NONSGML v1.0//EN
CALSCALE:GREGORIAN
METHOD:PUBLISH
X-WR-CALNAME:Jacksonville Cottages - Nightly &amp; Monthly Rentals in Jacksonville, Oregon
X-ORIGINAL-URL:https://jacksonvillecottages.com
X-WR-CALDESC:Events for Jacksonville Cottages - Nightly &amp; Monthly Rentals in Jacksonville, Oregon
REFRESH-INTERVAL;VALUE=DURATION:PT1H
X-Robots-Tag:noindex
X-PUBLISHED-TTL:PT1H
BEGIN:VTIMEZONE
TZID:America/Los_Angeles
BEGIN:DAYLIGHT
TZOFFSETFROM:-0800
TZOFFSETTO:-0700
TZNAME:PDT
DTSTART:20210314T100000
END:DAYLIGHT
BEGIN:STANDARD
TZOFFSETFROM:-0700
TZOFFSETTO:-0800
TZNAME:PST
DTSTART:20211107T090000
END:STANDARD
BEGIN:DAYLIGHT
TZOFFSETFROM:-0800
TZOFFSETTO:-0700
TZNAME:PDT
DTSTART:20220313T100000
END:DAYLIGHT
BEGIN:STANDARD
TZOFFSETFROM:-0700
TZOFFSETTO:-0800
TZNAME:PST
DTSTART:20221106T090000
END:STANDARD
BEGIN:DAYLIGHT
TZOFFSETFROM:-0800
TZOFFSETTO:-0700
TZNAME:PDT
DTSTART:20230312T100000
END:DAYLIGHT
BEGIN:STANDARD
TZOFFSETFROM:-0700
TZOFFSETTO:-0800
TZNAME:PST
DTSTART:20231105T090000
END:STANDARD
END:VTIMEZONE
BEGIN:VTIMEZONE
TZID:UTC
BEGIN:STANDARD
TZOFFSETFROM:+0000
TZOFFSETTO:+0000
TZNAME:UTC
DTSTART:20210101T000000
END:STANDARD
END:VTIMEZONE
BEGIN:VEVENT
DTSTART;TZID=America/Los_Angeles:20221015T110000
DTEND;TZID=America/Los_Angeles:20221015T150000
DTSTAMP:20260423T110353
CREATED:20220901T223925Z
LAST-MODIFIED:20220906T224924Z
UID:1269-1665831600-1665846000@jacksonvillecottages.com
SUMMARY:Shooting Star Nursery’s Fall Celebration & Fundraiser for Outdoor Education
DESCRIPTION:ShootingStar Nursery’s Fall Celebration & Fundraiser for Outdoor Education \nOct. 15th from 11am-3pm \n Come join your community for food trucks\, kid’s crafts\, silentauction\, music\, apple cider and other goodies to celebrate the arrival of fallweather and to show support for outdoor exploration after school programs thatget students back in nature!   \n ·      Locallymade baked goods from CrumbBakery \n·      Hilltop Coffee \n·      Woodfired pizzas from HoneysucklePizza \n·      Locallymade Ice Cream from SAP- hand packed pints \n·      Kidscraft tables- create fall succulent potted arrangements and pinecone animals\,Suggested $5 donation per kid \n·      SilentAuction of custom planted wine barrels with all proceeds toward the expansionthe outdoor exploration after school programs curated by Direct InvolvementRecreation Teaching (D.I.R.T.)  \n·      Winebarrels for sale individually with proceeds donated to D.I.R.T. and kindlydonated by Pallet Wine Company\, Harry and David\, and Rogue Compost \n·      LiveMusic from the Music of Frank Ellis and other local bands \n·      Take afamily photo with our fall colors as your backdrop! \n Free community event!   \nCarpooling encouraged\, all carpoolers to be entered in araffle for a $200 Shooting Star Nursery gift certificate \nBring kids & friends and come celebrate with us!
URL:https://jacksonvillecottages.com/event/shooting-star-nurserys-fall-celebration-fundraiser-for-outdoor-education/
LOCATION:Shooting Star Nursery\, 3223 Taylor Rd\, Central Point\, OR 97502\, USA
END:VEVENT
BEGIN:VEVENT
DTSTART;TZID=America/Los_Angeles:20221015T110000
DTEND;TZID=America/Los_Angeles:20221015T150000
DTSTAMP:20260423T110353
CREATED:20220907T225254Z
LAST-MODIFIED:20221015T005130Z
UID:1305-1665831600-1665846000@jacksonvillecottages.com
SUMMARY:Shooting Star Nursery’s Fall Celebration & Fundraiser for Outdoor Education
DESCRIPTION:Shooting Star Nursery’s Fall Celebration & Fundraiser for Outdoor Education is October 15\, 11am-3pm. Come join your community for food trucks\, kid’s crafts\, silent auction\, music\, apple cider and other goodies to celebrate the arrival of fall weather and to show support for outdoor exploration after-school programs that get students back in nature!   \n\nLocally-made baked goods from Crumb Bakery\nHilltop Coffee\nWood-fired pizzas from Honeysuckle Pizza\nLocally-made Ice Cream from SAP- hand-packed pints\nKids craft tables—create fall succulent potted arrangements and pinecone animals\, Suggested $5 donation per kid\nSilent Auction of custom-planted wine barrels with all proceeds toward expansion of the outdoor exploration after-school programs curated by Direct Involvement Recreation Teaching (D.I.R.T.) \nWine barrels for sale individually\, with proceeds donated to D.I.R.T. (Kindly donated by Pallet Wine Company\, Harry and David\, and Rogue Compost)\nLive Music from the Music of Frank Ellis and other local bands\nTake a family photo with our fall colors as your backdrop!\n\nThis is a free community event! Carpooling is encouraged—all carpoolers to be entered in a raffle for a $200 Shooting Star Nursery gift certificate. Bring kids and friends and come celebrate with us! For more info roguevalleynursery.com
URL:https://jacksonvillecottages.com/event/shooting-star-nurserys-fall-celebration-fundraiser-for-outdoor-education-2/
LOCATION:Shooting Star Nursery\, 3223 Taylor Rd\, Central Point\, OR 97502\, USA
END:VEVENT
BEGIN:VEVENT
DTSTART;TZID=America/Los_Angeles:20221015T140000
DTEND;TZID=America/Los_Angeles:20221015T170000
DTSTAMP:20260423T110353
CREATED:20220915T234936Z
LAST-MODIFIED:20221015T005130Z
UID:1371-1665842400-1665853200@jacksonvillecottages.com
SUMMARY:Trotting Fox Boutique hosts Artist Dara Daniels
DESCRIPTION:Saturday\, October 15\, 2-5pm: Trotting Fox Boutique hosts Dara Daniels from Grants Pass representing Dara’s Fine Art; her stunning art available now on a beautiful clothing line.  Wine served during the event.  \nPH 541-702-2700  \nTrottingFoxBoutique@gmail.com \n 
URL:https://jacksonvillecottages.com/event/trotting-fox-boutique-hosts-artist-dara-daniels/
LOCATION:Trotting Fox Boutique\, 220 E California St\, Jacksonville\, OR 97530\, USA
END:VEVENT
BEGIN:VEVENT
DTSTART;TZID=UTC:20221015T170000
DTEND;TZID=UTC:20221015T190000
DTSTAMP:20260423T110353
CREATED:20220722T154208Z
LAST-MODIFIED:20220722T160702Z
UID:967-1665853200-1665860400@jacksonvillecottages.com
SUMMARY:Daisy Creek Winery:  Live Music: SHYBO DUO
DESCRIPTION:
URL:https://jacksonvillecottages.com/event/live-music-shybo-duo-4/
END:VEVENT
BEGIN:VEVENT
DTSTART;TZID=America/Los_Angeles:20221015T180000
DTEND;TZID=America/Los_Angeles:20221015T190000
DTSTAMP:20260423T110353
CREATED:20220919T234929Z
LAST-MODIFIED:20221016T005005Z
UID:1429-1665856800-1665860400@jacksonvillecottages.com
SUMMARY:Historic Jacksonville's Haunted History Walking Tours
DESCRIPTION:October 14 and 15 – Haunted History walking tours\, Historic Jacksonville’s last “spirited” evenings of 2022.  Two different tours share true stories of ghosts that still linger in Jacksonville’s historic buildings!  Choose brothels\, epidemics\, and hangings\, or murder\, arson\, saloons\, and Chinatown\, or one each night. Tours begin at 6\, 6:15\, 6:30\, 6:45\, and 7pm with alternating start times.  https://www.historicjacksonville.org/haunted-history-tours/
URL:https://jacksonvillecottages.com/event/historic-jacksonvilles-haunted-history-walking-tours-2/
LOCATION:Jacksonville\, OR 97530\, USA
END:VEVENT
END:VCALENDAR