BEGIN:VCALENDAR
VERSION:2.0
PRODID:-//Jacksonville Cottages - Nightly &amp; Monthly Rentals in Jacksonville, Oregon - ECPv6.15.20//NONSGML v1.0//EN
CALSCALE:GREGORIAN
METHOD:PUBLISH
X-ORIGINAL-URL:https://jacksonvillecottages.com
X-WR-CALDESC:Events for Jacksonville Cottages - Nightly &amp; Monthly Rentals in Jacksonville, Oregon
REFRESH-INTERVAL;VALUE=DURATION:PT1H
X-Robots-Tag:noindex
X-PUBLISHED-TTL:PT1H
BEGIN:VTIMEZONE
TZID:UTC
BEGIN:STANDARD
TZOFFSETFROM:+0000
TZOFFSETTO:+0000
TZNAME:UTC
DTSTART:20210101T000000
END:STANDARD
END:VTIMEZONE
BEGIN:VEVENT
DTSTART;TZID=UTC:20221021T170000
DTEND;TZID=UTC:20221021T190000
DTSTAMP:20260423T100039
CREATED:20220722T154209Z
LAST-MODIFIED:20220722T160804Z
UID:969-1666371600-1666378800@jacksonvillecottages.com
SUMMARY:Daisy Creek Winery:  Live Music: NICK GARRETT-POWELL
DESCRIPTION:
URL:https://jacksonvillecottages.com/event/live-music-nick-garrett-powell-7/
END:VEVENT
END:VCALENDAR