BEGIN:VCALENDAR
VERSION:2.0
PRODID:-//Jacksonville Cottages - Nightly &amp; Monthly Rentals in Jacksonville, Oregon - ECPv6.15.20//NONSGML v1.0//EN
CALSCALE:GREGORIAN
METHOD:PUBLISH
X-ORIGINAL-URL:https://jacksonvillecottages.com
X-WR-CALDESC:Events for Jacksonville Cottages - Nightly &amp; Monthly Rentals in Jacksonville, Oregon
REFRESH-INTERVAL;VALUE=DURATION:PT1H
X-Robots-Tag:noindex
X-PUBLISHED-TTL:PT1H
BEGIN:VTIMEZONE
TZID:America/Los_Angeles
BEGIN:DAYLIGHT
TZOFFSETFROM:-0800
TZOFFSETTO:-0700
TZNAME:PDT
DTSTART:20210314T100000
END:DAYLIGHT
BEGIN:STANDARD
TZOFFSETFROM:-0700
TZOFFSETTO:-0800
TZNAME:PST
DTSTART:20211107T090000
END:STANDARD
BEGIN:DAYLIGHT
TZOFFSETFROM:-0800
TZOFFSETTO:-0700
TZNAME:PDT
DTSTART:20220313T100000
END:DAYLIGHT
BEGIN:STANDARD
TZOFFSETFROM:-0700
TZOFFSETTO:-0800
TZNAME:PST
DTSTART:20221106T090000
END:STANDARD
BEGIN:DAYLIGHT
TZOFFSETFROM:-0800
TZOFFSETTO:-0700
TZNAME:PDT
DTSTART:20230312T100000
END:DAYLIGHT
BEGIN:STANDARD
TZOFFSETFROM:-0700
TZOFFSETTO:-0800
TZNAME:PST
DTSTART:20231105T090000
END:STANDARD
END:VTIMEZONE
BEGIN:VTIMEZONE
TZID:UTC
BEGIN:STANDARD
TZOFFSETFROM:+0000
TZOFFSETTO:+0000
TZNAME:UTC
DTSTART:20210101T000000
END:STANDARD
END:VTIMEZONE
BEGIN:VEVENT
DTSTART;TZID=America/Los_Angeles:20221023T090000
DTEND;TZID=America/Los_Angeles:20221023T140000
DTSTAMP:20260423T095207
CREATED:20220729T190515Z
LAST-MODIFIED:20221023T012122Z
UID:1076-1666515600-1666533600@jacksonvillecottages.com
SUMMARY:Jville Market - Weekly Farmers Market
DESCRIPTION:Your friendly neighborhood market located on the lawn of the historic courthouse in Jacksonville.  Come on down and have some food and fun with your community!  Every Sunday from 9-2.
URL:https://jacksonvillecottages.com/event/jville-market-weekly-farmers-market-13/
LOCATION:Jacksonville City Hall\, 206 N 5th St\, Jacksonville\, OR 97530\, USA
END:VEVENT
BEGIN:VEVENT
DTSTART;TZID=America/Los_Angeles:20221023T120000
DTEND;TZID=America/Los_Angeles:20221023T150000
DTSTAMP:20260423T095207
CREATED:20220919T234930Z
LAST-MODIFIED:20221023T012122Z
UID:1431-1666526400-1666537200@jacksonvillecottages.com
SUMMARY:Victorian Mourning Customs tours at Jacksonville's historic Beekman House Museum
DESCRIPTION:October 22 and 23 – Victorian Mourning Customs tours at Jacksonville’s historic Beekman House Museum.  1 hour tours begin every 20 minutes from 12n to 3pm.  Victorians created elaborate rituals around the passing of a loved one.  The house will be decorated as a Victorian house in mourning and costumed docents will share proper Victorian mourning etiquette for home décor\, clothing\, funerals\, and social behavior as well as superstitions\, séances\, mementos\, and a few popular practices of the time that we would find bizarre today. https://www.historicjacksonville.org/victorian-theme-tours/
URL:https://jacksonvillecottages.com/event/victorian-mourning-customs-tours-at-jacksonvilles-historic-beekman-house-museum-2/
LOCATION:Beekman House\, 452 E California St\, Jacksonville\, OR 97530\, USA
END:VEVENT
BEGIN:VEVENT
DTSTART;TZID=UTC:20221023T133000
DTEND;TZID=UTC:20221023T163000
DTSTAMP:20260423T095207
CREATED:20220722T154209Z
LAST-MODIFIED:20220722T160757Z
UID:971-1666531800-1666542600@jacksonvillecottages.com
SUMMARY:Daisy Creek Winery:  Live Music: J BROTHERS
DESCRIPTION:
URL:https://jacksonvillecottages.com/event/live-music-j-brothers-3/
END:VEVENT
END:VCALENDAR