BEGIN:VCALENDAR
VERSION:2.0
PRODID:-//Jacksonville Cottages - Nightly &amp; Monthly Rentals in Jacksonville, Oregon - ECPv6.15.20//NONSGML v1.0//EN
CALSCALE:GREGORIAN
METHOD:PUBLISH
X-ORIGINAL-URL:https://jacksonvillecottages.com
X-WR-CALDESC:Events for Jacksonville Cottages - Nightly &amp; Monthly Rentals in Jacksonville, Oregon
REFRESH-INTERVAL;VALUE=DURATION:PT1H
X-Robots-Tag:noindex
X-PUBLISHED-TTL:PT1H
BEGIN:VTIMEZONE
TZID:America/Los_Angeles
BEGIN:DAYLIGHT
TZOFFSETFROM:-0800
TZOFFSETTO:-0700
TZNAME:PDT
DTSTART:20210314T100000
END:DAYLIGHT
BEGIN:STANDARD
TZOFFSETFROM:-0700
TZOFFSETTO:-0800
TZNAME:PST
DTSTART:20211107T090000
END:STANDARD
BEGIN:DAYLIGHT
TZOFFSETFROM:-0800
TZOFFSETTO:-0700
TZNAME:PDT
DTSTART:20220313T100000
END:DAYLIGHT
BEGIN:STANDARD
TZOFFSETFROM:-0700
TZOFFSETTO:-0800
TZNAME:PST
DTSTART:20221106T090000
END:STANDARD
BEGIN:DAYLIGHT
TZOFFSETFROM:-0800
TZOFFSETTO:-0700
TZNAME:PDT
DTSTART:20230312T100000
END:DAYLIGHT
BEGIN:STANDARD
TZOFFSETFROM:-0700
TZOFFSETTO:-0800
TZNAME:PST
DTSTART:20231105T090000
END:STANDARD
END:VTIMEZONE
BEGIN:VEVENT
DTSTART;TZID=America/Los_Angeles:20221025T140000
DTEND;TZID=America/Los_Angeles:20221025T153000
DTSTAMP:20260423T095207
CREATED:20220914T235011Z
LAST-MODIFIED:20221025T011913Z
UID:1325-1666706400-1666711800@jacksonvillecottages.com
SUMMARY:CT - Jville Shut Up & Write
DESCRIPTION:This program is sponsored by the Jacksonville Commmunity Center(JCC). JCC is a charitable 501(c)(3) non-profit organization. \nJacksonville Shut Up & Write \nJCC Cottage \nTuesdays \n10/4\, 10/11\, 10/18\, & 10/25 \n2:00 pm – 3:30 pm \n$5 Suggested Donation(scholarships available) \nPre-registration required.  \nhttps://jacksonvillecommunitycenter.org/eventer/jacksonville-shut-up-write-10-2022/edate/ \nDescription \nJacksonville is a community of writers! Schedule weekly time to write in the company of people who take writing seriously. Ours is the local chapter of an international non-profit called ‘Shut Up & Write’ which supports the advancement of writing of any kind to become more articulate and more creative. \n \nPresenter: Mike Bowman \nMike Bowman came to Oregon in 2005 after teaching high school in California for 10 years. While teaching reading for RCC\, he created and managed the education program for a local non-profit until coming to RVTD as Travel Trainer in 2011.
URL:https://jacksonvillecottages.com/event/ct-jville-shut-up-write-4/
END:VEVENT
BEGIN:VEVENT
DTSTART;TZID=America/Los_Angeles:20221025T143000
DTEND;TZID=America/Los_Angeles:20221025T173000
DTSTAMP:20260423T095207
CREATED:20221015T005129Z
LAST-MODIFIED:20221025T011913Z
UID:1536-1666708200-1666719000@jacksonvillecottages.com
SUMMARY:Citizens Advisory Committee
DESCRIPTION:All meeting held at New City Hall Assembly Room (NCHAR) CITY COUNCIL: Tuesday\, October 4\, 6:00pmCITIZEN ADVISORY COMMITTEE:  Tuesday\, October 11\, 2:30pmPLANNING COMMISSION MEETING: Wednesday\, October 12\, 6:00pmCITY COUNCIL WORK SESSION: Tuesday\, October 18\, noonCITIZEN ADVISORY COMMITTEE:  Tuesday\, October 25\, 2:30pm HARC: Wednesday\, October 26\, 5:00pm
URL:https://jacksonvillecottages.com/event/citizens-advisory-committee-7/
LOCATION:Jacksonville City Hall\, 206 N 5th St\, Jacksonville\, OR 97530\, USA
END:VEVENT
BEGIN:VEVENT
DTSTART;TZID=America/Los_Angeles:20221025T180000
DTEND;TZID=America/Los_Angeles:20221025T190000
DTSTAMP:20260423T095207
CREATED:20221011T003411Z
LAST-MODIFIED:20221026T012001Z
UID:1516-1666720800-1666724400@jacksonvillecottages.com
SUMMARY:SOCAN October Monthly General Meeting
DESCRIPTION:Climate Change and the Natural World: impacts on forest understory plant communities \nThe climate changes induced by global warming are affecting our natural world in many ways. Dr. Susan Harrison and her team from U.C. Davis have been studying how climate change is influencing the composition of understory plant communities occupying forests along the border between Oregon and California.  \nThe SOCAN October monthly general meeting scheduled for Tuesday October 25th from 6:00 – 7:00pm via ZOOM will feature Dr. Harrison outlining her research on forest understories in the Siskiyous. Harrison will discuss how complex water-temperature interactions and extreme events are impacting individual understory plant species in our dry western forests\, including how climate affects post-fire community regeneration. \nThere is no charge for joining the meeting\, but participants must register using the link on the SOCAN calendar event or bit.ly/SOCAN-Harrison.
URL:https://jacksonvillecottages.com/event/socan-october-monthly-general-meeting/
END:VEVENT
END:VCALENDAR