BEGIN:VCALENDAR
VERSION:2.0
PRODID:-//Jacksonville Cottages - Nightly &amp; Monthly Rentals in Jacksonville, Oregon - ECPv6.15.20//NONSGML v1.0//EN
CALSCALE:GREGORIAN
METHOD:PUBLISH
X-WR-CALNAME:Jacksonville Cottages - Nightly &amp; Monthly Rentals in Jacksonville, Oregon
X-ORIGINAL-URL:https://jacksonvillecottages.com
X-WR-CALDESC:Events for Jacksonville Cottages - Nightly &amp; Monthly Rentals in Jacksonville, Oregon
REFRESH-INTERVAL;VALUE=DURATION:PT1H
X-Robots-Tag:noindex
X-PUBLISHED-TTL:PT1H
BEGIN:VTIMEZONE
TZID:America/Los_Angeles
BEGIN:DAYLIGHT
TZOFFSETFROM:-0800
TZOFFSETTO:-0700
TZNAME:PDT
DTSTART:20210314T100000
END:DAYLIGHT
BEGIN:STANDARD
TZOFFSETFROM:-0700
TZOFFSETTO:-0800
TZNAME:PST
DTSTART:20211107T090000
END:STANDARD
BEGIN:DAYLIGHT
TZOFFSETFROM:-0800
TZOFFSETTO:-0700
TZNAME:PDT
DTSTART:20220313T100000
END:DAYLIGHT
BEGIN:STANDARD
TZOFFSETFROM:-0700
TZOFFSETTO:-0800
TZNAME:PST
DTSTART:20221106T090000
END:STANDARD
BEGIN:DAYLIGHT
TZOFFSETFROM:-0800
TZOFFSETTO:-0700
TZNAME:PDT
DTSTART:20230312T100000
END:DAYLIGHT
BEGIN:STANDARD
TZOFFSETFROM:-0700
TZOFFSETTO:-0800
TZNAME:PST
DTSTART:20231105T090000
END:STANDARD
END:VTIMEZONE
BEGIN:VTIMEZONE
TZID:UTC
BEGIN:STANDARD
TZOFFSETFROM:+0000
TZOFFSETTO:+0000
TZNAME:UTC
DTSTART:20210101T000000
END:STANDARD
END:VTIMEZONE
BEGIN:VEVENT
DTSTART;VALUE=DATE:20221029
DTEND;VALUE=DATE:20221030
DTSTAMP:20260423T095029
CREATED:20220902T224011Z
LAST-MODIFIED:20221028T012020Z
UID:1293-1667001600-1667087999@jacksonvillecottages.com
SUMMARY:Jackson County Master Gardener Association's Winter Dreams Summer Gardens Symposium 2022
DESCRIPTION:Jackson County Master Gardener Association’s WinterDreams Summer Gardens Symposium 2022 \n Dates: Fridays\, October 28\, November 4\, and Saturdays\, October 29\, and November 5\, 2022 \n The Jackson CountyMaster Gardener Association is back\, virtually!  \n Dig into four days of virtualgarden immersion seminars taught by 16 presenters\, all designed to help youplan next year’s spectacular garden. This Fall Winter Dreams Summer Gardens Symposium is an ideal time to takestock while learning with experts about Gardening in Our Rogue ValleyClimate\, Berries\, Vegetables\, Native Plants\, Herbs\, Landscaping\, Soils\,Pruning\, Stormwater Management\, and more. \n Cost: $30. Pick your favoritetopics or watch them all. Most sessions will be recordedand available for a limited time for paid participants. \nLandscape Contractors Board CEH re-certificationavailable.   \nRegistration: For Details\, ProgramInformation\, and Registration\, visit the Master Gardener website:  \nhttps://jacksoncountymga.org/winter-dreams-summer-gardens-symposium/ \nRegistrationdeadline is Nov. 2. \n 
URL:https://jacksonvillecottages.com/event/jackson-county-master-gardener-associations-winter-dreams-summer-gardens-symposium-2022-2/
END:VEVENT
BEGIN:VEVENT
DTSTART;VALUE=DATE:20221029
DTEND;VALUE=DATE:20221030
DTSTAMP:20260423T095029
CREATED:20220930T003423Z
LAST-MODIFIED:20221028T012020Z
UID:1464-1667001600-1667087999@jacksonvillecottages.com
SUMMARY:Jacksonville Haunted Trolley Tour
DESCRIPTION:2022 Haunted Trolley tour dates are Thursday through Sunday\, October 27\, 28\, 29\, 30\, 2022.  This event has sold out in previous years\, so we encourage people to purchase tickets online in advance.  Visit www.jacksonvilletrolley.org for details.  There may be availability on the nights of the tours on a first-come first-served basis.
URL:https://jacksonvillecottages.com/event/jacksonville-haunted-trolley-tour/
LOCATION:Jacksonville\, OR 97530\, USA
END:VEVENT
BEGIN:VEVENT
DTSTART;TZID=America/Los_Angeles:20221029T090000
DTEND;TZID=America/Los_Angeles:20221029T120000
DTSTAMP:20260423T095029
CREATED:20221001T003445Z
LAST-MODIFIED:20221028T012020Z
UID:1482-1667034000-1667044800@jacksonvillecottages.com
SUMMARY:Jacksonville Cemetery Community Clean-up Day\,
DESCRIPTION:Cemetery Community Clean-up Day\, Saturday\, October 29 9am-12 noon—Join the Friends and community volunteers in a clean-up of the cemetery grounds as we prepare for winter. Bring gloves to wear\, leaf rakes\, gas/battery operated blowers\, pruners and ear and eye protection.  For event details and more information\, please visit website at http://www.friendsjvillecemetery.org/    
URL:https://jacksonvillecottages.com/event/jacksonville-cemetery-community-clean-up-day/
LOCATION:Jacksonville Cemetery\, Cemetery Rd\, Jacksonville\, OR 97530\, USA
END:VEVENT
BEGIN:VEVENT
DTSTART;TZID=UTC:20221029T170000
DTEND;TZID=UTC:20221029T190000
DTSTAMP:20260423T095029
CREATED:20220722T154209Z
LAST-MODIFIED:20220722T160750Z
UID:973-1667062800-1667070000@jacksonvillecottages.com
SUMMARY:Daisy Creek Winery:  Live Music: JEFF KLOETZEL
DESCRIPTION:
URL:https://jacksonvillecottages.com/event/live-music-jeff-kloetzel-4/
END:VEVENT
END:VCALENDAR