BEGIN:VCALENDAR
VERSION:2.0
PRODID:-//Jacksonville Cottages - Nightly &amp; Monthly Rentals in Jacksonville, Oregon - ECPv6.15.20//NONSGML v1.0//EN
CALSCALE:GREGORIAN
METHOD:PUBLISH
X-WR-CALNAME:Jacksonville Cottages - Nightly &amp; Monthly Rentals in Jacksonville, Oregon
X-ORIGINAL-URL:https://jacksonvillecottages.com
X-WR-CALDESC:Events for Jacksonville Cottages - Nightly &amp; Monthly Rentals in Jacksonville, Oregon
REFRESH-INTERVAL;VALUE=DURATION:PT1H
X-Robots-Tag:noindex
X-PUBLISHED-TTL:PT1H
BEGIN:VTIMEZONE
TZID:America/Los_Angeles
BEGIN:DAYLIGHT
TZOFFSETFROM:-0800
TZOFFSETTO:-0700
TZNAME:PDT
DTSTART:20210314T100000
END:DAYLIGHT
BEGIN:STANDARD
TZOFFSETFROM:-0700
TZOFFSETTO:-0800
TZNAME:PST
DTSTART:20211107T090000
END:STANDARD
BEGIN:DAYLIGHT
TZOFFSETFROM:-0800
TZOFFSETTO:-0700
TZNAME:PDT
DTSTART:20220313T100000
END:DAYLIGHT
BEGIN:STANDARD
TZOFFSETFROM:-0700
TZOFFSETTO:-0800
TZNAME:PST
DTSTART:20221106T090000
END:STANDARD
BEGIN:DAYLIGHT
TZOFFSETFROM:-0800
TZOFFSETTO:-0700
TZNAME:PDT
DTSTART:20230312T100000
END:DAYLIGHT
BEGIN:STANDARD
TZOFFSETFROM:-0700
TZOFFSETTO:-0800
TZNAME:PST
DTSTART:20231105T090000
END:STANDARD
END:VTIMEZONE
BEGIN:VTIMEZONE
TZID:UTC
BEGIN:STANDARD
TZOFFSETFROM:+0000
TZOFFSETTO:+0000
TZNAME:UTC
DTSTART:20210101T000000
END:STANDARD
END:VTIMEZONE
BEGIN:VEVENT
DTSTART;VALUE=DATE:20221030
DTEND;VALUE=DATE:20221031
DTSTAMP:20260423T095029
CREATED:20220930T003423Z
LAST-MODIFIED:20221028T012020Z
UID:1467-1667088000-1667174399@jacksonvillecottages.com
SUMMARY:Jacksonville Haunted Trolley Tour
DESCRIPTION:2022 Haunted Trolley tour dates are Thursday through Sunday\, October 27\, 28\, 29\, 30\, 2022.  This event has sold out in previous years\, so we encourage people to purchase tickets online in advance.  Visit www.jacksonvilletrolley.org for details.  There may be availability on the nights of the tours on a first-come first-served basis.
URL:https://jacksonvillecottages.com/event/jacksonville-haunted-trolley-tour-4/
LOCATION:Jacksonville\, OR 97530\, USA
END:VEVENT
BEGIN:VEVENT
DTSTART;TZID=America/Los_Angeles:20221030T090000
DTEND;TZID=America/Los_Angeles:20221030T140000
DTSTAMP:20260423T095029
CREATED:20220729T190515Z
LAST-MODIFIED:20221019T010509Z
UID:1078-1667120400-1667138400@jacksonvillecottages.com
SUMMARY:Jville Market - Weekly Farmers Market
DESCRIPTION:Your friendly neighborhood market located on the lawn of the historic courthouse in Jacksonville.  Come on down and have some food and fun with your community!  Every Sunday from 9-2.
URL:https://jacksonvillecottages.com/event/jville-market-weekly-farmers-market-14/
LOCATION:Jacksonville City Hall\, 206 N 5th St\, Jacksonville\, OR 97530\, USA
END:VEVENT
BEGIN:VEVENT
DTSTART;TZID=America/Los_Angeles:20221030T120000
DTEND;TZID=America/Los_Angeles:20221030T150000
DTSTAMP:20260423T095029
CREATED:20221001T003445Z
LAST-MODIFIED:20221028T012020Z
UID:1485-1667131200-1667142000@jacksonvillecottages.com
SUMMARY:Jacksonville's Halloween Promenade
DESCRIPTION:Sunday\, October 30\, noon- 3pm: Jacksonville’s Halloween Promenade. Downtown Jacksonville. Kids 12 and under. Look for the pumpkin on the door for businesses handing out candy to those in costume.
URL:https://jacksonvillecottages.com/event/jacksonvilles-halloween-promenade/
END:VEVENT
BEGIN:VEVENT
DTSTART;TZID=UTC:20221030T133000
DTEND;TZID=UTC:20221030T163000
DTSTAMP:20260423T095029
CREATED:20220722T154209Z
LAST-MODIFIED:20220722T160747Z
UID:974-1667136600-1667147400@jacksonvillecottages.com
SUMMARY:Daisy Creek Winery:  Live Music: NICK & SHAE
DESCRIPTION:
URL:https://jacksonvillecottages.com/event/live-music-nick-shae-4/
END:VEVENT
END:VCALENDAR