BEGIN:VCALENDAR
VERSION:2.0
PRODID:-//Jacksonville Cottages - Nightly &amp; Monthly Rentals in Jacksonville, Oregon - ECPv6.15.20//NONSGML v1.0//EN
CALSCALE:GREGORIAN
METHOD:PUBLISH
X-ORIGINAL-URL:https://jacksonvillecottages.com
X-WR-CALDESC:Events for Jacksonville Cottages - Nightly &amp; Monthly Rentals in Jacksonville, Oregon
REFRESH-INTERVAL;VALUE=DURATION:PT1H
X-Robots-Tag:noindex
X-PUBLISHED-TTL:PT1H
BEGIN:VTIMEZONE
TZID:America/Los_Angeles
BEGIN:DAYLIGHT
TZOFFSETFROM:-0800
TZOFFSETTO:-0700
TZNAME:PDT
DTSTART:20210314T100000
END:DAYLIGHT
BEGIN:STANDARD
TZOFFSETFROM:-0700
TZOFFSETTO:-0800
TZNAME:PST
DTSTART:20211107T090000
END:STANDARD
BEGIN:DAYLIGHT
TZOFFSETFROM:-0800
TZOFFSETTO:-0700
TZNAME:PDT
DTSTART:20220313T100000
END:DAYLIGHT
BEGIN:STANDARD
TZOFFSETFROM:-0700
TZOFFSETTO:-0800
TZNAME:PST
DTSTART:20221106T090000
END:STANDARD
BEGIN:DAYLIGHT
TZOFFSETFROM:-0800
TZOFFSETTO:-0700
TZNAME:PDT
DTSTART:20230312T100000
END:DAYLIGHT
BEGIN:STANDARD
TZOFFSETFROM:-0700
TZOFFSETTO:-0800
TZNAME:PST
DTSTART:20231105T090000
END:STANDARD
END:VTIMEZONE
BEGIN:VEVENT
DTSTART;TZID=America/Los_Angeles:20221109T180000
DTEND;TZID=America/Los_Angeles:20221109T200000
DTSTAMP:20260423T084425
CREATED:20220930T003423Z
LAST-MODIFIED:20221109T183415Z
UID:1468-1668016800-1668024000@jacksonvillecottages.com
SUMMARY:TOWN HALL MEETING on the Jacksonville Development Code Revision
DESCRIPTION:Please Join Us for a Series of Town Halls! – by Ian Foster\, Planning Director\, City of Jacksonville  \nOver the past couple of years\, your Citizen Advisory Committee (CAC) tasked with reviewing and updating the City’s Development Code has been hard at work carefully reviewing and revising the draft document. The project is a city initiative to clarify and improve regulations for development within the city\, including the rules for modifications to existing structures\, new construction\, the division of land\, and historic protections. We are at a point in this project where we want to share with you some of the key changes and major updates proposed with the new draft. We also want to hear from you as we are still in the draft phase. \nWhy are we doing this?—The current Development Code is long overdue for an update. The current version is inconsistent (sometimes even on the same page) and lacks clear standards. This leads to confusion among the public\, practitioners\, staff\, and the hearing bodies responsible for its administration. Ultimately\, the inconsistencies and lack of clarity are risky for the city. \nHow can I provide input?—We want you to be involved in the process. Through the combination of our website specifically crafted for this project: jacksonvillecodeupdate.com\, open CAC meetings that are also available on demand on the City’s website\, or through a series of townhalls\, we want your input. \nOver the next few months\, please join the CAC and members of the Committee for Citizen Involvement (CCI) for a series of townhall events for an in-depth review of the CAC’s work so far. This will be an opportunity for you to ask questions and to provide feedback. Here are the details: \n\nWednesday\, October 19\, 2022\, 5:30pm\nWednesday\, November 9\, 2022\, 6pm \nWednesday\, December 14\, 2022\, 5:30pm \n\nAll sessions will be located in the New City Hall Assembly Room\, 206 North Fifth Street\, Jacksonville\, OR.  \nOctober 19: Introduction to the Project. The discussion will begin with an overview of the revised “permitted use” table. Staff will highlight key discussion points such as drive through services\, home occupations\, and short-term vacation rentals. \nNovember 9: Design and Site Development Standards: This session will focus on site development requirements. Topics will include setbacks\, landscape\, parking\, fence\, solar\, and sign standards. \nDecember 14: Environmental & Constrained Lands: This session will focus on environmental requirements\, to include riparian and wetland requirements\, as well as tree removal requirements\, and the Urban Wildland Interface. \nThis is the first series of town hall events. The CCI in coordination with the CAC will continue to host sessions as we move forward with the revision process. You can see more information and provide comments by visiting jacksonvillecodeupdate.com.
URL:https://jacksonvillecottages.com/event/town-hall-meeting-on-the-jacksonville-development-code-revision-2/
LOCATION:Jacksonville City Hall\, 206 N 5th St\, Jacksonville\, OR 97530\, USA
END:VEVENT
END:VCALENDAR