BEGIN:VCALENDAR
VERSION:2.0
PRODID:-//Jacksonville Cottages - Nightly &amp; Monthly Rentals in Jacksonville, Oregon - ECPv6.15.20//NONSGML v1.0//EN
CALSCALE:GREGORIAN
METHOD:PUBLISH
X-ORIGINAL-URL:https://jacksonvillecottages.com
X-WR-CALDESC:Events for Jacksonville Cottages - Nightly &amp; Monthly Rentals in Jacksonville, Oregon
REFRESH-INTERVAL;VALUE=DURATION:PT1H
X-Robots-Tag:noindex
X-PUBLISHED-TTL:PT1H
BEGIN:VTIMEZONE
TZID:America/Los_Angeles
BEGIN:DAYLIGHT
TZOFFSETFROM:-0800
TZOFFSETTO:-0700
TZNAME:PDT
DTSTART:20210314T100000
END:DAYLIGHT
BEGIN:STANDARD
TZOFFSETFROM:-0700
TZOFFSETTO:-0800
TZNAME:PST
DTSTART:20211107T090000
END:STANDARD
BEGIN:DAYLIGHT
TZOFFSETFROM:-0800
TZOFFSETTO:-0700
TZNAME:PDT
DTSTART:20220313T100000
END:DAYLIGHT
BEGIN:STANDARD
TZOFFSETFROM:-0700
TZOFFSETTO:-0800
TZNAME:PST
DTSTART:20221106T090000
END:STANDARD
BEGIN:DAYLIGHT
TZOFFSETFROM:-0800
TZOFFSETTO:-0700
TZNAME:PDT
DTSTART:20230312T100000
END:DAYLIGHT
BEGIN:STANDARD
TZOFFSETFROM:-0700
TZOFFSETTO:-0800
TZNAME:PST
DTSTART:20231105T090000
END:STANDARD
END:VTIMEZONE
BEGIN:VEVENT
DTSTART;TZID=America/Los_Angeles:20221112T090000
DTEND;TZID=America/Los_Angeles:20221112T150000
DTSTAMP:20260423T084428
CREATED:20221011T003412Z
LAST-MODIFIED:20221112T183418Z
UID:1518-1668243600-1668265200@jacksonvillecottages.com
SUMMARY:Jackson County Master Gardener™ Association Holiday Gala
DESCRIPTION:Jackson County Master Gardener™Association Holiday Gala   \nDate: Saturday\, November 12\, 2022  \nTime: 9:00 am—3:00 pm  \nWhere: SOREC (OSU Extension) Auditorium\, 569 Hanley Rd in CentralPoint. \n \nJackson County Master Gardeners host a merry holiday seasoncelebration for the whole family. Shop for decorations\, wreaths\, ornaments\, andsnowmen and women. Find the perfect gift for each friend and family member.Come share the cheer of the season\, then step into the Native Nursery area offthe parking lot for live Master Gardener-grown native and ornamental plants.  \nFree Admission.  \nPay with: Cash\, check\, or credit card.  \nFor more information: Email jcmgaevents022@gmail.com or call (541)227-1358.
URL:https://jacksonvillecottages.com/event/jackson-county-master-gardener-association-holiday-gala/
LOCATION:SOREC (OSU Extension) Auditorium\, 569 Hanley Rd in Central Point
END:VEVENT
END:VCALENDAR