BEGIN:VCALENDAR
VERSION:2.0
PRODID:-//Jacksonville Cottages - Nightly &amp; Monthly Rentals in Jacksonville, Oregon - ECPv6.15.20//NONSGML v1.0//EN
CALSCALE:GREGORIAN
METHOD:PUBLISH
X-ORIGINAL-URL:https://jacksonvillecottages.com
X-WR-CALDESC:Events for Jacksonville Cottages - Nightly &amp; Monthly Rentals in Jacksonville, Oregon
REFRESH-INTERVAL;VALUE=DURATION:PT1H
X-Robots-Tag:noindex
X-PUBLISHED-TTL:PT1H
BEGIN:VTIMEZONE
TZID:America/Los_Angeles
BEGIN:DAYLIGHT
TZOFFSETFROM:-0800
TZOFFSETTO:-0700
TZNAME:PDT
DTSTART:20210314T100000
END:DAYLIGHT
BEGIN:STANDARD
TZOFFSETFROM:-0700
TZOFFSETTO:-0800
TZNAME:PST
DTSTART:20211107T090000
END:STANDARD
BEGIN:DAYLIGHT
TZOFFSETFROM:-0800
TZOFFSETTO:-0700
TZNAME:PDT
DTSTART:20220313T100000
END:DAYLIGHT
BEGIN:STANDARD
TZOFFSETFROM:-0700
TZOFFSETTO:-0800
TZNAME:PST
DTSTART:20221106T090000
END:STANDARD
BEGIN:DAYLIGHT
TZOFFSETFROM:-0800
TZOFFSETTO:-0700
TZNAME:PDT
DTSTART:20230312T100000
END:DAYLIGHT
BEGIN:STANDARD
TZOFFSETFROM:-0700
TZOFFSETTO:-0800
TZNAME:PST
DTSTART:20231105T090000
END:STANDARD
END:VTIMEZONE
BEGIN:VEVENT
DTSTART;TZID=America/Los_Angeles:20221119T100000
DTEND;TZID=America/Los_Angeles:20221119T140000
DTSTAMP:20260423T084430
CREATED:20221119T184914Z
LAST-MODIFIED:20221119T184916Z
UID:1834-1668852000-1668866400@jacksonvillecottages.com
SUMMARY:Jacksonville's New Fire Hall Opening Celebration - Lunch & Open House!!
DESCRIPTION:Jacksonville’s New Fire Hall Opening Celebration – LUNCH & OPEN HOUSE ! Saturday\, November 19\,  10am-2pm   \n Everyone is invited to tour the new fire station at 180 N. 3rd Street on November 19\, from 10am-2pm. The festivities will kick-off with a Formal Opening Ceremony at 10am. LAS PALMAS will be providing complimentary tacos\, rice\, and beans. The Fire Department looks forward to celebrating with you!  
URL:https://jacksonvillecottages.com/event/jacksonvilles-new-fire-hall-opening-celebration-lunch-open-house/
LOCATION:Jacksonville Fire Department\, 180 N 3rd St\, Jacksonville\, OR 97530\, USA
END:VEVENT
BEGIN:VEVENT
DTSTART;TZID=America/Los_Angeles:20221119T100000
DTEND;TZID=America/Los_Angeles:20221119T190000
DTSTAMP:20260423T084430
CREATED:20220930T003424Z
LAST-MODIFIED:20221119T184916Z
UID:1472-1668852000-1668884400@jacksonvillecottages.com
SUMMARY:Clayfolk Show and Sale at the Medford Armory
DESCRIPTION:Greek mythology tells the tale of the phoenix\, a magnificent bird that would build a nest in which to set itself on fire\, whereupon a new phoenix would arise from the flames and ashes. It’s an apt metaphor for Clayfolk\, a group of clay artists whose “nest” is in Southern Oregon and who have put on a magnificent show and sale every year for nearly a half-century…until COVID. \nBut now—after a two-year hiatus—Clayfolk is back! The group is figuratively arising out of its own fire and the ashes of its kilns to appear once again in the Clayfolk Show and Sale at the Medford Armory on the weekend before Thanksgiving\, November 18-20. Please note that the hours for the show are slightly different this year: \n\nFriday\, November 18\, 10am-7pm\nSaturday\, November 19\, 10am-7pm\nSunday\, November 20\, 10am-3pm\nAdmission is free!\n\nThere you will see work by your favorite clay artists from Jacksonville and surrounding areas: Ray Foster\, Nancy Adams\, Ray Noppa\, Jane Anderson\, Jim Nordal\, Kris Schumacher\, and Nancy Stewart—as well as others from all over Southern Oregon\, Northern California\, the Willamette Valley\, and beyond. To preview some of the work at the Clayfolk Show and Sale\, please visit the gallery on the Clayfolk website at https://www.clayfolk.org/member-gallery/. \nThe Show will feature raku pots that have been plunged into a cauldron of fire burning at over a thousand degrees\, stoneware mugs and plates that have endured hellish heat soaring to over 2100 degrees\, and exquisite porcelain pieces that vitrified at temperatures comparable to the stars. You will\, of course\, see functional pieces and whimsical ones\, amazing sculpture\, flowery majolica\, scraffito\, “thrown” pots\, slab-built pots\, and among the artists themselves\, the occasional crackpot. \nWhat’s new? The downtime during COVID allowed many Clayfolk members to experiment with new techniques and build their inventories. The science underlying ceramics has also leaped forward\, with chemists developing new and brighter colors that have attracted the interest of many local ceramists. Others continue to explore the cutting-edge possibilities of creating new glaze surfaces in computer-controlled kilns. Still others\, however\, lean toward the subtle\, earthy hues produced by the flame-induced vapors of salt\, soda\, and—yes—ashes. \nAs always\, there will be demonstrations of “throwing” on the potter’s wheel and other clay-fabrication techniques. All the artists in the show will be there in person with their wares\, eager to talk with you about their craft. Kids can get clay on their hands at the Children’s Demonstration Station\, and if you are there on Sunday\, you will have a chance to win the periodic drawing. \nSo\, set your GPS on November 18\, 19\, or 20 for the Medford Armory at 1701 S Pacific Hwy\, Medford\, OR 97501. The Armory is just off the South Medford exit from I-5.
URL:https://jacksonvillecottages.com/event/clayfolk-show-and-sale-at-the-medford-armory-2/
LOCATION:Medford Armory\, 1701 S Pacific Hwy\, Medford\, OR 97501\, USA
END:VEVENT
BEGIN:VEVENT
DTSTART;TZID=America/Los_Angeles:20221119T110000
DTEND;TZID=America/Los_Angeles:20221119T160000
DTSTAMP:20260423T084430
CREATED:20221015T005132Z
LAST-MODIFIED:20221119T184916Z
UID:1545-1668855600-1668873600@jacksonvillecottages.com
SUMMARY:Applegate Valley Wineries Uncorked WINE BARREL TOUR
DESCRIPTION:Applegate Valley Wineries Uncorked WINE BARREL TOURSAT.\, NOV 19FROM 11 TO 4Special Wine Tastings& Food Pairings at 18Applegate WineriesGet your tickets and more info atwww.applegatevalley.wineTickets: $59 eachIncludes a wine glass.
URL:https://jacksonvillecottages.com/event/applegate-valley-wineries-uncorked-wine-barrel-tour/
LOCATION:Applegate Valley\, Oregon 97527\, USA
END:VEVENT
BEGIN:VEVENT
DTSTART;TZID=America/Los_Angeles:20221119T110000
DTEND;TZID=America/Los_Angeles:20221119T160000
DTSTAMP:20260423T084430
CREATED:20221031T161440Z
LAST-MODIFIED:20221119T184916Z
UID:1732-1668855600-1668873600@jacksonvillecottages.com
SUMMARY:Applegate Valley Wineries Uncorked Barrel Tour
DESCRIPTION:                  \n                  \n \nUncorked Barrel TourSaturday\, Nov 19\, 2022\n11am to 4pm\nCome celebrate harvest season with a self-guided tour of the Applegate Valley Wine Country. Fall is the perfect time to visit our 18 tasting rooms. The winegrapes have been picked\, pressed\, and barrelled\, and the winemakers have time to chat. \nPick your starting location\, and let yourself be lured from one winery to the next. Each will offer an appetizer and wine for tasting. You’ll even get to meet some of the latest releases! Uncorked is a great opportunity to stock up on wine for upcoming holiday gifts\, or parties. \nTickets are $59 each and include a commemorative Wine Trail wine glass. \nBonus: Designated drivers don’t need to purchase a ticket and may sample the food. The event will conclude at 4pm\, however many tasting rooms will remain open until 5pm. \nPlease Note – In an effort to conserve natural resources no tickets are mailed. You have your purchase confirmation as a receipt. Simply arrive at the location you’ve chosen\, your name will be on a list to check in and start your tour. For those who have groups who want to start at the same location\, please purchase your tickets early and make sure everyone chooses the same start location. Locations fill up so that’s the best assurance of everyone getting your first choice start location. \nhttps://applegatevalley.wine/events-2/  \n  \n                            
URL:https://jacksonvillecottages.com/event/applegate-valley-wineries-uncorked-barrel-tour/
END:VEVENT
END:VCALENDAR