BEGIN:VCALENDAR
VERSION:2.0
PRODID:-//Jacksonville Cottages - Nightly &amp; Monthly Rentals in Jacksonville, Oregon - ECPv6.15.20//NONSGML v1.0//EN
CALSCALE:GREGORIAN
METHOD:PUBLISH
X-ORIGINAL-URL:https://jacksonvillecottages.com
X-WR-CALDESC:Events for Jacksonville Cottages - Nightly &amp; Monthly Rentals in Jacksonville, Oregon
REFRESH-INTERVAL;VALUE=DURATION:PT1H
X-Robots-Tag:noindex
X-PUBLISHED-TTL:PT1H
BEGIN:VTIMEZONE
TZID:America/Los_Angeles
BEGIN:DAYLIGHT
TZOFFSETFROM:-0800
TZOFFSETTO:-0700
TZNAME:PDT
DTSTART:20210314T100000
END:DAYLIGHT
BEGIN:STANDARD
TZOFFSETFROM:-0700
TZOFFSETTO:-0800
TZNAME:PST
DTSTART:20211107T090000
END:STANDARD
BEGIN:DAYLIGHT
TZOFFSETFROM:-0800
TZOFFSETTO:-0700
TZNAME:PDT
DTSTART:20220313T100000
END:DAYLIGHT
BEGIN:STANDARD
TZOFFSETFROM:-0700
TZOFFSETTO:-0800
TZNAME:PST
DTSTART:20221106T090000
END:STANDARD
BEGIN:DAYLIGHT
TZOFFSETFROM:-0800
TZOFFSETTO:-0700
TZNAME:PDT
DTSTART:20230312T100000
END:DAYLIGHT
BEGIN:STANDARD
TZOFFSETFROM:-0700
TZOFFSETTO:-0800
TZNAME:PST
DTSTART:20231105T090000
END:STANDARD
END:VTIMEZONE
BEGIN:VEVENT
DTSTART;TZID=America/Los_Angeles:20221126T100000
DTEND;TZID=America/Los_Angeles:20221126T170000
DTSTAMP:20260423T082334
CREATED:20221018T010434Z
LAST-MODIFIED:20221126T190414Z
UID:1696-1669456800-1669482000@jacksonvillecottages.com
SUMMARY:Jacksonville’s Victorian Christmas - Small Business Saturday
DESCRIPTION:Jacksonville’s Victorian Christmas • An Old Fashioned\, Small Town Holiday Celebration Saturday\, November 26th10:00 am-5:00 pm: Small Business Saturday 5 pm: Christmas Tree Lighting at New City Hall(also live streaming on Facebook @JacksonvilleOregonand Instagram @visitjacksonvilleoregon) 6:00 pm -8:00 pm: “After the Tree Lighting Party” at the Community Center Sunday\, November 27th11:00 am-4:00pm: Father Christmas Saturday\, December 3rd10:00 am: Victorian Christmas Parade Horse Drawn Wagon Rides – 11/26 & 11/27 and 12/3 & 12/4 from 12-3pm December Weekend Activities: 3&4\, 10&11\, 17&18 \n\n10:30am-2:30pm: Holiday Trolley Tours\n11:00 am-4:00 pm: Father Christmas and musicians\n11:00am-5:00pm: Holiday Treasures Show & Angels Art Show at Art Presence\nHistoric Beekman House Tours – Weekend tours Nov. 26 – Dec. 18 12-3pm\nPrivate Trolley Tours for Christmas Light Show – December 1 – 23rd. Reservations required.\nSalvation Army Angel Tree: Tag pick-up at Brodie Dental
URL:https://jacksonvillecottages.com/event/jacksonvilles-victorian-christmas-small-business-saturday/
LOCATION:Jacksonville Community Center\, 160 E Main St\, Jacksonville\, OR 97530\, USA
END:VEVENT
BEGIN:VEVENT
DTSTART;TZID=America/Los_Angeles:20221126T100000
DTEND;TZID=America/Los_Angeles:20221126T170000
DTSTAMP:20260423T082334
CREATED:20221031T161440Z
LAST-MODIFIED:20221126T190415Z
UID:1733-1669456800-1669482000@jacksonvillecottages.com
SUMMARY:Small Business Saturday: Shop LOCAL in Jacksonville.
DESCRIPTION:Saturday\, November 26\, 10am-5pm: Small Business Saturday. Shop LOCAL Jacksonville.
URL:https://jacksonvillecottages.com/event/small-business-saturday-shop-local-in-jacksonville/
LOCATION:Jacksonville\, OR 97530\, USA
END:VEVENT
BEGIN:VEVENT
DTSTART;TZID=America/Los_Angeles:20221126T110000
DTEND;TZID=America/Los_Angeles:20221126T150000
DTSTAMP:20260423T082334
CREATED:20221012T003527Z
LAST-MODIFIED:20221126T190415Z
UID:1527-1669460400-1669474800@jacksonvillecottages.com
SUMMARY:Wreath Making at SOHS Hanley Farm
DESCRIPTION:We have one of our favorite events of the year coming up on November 26 – our annual wreath making event at SOHS Hanley Farm! Just in time to craft a beautiful wreath to adorn your door (or any other spot you deem worthy of adornment) for the holiday season! \n  \nWe provide all the materials you need for a natural wreath: grapevines or fruitwood bases\, a wide variety of greenery\, cones and berries\, and wire. And of course you are welcome to bring ribbon\, flowers or any other special touches you might want to add to your wreath. \n  \nWreath making kits are $15 for SOHS members and $20 for others. \n  \nEntry to the farm is free and we’ll have hot drinks and fun for the kids AND Santa will be joining us! He’ll be at the Big Red Truck for holiday photos!\n\n\n\n\n\n\n                                                     November 26 @ 11:00 am – 3:00 pm                             \n            Wreath Making at SOHS Hanley Farm    \n                     \n            SOHS Hanley Farm                1053 Hanley Road\, Central Point\, OR    \n                                     \nJoin SOHS at historic Hanley Farm for a family-friendly day of wreath making! Bring your own ribbon\, ornaments and trimmings and make a wreath at the Farm or buy a kit to make at home. Stay tuned for more details! \n                           
URL:https://jacksonvillecottages.com/event/wreath-making-at-sohs-hanley-farm/
LOCATION:Hanley Farm\, 1053 Hanley Rd\, Central Point\, OR 97502\, USA
END:VEVENT
BEGIN:VEVENT
DTSTART;TZID=America/Los_Angeles:20221126T110000
DTEND;TZID=America/Los_Angeles:20221126T160000
DTSTAMP:20260423T082334
CREATED:20221022T010831Z
LAST-MODIFIED:20221126T190414Z
UID:1711-1669460400-1669478400@jacksonvillecottages.com
SUMMARY:Ruch Holiday Fair at Applegate Valley Fire District
DESCRIPTION:Applegate artisans are organizing the Ruch Holiday Fair on Saturday-Sunday\, November 26-27\, 11AM-4PM at the Applegate Valley Fire District\, 1095 Upper Applegate Road. McKee Bridge Historical Society and Friends of the Animal Shelter will both have booths offering gifts and decor handcrafted by their volunteers.
URL:https://jacksonvillecottages.com/event/ruch-holiday-fair-at-applegate-valley-fire-district/
LOCATION:Applegate Valley Fire District #9\, 1095 Upper Applegate Rd\, Jacksonville\, OR 97530\, USA
END:VEVENT
BEGIN:VEVENT
DTSTART;TZID=America/Los_Angeles:20221126T120000
DTEND;TZID=America/Los_Angeles:20221126T150000
DTSTAMP:20260423T082334
CREATED:20221031T161440Z
LAST-MODIFIED:20221126T190415Z
UID:1734-1669464000-1669474800@jacksonvillecottages.com
SUMMARY:Celebrate Victorian Christmas at Beekman House
DESCRIPTION:Victorian Christmas at Beekman House\nLearn how holiday traditions have changed!  Every Saturday and Sunday from November 26 through December 18\, you’re invited to experience how Christmas was celebrated during the late 1800s when you tour the 1873 C.C. Beekman House Museum\, located at 470 E. California Street in Jacksonville\, Oregon\, and home to Jacksonville’s wealthiest pioneer family. \nLearn about the many cultures that contributed to the Christmas celebration we know.  Find the good luck German pickle ornament on the Christmas tree.  Sing a Christmas carol.  Steal a kiss under the mistletoe.  Hear about presents the Beekmans exchanged.  Sample one of Mrs. Beekman’s sugar cookies.  And visit Mrs. Beekman’s Christmas Bazaar for toys\, crafts\, collectibles\, holiday items\, and popular Victorian era gifts. \nVictorian costumed docents will be offering these holiday house tours every 20 minutes between 12 noon and 3 pm on Saturdays and Sundays.  Tour tickets are $10 for adults and $5 for children 12 and under. Reservations are required.  Bazaar admission is free.   \nTour groups are limited to 8 persons and tickets can be purchased below!  Tours are NOT recommended for children under age 6. \nAnd make sure to check in 5 minutes before your tour.  At that time any unclaimed reservation will be offered to “walk ups.” Walk ups will be accommodated based on space available.   \nAll Historic Jacksonville\, Inc. proceeds help preserve Jacksonville’s historic buildings and expand historic program offerings. \nPurchase Tickets \n e-mail info@historicjacksonville.org or call 541-245-3650 for assistance. 
URL:https://jacksonvillecottages.com/event/celebrate-victorian-christmas-at-beekman-house/
LOCATION:Beekman House\, 452 E California St\, Jacksonville\, OR 97530\, USA
END:VEVENT
BEGIN:VEVENT
DTSTART;TZID=America/Los_Angeles:20221126T170000
DTEND;TZID=America/Los_Angeles:20221126T180000
DTSTAMP:20260423T082334
CREATED:20221018T010434Z
LAST-MODIFIED:20221126T190415Z
UID:1694-1669482000-1669485600@jacksonvillecottages.com
SUMMARY:Jacksonville’s Victorian Christmas -  Christmas Tree Lighting at New City Hall
DESCRIPTION:Jacksonville’s Victorian Christmas • An Old Fashioned\, Small Town Holiday Celebration Saturday\, November 26th10:00 am-5:00 pm: Small Business Saturday 5 pm: Christmas Tree Lighting at New City Hall(also live streaming on Facebook @JacksonvilleOregonand Instagram @visitjacksonvilleoregon) 6:00 pm -8:00 pm: “After the Tree Lighting Party” at the Community Center Sunday\, November 27th11:00 am-4:00pm: Father Christmas Saturday\, December 3rd10:00 am: Victorian Christmas Parade Horse Drawn Wagon Rides – 11/26 & 11/27 and 12/3 & 12/4 from 12-3pm December Weekend Activities: 3&4\, 10&11\, 17&18 \n\n10:30am-2:30pm: Holiday Trolley Tours\n11:00 am-4:00 pm: Father Christmas and musicians\n11:00am-5:00pm: Holiday Treasures Show & Angels Art Show at Art Presence\nHistoric Beekman House Tours – Weekend tours Nov. 26 – Dec. 18 12-3pm\nPrivate Trolley Tours for Christmas Light Show – December 1 – 23rd. Reservations required.\nSalvation Army Angel Tree: Tag pick-up at Brodie Dental
URL:https://jacksonvillecottages.com/event/jacksonvilles-victorian-christmas-christmas-tree-lighting-at-new-city-hall/
LOCATION:Jacksonville City Hall\, 206 N 5th St\, Jacksonville\, OR 97530\, USA
END:VEVENT
BEGIN:VEVENT
DTSTART;TZID=America/Los_Angeles:20221126T180000
DTEND;TZID=America/Los_Angeles:20221126T200000
DTSTAMP:20260423T082334
CREATED:20221018T010434Z
LAST-MODIFIED:20221126T190415Z
UID:1698-1669485600-1669492800@jacksonvillecottages.com
SUMMARY:Jacksonville’s Victorian Christmas - “After the Tree Lighting Party” at JCC
DESCRIPTION:Jacksonville’s Victorian Christmas • An Old Fashioned\, Small Town Holiday Celebration Saturday\, November 26th10:00 am-5:00 pm: Small Business Saturday 5 pm: Christmas Tree Lighting at New City Hall(also live streaming on Facebook @JacksonvilleOregonand Instagram @visitjacksonvilleoregon) 6:00 pm -8:00 pm: “After the Tree Lighting Party” at the Community Center Sunday\, November 27th11:00 am-4:00pm: Father Christmas Saturday\, December 3rd10:00 am: Victorian Christmas Parade Horse Drawn Wagon Rides – 11/26 & 11/27 and 12/3 & 12/4 from 12-3pm December Weekend Activities: 3&4\, 10&11\, 17&18 \n\n10:30am-2:30pm: Holiday Trolley Tours\n11:00 am-4:00 pm: Father Christmas and musicians\n11:00am-5:00pm: Holiday Treasures Show & Angels Art Show at Art Presence\nHistoric Beekman House Tours – Weekend tours Nov. 26 – Dec. 18 12-3pm\nPrivate Trolley Tours for Christmas Light Show – December 1 – 23rd. Reservations required.\nSalvation Army Angel Tree: Tag pick-up at Brodie Dental
URL:https://jacksonvillecottages.com/event/jacksonvilles-victorian-christmas-after-the-tree-lighting-party-at-jcc/
LOCATION:Jacksonville Community Center\, 160 E Main St\, Jacksonville\, OR 97530\, USA
END:VEVENT
END:VCALENDAR