BEGIN:VCALENDAR
VERSION:2.0
PRODID:-//Jacksonville Cottages - Nightly &amp; Monthly Rentals in Jacksonville, Oregon - ECPv6.15.20//NONSGML v1.0//EN
CALSCALE:GREGORIAN
METHOD:PUBLISH
X-ORIGINAL-URL:https://jacksonvillecottages.com
X-WR-CALDESC:Events for Jacksonville Cottages - Nightly &amp; Monthly Rentals in Jacksonville, Oregon
REFRESH-INTERVAL;VALUE=DURATION:PT1H
X-Robots-Tag:noindex
X-PUBLISHED-TTL:PT1H
BEGIN:VTIMEZONE
TZID:America/Los_Angeles
BEGIN:DAYLIGHT
TZOFFSETFROM:-0800
TZOFFSETTO:-0700
TZNAME:PDT
DTSTART:20210314T100000
END:DAYLIGHT
BEGIN:STANDARD
TZOFFSETFROM:-0700
TZOFFSETTO:-0800
TZNAME:PST
DTSTART:20211107T090000
END:STANDARD
BEGIN:DAYLIGHT
TZOFFSETFROM:-0800
TZOFFSETTO:-0700
TZNAME:PDT
DTSTART:20220313T100000
END:DAYLIGHT
BEGIN:STANDARD
TZOFFSETFROM:-0700
TZOFFSETTO:-0800
TZNAME:PST
DTSTART:20221106T090000
END:STANDARD
BEGIN:DAYLIGHT
TZOFFSETFROM:-0800
TZOFFSETTO:-0700
TZNAME:PDT
DTSTART:20230312T100000
END:DAYLIGHT
BEGIN:STANDARD
TZOFFSETFROM:-0700
TZOFFSETTO:-0800
TZNAME:PST
DTSTART:20231105T090000
END:STANDARD
END:VTIMEZONE
BEGIN:VEVENT
DTSTART;TZID=America/Los_Angeles:20221202T100000
DTEND;TZID=America/Los_Angeles:20221202T150000
DTSTAMP:20260423T071210
CREATED:20221011T003413Z
LAST-MODIFIED:20221202T190423Z
UID:1520-1669975200-1669993200@jacksonvillecottages.com
SUMMARY:Jacksonville Garden Club Holiday Greens Sale
DESCRIPTION:Garden Club Holiday Greens Sale on December 2  \nOrder Early for Custom-made Arrangements The Jacksonville Garden Club is preparing to bring some holiday cheer to our homes and businesses! Members use their skills and creativity to make beautiful wreaths\, table arrangements\, entry baskets\, and swags\, featuring fresh natural greens and cones\, holly\, bows\, candles and festive decorations. Our lovely wreaths have become very popular\, and both 28” and 18” sizes will be available this year. Customers who have purchased these greens in the past know what a wonderful addition they are for celebrating the holidays. Pre-orders are being taken now through November 22—they provide the best opportunity to customize the colors and style of your arrangements. To pre-order\, contact Peggy Peffley at 541-899-5708. The Club will also have its outdoor sale on Friday\, December 2\, 10am-3pm\, at the alcove next to the Post Office in downtown Jacksonville. Sweet treats and other holiday decorations will also be available on sale day. Delivery of pre-ordered arrangements is offered within a reasonable radius of Jacksonville\, or for pick-up at the outdoor sale.  Proceeds from Garden Club events fund local students’ scholarships and Jacksonville beautification projects. Support a good cause and enjoy the beauty of festive greens during the holidays!
URL:https://jacksonvillecottages.com/event/jacksonville-garden-club-holiday-greens-sale/
LOCATION:N Oregon St\, Jacksonville\, OR 97530\, USA
END:VEVENT
END:VCALENDAR