BEGIN:VCALENDAR
VERSION:2.0
PRODID:-//Jacksonville Cottages - Nightly &amp; Monthly Rentals in Jacksonville, Oregon - ECPv6.15.20//NONSGML v1.0//EN
CALSCALE:GREGORIAN
METHOD:PUBLISH
X-ORIGINAL-URL:https://jacksonvillecottages.com
X-WR-CALDESC:Events for Jacksonville Cottages - Nightly &amp; Monthly Rentals in Jacksonville, Oregon
REFRESH-INTERVAL;VALUE=DURATION:PT1H
X-Robots-Tag:noindex
X-PUBLISHED-TTL:PT1H
BEGIN:VTIMEZONE
TZID:America/Los_Angeles
BEGIN:DAYLIGHT
TZOFFSETFROM:-0800
TZOFFSETTO:-0700
TZNAME:PDT
DTSTART:20210314T100000
END:DAYLIGHT
BEGIN:STANDARD
TZOFFSETFROM:-0700
TZOFFSETTO:-0800
TZNAME:PST
DTSTART:20211107T090000
END:STANDARD
BEGIN:DAYLIGHT
TZOFFSETFROM:-0800
TZOFFSETTO:-0700
TZNAME:PDT
DTSTART:20220313T100000
END:DAYLIGHT
BEGIN:STANDARD
TZOFFSETFROM:-0700
TZOFFSETTO:-0800
TZNAME:PST
DTSTART:20221106T090000
END:STANDARD
BEGIN:DAYLIGHT
TZOFFSETFROM:-0800
TZOFFSETTO:-0700
TZNAME:PDT
DTSTART:20230312T100000
END:DAYLIGHT
BEGIN:STANDARD
TZOFFSETFROM:-0700
TZOFFSETTO:-0800
TZNAME:PST
DTSTART:20231105T090000
END:STANDARD
END:VTIMEZONE
BEGIN:VEVENT
DTSTART;VALUE=DATE:20221204
DTEND;VALUE=DATE:20221205
DTSTAMP:20260423T072144
CREATED:20221031T161442Z
LAST-MODIFIED:20221204T190629Z
UID:1742-1670112000-1670198399@jacksonvillecottages.com
SUMMARY:Jacksonville's Victorian Christmas Weekend Events
DESCRIPTION:VICTORIAN CHRISTMAS EVENTS. For more info visitwww.ChristmasInJacksonville.com \n SATURDAY\, DEC 3RD \n·      10am: Victorian Christmas Parade in downtownJacksonville \n  \nWEEKEND EVENTS \n·      Horse Drawn Wagon Rides: 11/26 & 11/27 and12/3-4 from 12-3pm \n·      3&4\, 10&11\, 17&18 \no  10:30am-2:30pm: Holiday Trolley Tours \no  11am-4pm: Father Christmas\, cider stand andmusicians \no  11am-5pm: Holiday Treasures Show & AngelsArt Show at Art Presence \n  \nHistoric Beekman House Tours \n·      Weekends tours Nov. 26th-Dec 1812-3pm \n  \nPrivate Trolley Tours for Christmas Light Show \n·      December 1-23. Reservations required \n 
URL:https://jacksonvillecottages.com/event/jacksonvilles-victorian-christmas-weekend-events/
END:VEVENT
BEGIN:VEVENT
DTSTART;TZID=America/Los_Angeles:20221204T110000
DTEND;TZID=America/Los_Angeles:20221204T160000
DTSTAMP:20260423T072144
CREATED:20221031T161442Z
LAST-MODIFIED:20221204T190629Z
UID:1744-1670151600-1670169600@jacksonvillecottages.com
SUMMARY:Father Christmas at Beekman Bank
DESCRIPTION:Sunday\, November 27\, 11am-4pm: Father Christmas at Beekman Bank.  \nAlso\, holiday weekends – December 3 & 4\, 10 & 11\, 17 & 18
URL:https://jacksonvillecottages.com/event/father-christmas-at-beekman-bank-3/
LOCATION:Beekman Bank 1863\, 110 W California St\, Jacksonville\, OR 97530\, USA
END:VEVENT
BEGIN:VEVENT
DTSTART;TZID=America/Los_Angeles:20221204T110000
DTEND;TZID=America/Los_Angeles:20221204T160000
DTSTAMP:20260423T072144
CREATED:20221104T180413Z
LAST-MODIFIED:20221204T190628Z
UID:1796-1670151600-1670169600@jacksonvillecottages.com
SUMMARY:Soroptimist International of Medford 29th Annual Holiday Home Tour
DESCRIPTION:Soroptimist International of Medford 29th Annual Holiday Home Tour is Sunday\, December 4\, 11 am to 4 pm. \nThe 29th annual Holiday Home Tour features 3 wonderful properties that vary from a newly remodeled to updated manufactured stuffed with 25 Christmas trees to brand new contemporary homes. The owners have kindly agreed to open their homes to help raise funds that benefit women and girls in our community to invest in their dreams. Past Holiday Home Tour beneficiaries include: SAVS (Sexual Assault Victim Services) Family Nurturing Center\, Magdalene Home\, Live Your Dream awards\, Rebecca Bender Initiative\, Family Solutions\, Maslow Project\, KidSpree\, Wilderness Trails\, Medford Gospel Mission. \nTickets may be purchased for a donation of $20 each at the following locations: \n\nEssentials Home Decor – 114 W Main St\, Medford\nJudy’s Florist – 337 E Pine St\, Central Point\nCountry Quilts – 230 S Oregon St\, Jacksonville\n\nTickets may also be purchased at the homes the day of the event. \nFurther information is available at: si-medford.org and our Facebook page: Soroptimist International of Medford
URL:https://jacksonvillecottages.com/event/soroptimist-international-of-medford-29th-annual-holiday-home-tour/
LOCATION:southern Oregon
END:VEVENT
BEGIN:VEVENT
DTSTART;TZID=America/Los_Angeles:20221204T110000
DTEND;TZID=America/Los_Angeles:20221204T160000
DTSTAMP:20260423T072144
CREATED:20221129T190413Z
LAST-MODIFIED:20221204T190629Z
UID:1856-1670151600-1670169600@jacksonvillecottages.com
SUMMARY:Table Rock Kiwanis Club See's Candies Fundraiser
DESCRIPTION:The Table Rock Kiwanis Club will be selling See’s Candies on weekends\, November 26 through December 18\, 11am-4pm\, in front of the US Hotel on California Street\, next to the cider stand.  \nFundraiser donations are used to help support children\, youth\, and families in our community.
URL:https://jacksonvillecottages.com/event/table-rock-kiwanis-club-sees-candies-fundraiser-2/
LOCATION:United States Hotel\, Jacksonville\, OR 97530\, USA
END:VEVENT
BEGIN:VEVENT
DTSTART;TZID=America/Los_Angeles:20221204T120000
DTEND;TZID=America/Los_Angeles:20221204T150000
DTSTAMP:20260423T072144
CREATED:20221031T161441Z
LAST-MODIFIED:20221204T190629Z
UID:1741-1670155200-1670166000@jacksonvillecottages.com
SUMMARY:Celebrate Victorian Christmas at Beekman House
DESCRIPTION:Victorian Christmas at Beekman House\nLearn how holiday traditions have changed!  Every Saturday and Sunday from November 26 through December 18\, you’re invited to experience how Christmas was celebrated during the late 1800s when you tour the 1873 C.C. Beekman House Museum\, located at 470 E. California Street in Jacksonville\, Oregon\, and home to Jacksonville’s wealthiest pioneer family. \nLearn about the many cultures that contributed to the Christmas celebration we know.  Find the good luck German pickle ornament on the Christmas tree.  Sing a Christmas carol.  Steal a kiss under the mistletoe.  Hear about presents the Beekmans exchanged.  Sample one of Mrs. Beekman’s sugar cookies.  And visit Mrs. Beekman’s Christmas Bazaar for toys\, crafts\, collectibles\, holiday items\, and popular Victorian era gifts. \nVictorian costumed docents will be offering these holiday house tours every 20 minutes between 12 noon and 3 pm on Saturdays and Sundays.  Tour tickets are $10 for adults and $5 for children 12 and under. Reservations are required.  Bazaar admission is free.   \nTour groups are limited to 8 persons and tickets can be purchased below!  Tours are NOT recommended for children under age 6. \nAnd make sure to check in 5 minutes before your tour.  At that time any unclaimed reservation will be offered to “walk ups.” Walk ups will be accommodated based on space available.   \nAll Historic Jacksonville\, Inc. proceeds help preserve Jacksonville’s historic buildings and expand historic program offerings. \nPurchase Tickets \n e-mail info@historicjacksonville.org or call 541-245-3650 for assistance. 
URL:https://jacksonvillecottages.com/event/celebrate-victorian-christmas-at-beekman-house-4/
LOCATION:Beekman House\, 452 E California St\, Jacksonville\, OR 97530\, USA
END:VEVENT
END:VCALENDAR