BEGIN:VCALENDAR
VERSION:2.0
PRODID:-//Jacksonville Cottages - Nightly &amp; Monthly Rentals in Jacksonville, Oregon - ECPv6.15.20//NONSGML v1.0//EN
CALSCALE:GREGORIAN
METHOD:PUBLISH
X-ORIGINAL-URL:https://jacksonvillecottages.com
X-WR-CALDESC:Events for Jacksonville Cottages - Nightly &amp; Monthly Rentals in Jacksonville, Oregon
REFRESH-INTERVAL;VALUE=DURATION:PT1H
X-Robots-Tag:noindex
X-PUBLISHED-TTL:PT1H
BEGIN:VTIMEZONE
TZID:America/Los_Angeles
BEGIN:DAYLIGHT
TZOFFSETFROM:-0800
TZOFFSETTO:-0700
TZNAME:PDT
DTSTART:20210314T100000
END:DAYLIGHT
BEGIN:STANDARD
TZOFFSETFROM:-0700
TZOFFSETTO:-0800
TZNAME:PST
DTSTART:20211107T090000
END:STANDARD
BEGIN:DAYLIGHT
TZOFFSETFROM:-0800
TZOFFSETTO:-0700
TZNAME:PDT
DTSTART:20220313T100000
END:DAYLIGHT
BEGIN:STANDARD
TZOFFSETFROM:-0700
TZOFFSETTO:-0800
TZNAME:PST
DTSTART:20221106T090000
END:STANDARD
BEGIN:DAYLIGHT
TZOFFSETFROM:-0800
TZOFFSETTO:-0700
TZNAME:PDT
DTSTART:20230312T100000
END:DAYLIGHT
BEGIN:STANDARD
TZOFFSETFROM:-0700
TZOFFSETTO:-0800
TZNAME:PST
DTSTART:20231105T090000
END:STANDARD
END:VTIMEZONE
BEGIN:VEVENT
DTSTART;VALUE=DATE:20221211
DTEND;VALUE=DATE:20221212
DTSTAMP:20260423T071207
CREATED:20221031T161442Z
LAST-MODIFIED:20221211T190412Z
UID:1748-1670716800-1670803199@jacksonvillecottages.com
SUMMARY:Jacksonville's Victorian Christmas Weekend Events
DESCRIPTION:VICTORIAN CHRISTMAS EVENTS. For more info visitwww.ChristmasInJacksonville.com \n SATURDAY\, DEC 3RD \n·      10am: Victorian Christmas Parade in downtownJacksonville \n  \nWEEKEND EVENTS \n·      Horse Drawn Wagon Rides: 11/26 & 11/27 and12/3-4 from 12-3pm \n·      3&4\, 10&11\, 17&18 \no  10:30am-2:30pm: Holiday Trolley Tours \no  11am-4pm: Father Christmas\, cider stand andmusicians \no  11am-5pm: Holiday Treasures Show & AngelsArt Show at Art Presence \n  \nHistoric Beekman House Tours \n·      Weekends tours Nov. 26th-Dec 1812-3pm \n  \nPrivate Trolley Tours for Christmas Light Show \n·      December 1-23. Reservations required \n 
URL:https://jacksonvillecottages.com/event/jacksonvilles-victorian-christmas-weekend-events-3/
END:VEVENT
BEGIN:VEVENT
DTSTART;TZID=America/Los_Angeles:20221211T110000
DTEND;TZID=America/Los_Angeles:20221211T160000
DTSTAMP:20260423T071207
CREATED:20221031T161442Z
LAST-MODIFIED:20221211T190412Z
UID:1747-1670756400-1670774400@jacksonvillecottages.com
SUMMARY:Father Christmas at Beekman Bank
DESCRIPTION:Sunday\, November 27\, 11am-4pm: Father Christmas at Beekman Bank.  \nAlso\, holiday weekends – December 3 & 4\, 10 & 11\, 17 & 18
URL:https://jacksonvillecottages.com/event/father-christmas-at-beekman-bank-4/
LOCATION:Beekman Bank 1863\, 110 W California St\, Jacksonville\, OR 97530\, USA
END:VEVENT
BEGIN:VEVENT
DTSTART;TZID=America/Los_Angeles:20221211T110000
DTEND;TZID=America/Los_Angeles:20221211T160000
DTSTAMP:20260423T071207
CREATED:20221129T190414Z
LAST-MODIFIED:20221211T190412Z
UID:1862-1670756400-1670774400@jacksonvillecottages.com
SUMMARY:Table Rock Kiwanis Club See's Candies Fundraiser
DESCRIPTION:The Table Rock Kiwanis Club will be selling See’s Candies on weekends\, November 26 through December 18\, 11am-4pm\, in front of the US Hotel on California Street\, next to the cider stand.  \nFundraiser donations are used to help support children\, youth\, and families in our community.
URL:https://jacksonvillecottages.com/event/table-rock-kiwanis-club-sees-candies-fundraiser-4/
LOCATION:United States Hotel\, Jacksonville\, OR 97530\, USA
END:VEVENT
BEGIN:VEVENT
DTSTART;TZID=America/Los_Angeles:20221211T120000
DTEND;TZID=America/Los_Angeles:20221211T150000
DTSTAMP:20260423T071207
CREATED:20221031T161442Z
LAST-MODIFIED:20221211T190412Z
UID:1746-1670760000-1670770800@jacksonvillecottages.com
SUMMARY:Celebrate Victorian Christmas at Beekman House
DESCRIPTION:Victorian Christmas at Beekman House\nLearn how holiday traditions have changed!  Every Saturday and Sunday from November 26 through December 18\, you’re invited to experience how Christmas was celebrated during the late 1800s when you tour the 1873 C.C. Beekman House Museum\, located at 470 E. California Street in Jacksonville\, Oregon\, and home to Jacksonville’s wealthiest pioneer family. \nLearn about the many cultures that contributed to the Christmas celebration we know.  Find the good luck German pickle ornament on the Christmas tree.  Sing a Christmas carol.  Steal a kiss under the mistletoe.  Hear about presents the Beekmans exchanged.  Sample one of Mrs. Beekman’s sugar cookies.  And visit Mrs. Beekman’s Christmas Bazaar for toys\, crafts\, collectibles\, holiday items\, and popular Victorian era gifts. \nVictorian costumed docents will be offering these holiday house tours every 20 minutes between 12 noon and 3 pm on Saturdays and Sundays.  Tour tickets are $10 for adults and $5 for children 12 and under. Reservations are required.  Bazaar admission is free.   \nTour groups are limited to 8 persons and tickets can be purchased below!  Tours are NOT recommended for children under age 6. \nAnd make sure to check in 5 minutes before your tour.  At that time any unclaimed reservation will be offered to “walk ups.” Walk ups will be accommodated based on space available.   \nAll Historic Jacksonville\, Inc. proceeds help preserve Jacksonville’s historic buildings and expand historic program offerings. \nPurchase Tickets \n e-mail info@historicjacksonville.org or call 541-245-3650 for assistance. 
URL:https://jacksonvillecottages.com/event/celebrate-victorian-christmas-at-beekman-house-6/
LOCATION:Beekman House\, 452 E California St\, Jacksonville\, OR 97530\, USA
END:VEVENT
BEGIN:VEVENT
DTSTART;TZID=America/Los_Angeles:20221211T150000
DTEND;TZID=America/Los_Angeles:20221211T160000
DTSTAMP:20260423T071207
CREATED:20221129T190414Z
LAST-MODIFIED:20221211T190411Z
UID:1861-1670770800-1670774400@jacksonvillecottages.com
SUMMARY:VOICES of the APPLEGATE: Christmas Carol/Holiday Sing-Along at the Applegate River Lodge
DESCRIPTION:One and all are invited and encouraged to attend a Christmas carol/holiday sing-along at the Applegate River Lodge\, 15100 Hwy 238\, Applegate\, on Sunday\, December 11\, at 3pm. VOICES of the APPLEGATE\, a community choir led by director Shayne Flock\, wants to thank Applegate area towns and Jacksonville for years of support\, and will be leading this event. Words and music are provided to allow your full participation in this family-friendly event. We hope you’ll love singing again\, and will consider joining our chorus when it begins rehearsals for winter term in January. We are eclectic in nature\, singing Bach to the Beatles and beyond\, require no auditions\, and rehearse 12 weeks for two concerts\, one in Applegate and one in Jacksonville. Come and join us for this hour-long sing\, rekindle your love of music\, and enjoy some light refreshments afterwards. To the season!
URL:https://jacksonvillecottages.com/event/voices-of-the-applegate-christmas-carol-holiday-sing-along-at-the-applegate-river-lodge/
LOCATION:Applegate River Lodge & Restaurant\, 15100 OR-238\, Applegate\, OR 97530\, USA
END:VEVENT
END:VCALENDAR