BEGIN:VCALENDAR
VERSION:2.0
PRODID:-//Jacksonville Cottages - Nightly &amp; Monthly Rentals in Jacksonville, Oregon - ECPv6.15.20//NONSGML v1.0//EN
CALSCALE:GREGORIAN
METHOD:PUBLISH
X-ORIGINAL-URL:https://jacksonvillecottages.com
X-WR-CALDESC:Events for Jacksonville Cottages - Nightly &amp; Monthly Rentals in Jacksonville, Oregon
REFRESH-INTERVAL;VALUE=DURATION:PT1H
X-Robots-Tag:noindex
X-PUBLISHED-TTL:PT1H
BEGIN:VTIMEZONE
TZID:America/Los_Angeles
BEGIN:DAYLIGHT
TZOFFSETFROM:-0800
TZOFFSETTO:-0700
TZNAME:PDT
DTSTART:20220313T100000
END:DAYLIGHT
BEGIN:STANDARD
TZOFFSETFROM:-0700
TZOFFSETTO:-0800
TZNAME:PST
DTSTART:20221106T090000
END:STANDARD
BEGIN:DAYLIGHT
TZOFFSETFROM:-0800
TZOFFSETTO:-0700
TZNAME:PDT
DTSTART:20230312T100000
END:DAYLIGHT
BEGIN:STANDARD
TZOFFSETFROM:-0700
TZOFFSETTO:-0800
TZNAME:PST
DTSTART:20231105T090000
END:STANDARD
BEGIN:DAYLIGHT
TZOFFSETFROM:-0800
TZOFFSETTO:-0700
TZNAME:PDT
DTSTART:20240310T100000
END:DAYLIGHT
BEGIN:STANDARD
TZOFFSETFROM:-0700
TZOFFSETTO:-0800
TZNAME:PST
DTSTART:20241103T090000
END:STANDARD
END:VTIMEZONE
BEGIN:VEVENT
DTSTART;TZID=America/Los_Angeles:20230131T140000
DTEND;TZID=America/Los_Angeles:20230131T153000
DTSTAMP:20260425T041330
CREATED:20220914T235014Z
LAST-MODIFIED:20230131T210416Z
UID:1339-1675173600-1675179000@jacksonvillecottages.com
SUMMARY:CT - Jville Shut Up & Write
DESCRIPTION:This program is sponsored by the Jacksonville Commmunity Center(JCC). JCC is a charitable 501(c)(3) non-profit organization. \nJacksonville Shut Up & Write \nJCC Cottage \nTuesdays \n10/4\, 10/11\, 10/18\, & 10/25 \n2:00 pm – 3:30 pm \n$5 Suggested Donation(scholarships available) \nPre-registration required.  \nhttps://jacksonvillecommunitycenter.org/eventer/jacksonville-shut-up-write-10-2022/edate/ \nDescription \nJacksonville is a community of writers! Schedule weekly time to write in the company of people who take writing seriously. Ours is the local chapter of an international non-profit called ‘Shut Up & Write’ which supports the advancement of writing of any kind to become more articulate and more creative. \n \nPresenter: Mike Bowman \nMike Bowman came to Oregon in 2005 after teaching high school in California for 10 years. While teaching reading for RCC\, he created and managed the education program for a local non-profit until coming to RVTD as Travel Trainer in 2011.
URL:https://jacksonvillecottages.com/event/ct-jville-shut-up-write-18/
END:VEVENT
BEGIN:VEVENT
DTSTART;TZID=America/Los_Angeles:20230131T180000
DTEND;TZID=America/Los_Angeles:20230131T190000
DTSTAMP:20260425T041330
CREATED:20230119T203610Z
LAST-MODIFIED:20230131T210416Z
UID:1966-1675188000-1675191600@jacksonvillecottages.com
SUMMARY:SOCAN Hosts ZOOM meeting with Senator Jeff Merkley
DESCRIPTION:Despite holding a bare minimum of control in both chambers\, during the last Congress Democrats managed to pass the Inflation Reduction Act\, the most ambitious legislation targeting the climate crisis ever signed into law.  However\, as we enter a two-year period with Republican climate deniers in charge of the House\, we now face the question of how we can continue and expand upon this climate action at the federal level. Oregon’s U.S. Senator Jeff Merkley will join an upcoming discussion to highlight continued opportunities for federal action\, particularly from the executive branch\, including implementing the legislation passed last Congress. \nAt our January monthly public general meeting\, on Tuesday January 31st at 6:00pm\, Southern Oregon Climate Action Now will host Oregon Senator Merkley to discuss: Expanding U.S. Climate Ambition in 2023. \nThere is no charge for joining the ZOOM meeting\, but participants should register at the link on the SOCAN calendar event: https://socan.eco
URL:https://jacksonvillecottages.com/event/socan-hosts-zoom-meeting-with-senator-jeff-merkley/
END:VEVENT
END:VCALENDAR