BEGIN:VCALENDAR
VERSION:2.0
PRODID:-//Jacksonville Cottages - Nightly &amp; Monthly Rentals in Jacksonville, Oregon - ECPv6.15.20//NONSGML v1.0//EN
CALSCALE:GREGORIAN
METHOD:PUBLISH
X-WR-CALNAME:Jacksonville Cottages - Nightly &amp; Monthly Rentals in Jacksonville, Oregon
X-ORIGINAL-URL:https://jacksonvillecottages.com
X-WR-CALDESC:Events for Jacksonville Cottages - Nightly &amp; Monthly Rentals in Jacksonville, Oregon
REFRESH-INTERVAL;VALUE=DURATION:PT1H
X-Robots-Tag:noindex
X-PUBLISHED-TTL:PT1H
BEGIN:VTIMEZONE
TZID:America/Los_Angeles
BEGIN:DAYLIGHT
TZOFFSETFROM:-0800
TZOFFSETTO:-0700
TZNAME:PDT
DTSTART:20220313T100000
END:DAYLIGHT
BEGIN:STANDARD
TZOFFSETFROM:-0700
TZOFFSETTO:-0800
TZNAME:PST
DTSTART:20221106T090000
END:STANDARD
BEGIN:DAYLIGHT
TZOFFSETFROM:-0800
TZOFFSETTO:-0700
TZNAME:PDT
DTSTART:20230312T100000
END:DAYLIGHT
BEGIN:STANDARD
TZOFFSETFROM:-0700
TZOFFSETTO:-0800
TZNAME:PST
DTSTART:20231105T090000
END:STANDARD
BEGIN:DAYLIGHT
TZOFFSETFROM:-0800
TZOFFSETTO:-0700
TZNAME:PDT
DTSTART:20240310T100000
END:DAYLIGHT
BEGIN:STANDARD
TZOFFSETFROM:-0700
TZOFFSETTO:-0800
TZNAME:PST
DTSTART:20241103T090000
END:STANDARD
END:VTIMEZONE
BEGIN:VEVENT
DTSTART;VALUE=DATE:20230210
DTEND;VALUE=DATE:20230221
DTSTAMP:20260423T035348
CREATED:20230131T210413Z
LAST-MODIFIED:20230220T220415Z
UID:1997-1675987200-1676937599@jacksonvillecottages.com
SUMMARY:"Enhance the Romance" Event in Jacksonville
DESCRIPTION:“Enhance the Romance” is an 11-day event designed to attract couples seeking that perfect overnight romantic getaway in our quaint historic town of Jacksonville. The event covers Valentine’s Day and extends to the weekends before and after\, as well as President’s Day. During this period\, participating Jacksonville businesses will commit to providing a “February 14%” discount on customer transactions\, or suitable alternative discount.”  \nHaven’t we all driven by the array of quaint lodging houses in Jacksonville and imagined what it would be like to stay there? Now’s the perfect time to experience the fantasy firsthand. Here’s the deal—contact any one (or more) of participating local lodgings and book one or more nights anytime between February 10th and 20th to receive 14% off the normal price. To further enhance an already sweet deal\, you’ll receive a special VIP card entitling you to 14% discounts at various stores\, restaurants\, spas\, and wineries.  Visit enhancetheromance.org to book your stay from a complete list of overnight options\, view participating businesses\, and plan the ideal experience.
URL:https://jacksonvillecottages.com/event/enhance-the-romance-event-in-jacksonville/
LOCATION:Jacksonville Oregon
END:VEVENT
END:VCALENDAR