BEGIN:VCALENDAR
VERSION:2.0
PRODID:-//Jacksonville Cottages - Nightly &amp; Monthly Rentals in Jacksonville, Oregon - ECPv6.15.20//NONSGML v1.0//EN
CALSCALE:GREGORIAN
METHOD:PUBLISH
X-WR-CALNAME:Jacksonville Cottages - Nightly &amp; Monthly Rentals in Jacksonville, Oregon
X-ORIGINAL-URL:https://jacksonvillecottages.com
X-WR-CALDESC:Events for Jacksonville Cottages - Nightly &amp; Monthly Rentals in Jacksonville, Oregon
REFRESH-INTERVAL;VALUE=DURATION:PT1H
X-Robots-Tag:noindex
X-PUBLISHED-TTL:PT1H
BEGIN:VTIMEZONE
TZID:America/Los_Angeles
BEGIN:DAYLIGHT
TZOFFSETFROM:-0800
TZOFFSETTO:-0700
TZNAME:PDT
DTSTART:20220313T100000
END:DAYLIGHT
BEGIN:STANDARD
TZOFFSETFROM:-0700
TZOFFSETTO:-0800
TZNAME:PST
DTSTART:20221106T090000
END:STANDARD
BEGIN:DAYLIGHT
TZOFFSETFROM:-0800
TZOFFSETTO:-0700
TZNAME:PDT
DTSTART:20230312T100000
END:DAYLIGHT
BEGIN:STANDARD
TZOFFSETFROM:-0700
TZOFFSETTO:-0800
TZNAME:PST
DTSTART:20231105T090000
END:STANDARD
BEGIN:DAYLIGHT
TZOFFSETFROM:-0800
TZOFFSETTO:-0700
TZNAME:PDT
DTSTART:20240310T100000
END:DAYLIGHT
BEGIN:STANDARD
TZOFFSETFROM:-0700
TZOFFSETTO:-0800
TZNAME:PST
DTSTART:20241103T090000
END:STANDARD
END:VTIMEZONE
BEGIN:VEVENT
DTSTART;TZID=America/Los_Angeles:20230310T080000
DTEND;TZID=America/Los_Angeles:20230310T140000
DTSTAMP:20260423T025056
CREATED:20230304T230532Z
LAST-MODIFIED:20230309T231937Z
UID:2257-1678435200-1678456800@jacksonvillecottages.com
SUMMARY:Jacksonville Presbyterian Church Youth Missions Yard Sale.
DESCRIPTION:Friday\, March 10\, 8am-6pm & Saturday\, March 11\, 8am-2pm: Jacksonville Presbyterian Church Youth Missions Yard Sale. Donation drop-off is March 8\, 9am-7pm.
URL:https://jacksonvillecottages.com/event/jacksonville-presbyterian-church-youth-missions-yard-sale/
LOCATION:Jacksonville Presbyterian Church\, 425 Middle St\, Jacksonville\, OR 97530\, USA
END:VEVENT
END:VCALENDAR