BEGIN:VCALENDAR
VERSION:2.0
PRODID:-//Jacksonville Cottages - Nightly &amp; Monthly Rentals in Jacksonville, Oregon - ECPv6.15.20//NONSGML v1.0//EN
CALSCALE:GREGORIAN
METHOD:PUBLISH
X-WR-CALNAME:Jacksonville Cottages - Nightly &amp; Monthly Rentals in Jacksonville, Oregon
X-ORIGINAL-URL:https://jacksonvillecottages.com
X-WR-CALDESC:Events for Jacksonville Cottages - Nightly &amp; Monthly Rentals in Jacksonville, Oregon
REFRESH-INTERVAL;VALUE=DURATION:PT1H
X-Robots-Tag:noindex
X-PUBLISHED-TTL:PT1H
BEGIN:VTIMEZONE
TZID:America/Los_Angeles
BEGIN:DAYLIGHT
TZOFFSETFROM:-0800
TZOFFSETTO:-0700
TZNAME:PDT
DTSTART:20220313T100000
END:DAYLIGHT
BEGIN:STANDARD
TZOFFSETFROM:-0700
TZOFFSETTO:-0800
TZNAME:PST
DTSTART:20221106T090000
END:STANDARD
BEGIN:DAYLIGHT
TZOFFSETFROM:-0800
TZOFFSETTO:-0700
TZNAME:PDT
DTSTART:20230312T100000
END:DAYLIGHT
BEGIN:STANDARD
TZOFFSETFROM:-0700
TZOFFSETTO:-0800
TZNAME:PST
DTSTART:20231105T090000
END:STANDARD
BEGIN:DAYLIGHT
TZOFFSETFROM:-0800
TZOFFSETTO:-0700
TZNAME:PDT
DTSTART:20240310T100000
END:DAYLIGHT
BEGIN:STANDARD
TZOFFSETFROM:-0700
TZOFFSETTO:-0800
TZNAME:PST
DTSTART:20241103T090000
END:STANDARD
END:VTIMEZONE
BEGIN:VEVENT
DTSTART;TZID=America/Los_Angeles:20230323T100000
DTEND;TZID=America/Los_Angeles:20230323T110000
DTSTAMP:20260423T025129
CREATED:20220708T172638Z
LAST-MODIFIED:20220913T234924Z
UID:207-1679565600-1679569200@jacksonvillecottages.com
SUMMARY:Tai Chi with Carolyn
DESCRIPTION:This program is sponsored by the Jacksonville Commmunity Center(JCC). JCC is a charitable 501(c)(3) non-profit organization. \nIndoor Location: Great Room \nOutdoor Location: Parking lot near the Jacksonville Cemetery entrance; Enter on West D St. \nThursdays (11/4\, 11/11\, 11/18\, (11/25 OFF) 12/2\, 12/9\, 12/16)) \n10:00 am – 11:00 am   \n$5 Fee (scholarships available) \nRegistration is strongly recommended.  \nPlease pre-register for each class\, as the location will be communicated via email at least an hour before class starts. \n \nhttps://jacksonvillecommunitycenter.org/eventer/tai-chi-with-carolyn-2/  \n \nPlease arrive 5-10 minutes early to fill out the necessary paperwork. \n \nPlease be advised: If a class needs to be cancelled or changed in some way\, registrants will receive an email at least an hour before class. Please check your email prior to attending our classes. \n \nPractice Tai Chi and relax while you tone and gently exercise your body. Tai Chi incorporates balance\, breathing\, and slow movements of the entire body while relaxing your mind. Tai Chi will gradually improve your posture\, balance\, flexibility and sense of well being by the continued practice of this Chinese art form. \nNew students can begin the class anytime.  \n \nAbout Carolyn \nCarolyn Wolf is a retired educator\, transplanted from California. For the past 12 years she has been studying and practicing Tai Chi and Qigong with her Sifu\, Estin Kiger\, here in the Rogue Valley. She has a Practice Leader Certificate from the Institute of Integral Qigong and Tai Chi\, and has been leading practice groups for six years. The rest of her life is consumed by gardening\, hiking and exploring beautiful Southern Oregon\, and creating one of a kind scrap quilts and fiber art. \n \nParticipant Requirements 8.27.2021
URL:https://jacksonvillecottages.com/event/tai-chi-with-carolyn-37/
END:VEVENT
BEGIN:VEVENT
DTSTART;TZID=America/Los_Angeles:20230323T170000
DTEND;TZID=America/Los_Angeles:20230323T200000
DTSTAMP:20260423T025129
CREATED:20230202T210554Z
LAST-MODIFIED:20230323T234915Z
UID:2038-1679590800-1679601600@jacksonvillecottages.com
SUMMARY:Magnolia Hotel Grand Re-Opening Celebration
DESCRIPTION:The public is invited to an open house to celebrate the re-opening of the renovated Magnolia Inn\, now the Magnolia Hotel. Over the last few months\, new owners\, Jeff and Nikki Bale\, have been busy converting the previous owner’s living area into three additional guest rooms\, opening walls and adding access for guests to the backyard. New hardwood floors\, wool carpet\, hemlock doors\, and beautiful furnishings will welcome travelers as they settle into this expansive\, yet cozy\, Spanish Revival property.\n \nJeff\, who spent over a decade leading operations at Redfin\, and Nikki\, a small business consultant\, have been remodeling and developing real estate for years. Coming from Bend\, they dreamt of overseeing a small hotel since they first started dating in college more than 20 years ago. The couple is thrilled to be joining the Jacksonville community and adding their own chapter to the storied history of the Magnolia.\n \nThe Magnolia Hotel will re-open in March. Jeff and Nikki would love for you to join them on Thursday\, March 23rd for a Grand Re-Opening celebration event from 5-8pm at 245 N. 5th Street. Everyone is invited to tour the rooms and enjoy some wine & cheese.
URL:https://jacksonvillecottages.com/event/magnolia-hotel-grand-re-opening-celebration/
LOCATION:Jacksonville’s Magnolia Inn\, 245 N 5th St\, Jacksonville\, OR 97530\, USA
END:VEVENT
END:VCALENDAR