BEGIN:VCALENDAR
VERSION:2.0
PRODID:-//Jacksonville Cottages - Nightly &amp; Monthly Rentals in Jacksonville, Oregon - ECPv6.15.20//NONSGML v1.0//EN
CALSCALE:GREGORIAN
METHOD:PUBLISH
X-ORIGINAL-URL:https://jacksonvillecottages.com
X-WR-CALDESC:Events for Jacksonville Cottages - Nightly &amp; Monthly Rentals in Jacksonville, Oregon
REFRESH-INTERVAL;VALUE=DURATION:PT1H
X-Robots-Tag:noindex
X-PUBLISHED-TTL:PT1H
BEGIN:VTIMEZONE
TZID:America/Los_Angeles
BEGIN:DAYLIGHT
TZOFFSETFROM:-0800
TZOFFSETTO:-0700
TZNAME:PDT
DTSTART:20220313T100000
END:DAYLIGHT
BEGIN:STANDARD
TZOFFSETFROM:-0700
TZOFFSETTO:-0800
TZNAME:PST
DTSTART:20221106T090000
END:STANDARD
BEGIN:DAYLIGHT
TZOFFSETFROM:-0800
TZOFFSETTO:-0700
TZNAME:PDT
DTSTART:20230312T100000
END:DAYLIGHT
BEGIN:STANDARD
TZOFFSETFROM:-0700
TZOFFSETTO:-0800
TZNAME:PST
DTSTART:20231105T090000
END:STANDARD
BEGIN:DAYLIGHT
TZOFFSETFROM:-0800
TZOFFSETTO:-0700
TZNAME:PDT
DTSTART:20240310T100000
END:DAYLIGHT
BEGIN:STANDARD
TZOFFSETFROM:-0700
TZOFFSETTO:-0800
TZNAME:PST
DTSTART:20241103T090000
END:STANDARD
END:VTIMEZONE
BEGIN:VEVENT
DTSTART;TZID=America/Los_Angeles:20230415T090000
DTEND;TZID=America/Los_Angeles:20230415T120000
DTSTAMP:20260423T001927
CREATED:20230401T234927Z
LAST-MODIFIED:20230415T001915Z
UID:2416-1681549200-1681560000@jacksonvillecottages.com
SUMMARY:Cemetery Marker Cleaning Workshop
DESCRIPTION:Marker Cleaning Workshop\, Saturday\, April 15\, 9am-noon—Please join us and learn the latest tools and techniques to safely clean and help preserve the many grave markers in our cemetery that are covered in moss\, lichen\, and dirt and have become difficult to read. This is a hands-on workshop\, so dress accordingly. Bring a stool to sit on while working\, plus sunscreen and a hat. Meet at the Sexton’s Tool House\, top of Cemetery Road\, for detailed instructions and to pick up cleaning tools and supplies.\n \nPlease see friendsjvillecemetery.org for information on future events and activities.
URL:https://jacksonvillecottages.com/event/cemetery-marker-cleaning-workshop-3/
LOCATION:Jacksonville Cemetery\, Cemetery Rd\, Jacksonville\, OR 97530\, USA
END:VEVENT
BEGIN:VEVENT
DTSTART;TZID=America/Los_Angeles:20230415T100000
DTEND;TZID=America/Los_Angeles:20230415T120000
DTSTAMP:20260423T001927
CREATED:20230222T223426Z
LAST-MODIFIED:20230415T001914Z
UID:2123-1681552800-1681560000@jacksonvillecottages.com
SUMMARY:Shooting Star Nursery Class: Promoting Privacy with Plants with Bonni
DESCRIPTION:April15th \,  10 am – ‘PromotingPrivacy with Plants’ with Bonni \nFeeling the needfor screening yourself in\, or something unsightly out\, without resorting to thestandard monoculture hedge?  Intrigued bythe concept of a garden ‘room’ or secret garden?  Come learn from plant expert and designer BonniEngelhardt\, about the best choices for a more natural looking mixed hedge orprivacy screen and how they can serve more than one purpose! Challengingsituations such as small or narrow spaces\, deer and fire restrictions will alsobe discussed.  Now is the time to getthat privacy hedgerow planned and planted so it is established before summersets in. \nLandscapers- thisclass qualifies for 2 hours of CEH credit \nRegistration fee-$15 or $25 per couple \n Spring 2023 Class schedule \nAll classes are located at the nurseryunless indicated otherwise\, and space is limited so please be sure to registeron our website: www.roguevalleynursery.com/class \nA minimum of 5 attendees is needed for aclass\, otherwise the class may be canceled. Maximum is usually 20 participants. \n 
URL:https://jacksonvillecottages.com/event/shooting-star-nursery-class-promoting-privacy-with-plants-with-bonni/
LOCATION:Shooting Star Nursery\, 3223 Taylor Rd\, Central Point\, OR 97502\, USA
END:VEVENT
END:VCALENDAR