BEGIN:VCALENDAR
VERSION:2.0
PRODID:-//Jacksonville Cottages - Nightly &amp; Monthly Rentals in Jacksonville, Oregon - ECPv6.15.20//NONSGML v1.0//EN
CALSCALE:GREGORIAN
METHOD:PUBLISH
X-ORIGINAL-URL:https://jacksonvillecottages.com
X-WR-CALDESC:Events for Jacksonville Cottages - Nightly &amp; Monthly Rentals in Jacksonville, Oregon
REFRESH-INTERVAL;VALUE=DURATION:PT1H
X-Robots-Tag:noindex
X-PUBLISHED-TTL:PT1H
BEGIN:VTIMEZONE
TZID:America/Los_Angeles
BEGIN:DAYLIGHT
TZOFFSETFROM:-0800
TZOFFSETTO:-0700
TZNAME:PDT
DTSTART:20220313T100000
END:DAYLIGHT
BEGIN:STANDARD
TZOFFSETFROM:-0700
TZOFFSETTO:-0800
TZNAME:PST
DTSTART:20221106T090000
END:STANDARD
BEGIN:DAYLIGHT
TZOFFSETFROM:-0800
TZOFFSETTO:-0700
TZNAME:PDT
DTSTART:20230312T100000
END:DAYLIGHT
BEGIN:STANDARD
TZOFFSETFROM:-0700
TZOFFSETTO:-0800
TZNAME:PST
DTSTART:20231105T090000
END:STANDARD
BEGIN:DAYLIGHT
TZOFFSETFROM:-0800
TZOFFSETTO:-0700
TZNAME:PDT
DTSTART:20240310T100000
END:DAYLIGHT
BEGIN:STANDARD
TZOFFSETFROM:-0700
TZOFFSETTO:-0800
TZNAME:PST
DTSTART:20241103T090000
END:STANDARD
END:VTIMEZONE
BEGIN:VEVENT
DTSTART;TZID=America/Los_Angeles:20230425T140000
DTEND;TZID=America/Los_Angeles:20230425T153000
DTSTAMP:20260423T024258
CREATED:20220914T235016Z
LAST-MODIFIED:20230425T003426Z
UID:1351-1682431200-1682436600@jacksonvillecottages.com
SUMMARY:CT - Jville Shut Up & Write
DESCRIPTION:This program is sponsored by the Jacksonville Commmunity Center(JCC). JCC is a charitable 501(c)(3) non-profit organization. \nJacksonville Shut Up & Write \nJCC Cottage \nTuesdays \n10/4\, 10/11\, 10/18\, & 10/25 \n2:00 pm – 3:30 pm \n$5 Suggested Donation(scholarships available) \nPre-registration required.  \nhttps://jacksonvillecommunitycenter.org/eventer/jacksonville-shut-up-write-10-2022/edate/ \nDescription \nJacksonville is a community of writers! Schedule weekly time to write in the company of people who take writing seriously. Ours is the local chapter of an international non-profit called ‘Shut Up & Write’ which supports the advancement of writing of any kind to become more articulate and more creative. \n \nPresenter: Mike Bowman \nMike Bowman came to Oregon in 2005 after teaching high school in California for 10 years. While teaching reading for RCC\, he created and managed the education program for a local non-profit until coming to RVTD as Travel Trainer in 2011.
URL:https://jacksonvillecottages.com/event/ct-jville-shut-up-write-30/
END:VEVENT
BEGIN:VEVENT
DTSTART;TZID=America/Los_Angeles:20230425T143000
DTEND;TZID=America/Los_Angeles:20230425T173000
DTSTAMP:20260423T024258
CREATED:20230316T233422Z
LAST-MODIFIED:20230425T003426Z
UID:2366-1682433000-1682443800@jacksonvillecottages.com
SUMMARY:Citizens Advisory Committee
DESCRIPTION:All meeting held at New City Hall Assembly Room (NCHAR) CITY COUNCIL: Tuesday\, April 4\, 6:00pmPLANNING COMMISSION MEETING: Wednesday\, April 5\, 6:00pmCITIZEN ADVISORY COMMITTEE: Tuesday\, April 11\, 2:30pmCITY COUNCIL WORK SESSION: Tuesday\, April 18\, noonHISTORIC & ARCHITECTURAL REVIEW COMMISSION (HARC): Wednesday\, April 19\, 5:00pmCITIZEN ADVISORY COMMITTEE: Tuesday\, April 25\, 2:30pm
URL:https://jacksonvillecottages.com/event/citizens-advisory-committee-17/
LOCATION:Jacksonville City Hall\, 206 N 5th St\, Jacksonville\, OR 97530\, USA
END:VEVENT
BEGIN:VEVENT
DTSTART;TZID=America/Los_Angeles:20230425T180000
DTEND;TZID=America/Los_Angeles:20230425T193000
DTSTAMP:20260423T024258
CREATED:20230413T000423Z
LAST-MODIFIED:20230426T003431Z
UID:2464-1682445600-1682451000@jacksonvillecottages.com
SUMMARY:SOCAN General Meeting - Salem 2023; What’s Up?
DESCRIPTION:Salem 2023; What’sUp?  \nThe April SOCAN General meeting – our first in-person meeting since theCOVID crisis – will feature members of the SOCAN Federal and State project teamreporting on which legislative proposals are alive\, which are not\, and whatclimate conscious Oregonians can do to help those proposals that deserve oursupport.   \nAfter a hard-fought race for Governor in 2022\, a campaign in which shehighlighted support for climate action\, Tina Kotek was triumphant against twocandidates who both campaigned against climate action. Although the climatecrisis is non-partisan\, the Democratic Party as a whole embraced climate actionwhile the opposition campaigned against it. The 2023 Legislative session inSalem reflects this dichotomy. By late April\, we’ll know which proposals have achance for passage\, and which have none; we will know which proposals aremoving and could use rural Oregonian help\, and which are not.  \nThe program will beheld at the Medford Public Library on Tuesday April 25th from 6:00to 7:30 pm.  There is no charge forattending.  
URL:https://jacksonvillecottages.com/event/socan-general-meeting-salem-2023-whats-up/
LOCATION:Jackson County Library Services – Medford\, 205 S Central Ave\, Medford\, OR 97501\, USA
END:VEVENT
END:VCALENDAR