BEGIN:VCALENDAR
VERSION:2.0
PRODID:-//Jacksonville Cottages - Nightly &amp; Monthly Rentals in Jacksonville, Oregon - ECPv6.15.20//NONSGML v1.0//EN
CALSCALE:GREGORIAN
METHOD:PUBLISH
X-ORIGINAL-URL:https://jacksonvillecottages.com
X-WR-CALDESC:Events for Jacksonville Cottages - Nightly &amp; Monthly Rentals in Jacksonville, Oregon
REFRESH-INTERVAL;VALUE=DURATION:PT1H
X-Robots-Tag:noindex
X-PUBLISHED-TTL:PT1H
BEGIN:VTIMEZONE
TZID:America/Los_Angeles
BEGIN:DAYLIGHT
TZOFFSETFROM:-0800
TZOFFSETTO:-0700
TZNAME:PDT
DTSTART:20220313T100000
END:DAYLIGHT
BEGIN:STANDARD
TZOFFSETFROM:-0700
TZOFFSETTO:-0800
TZNAME:PST
DTSTART:20221106T090000
END:STANDARD
BEGIN:DAYLIGHT
TZOFFSETFROM:-0800
TZOFFSETTO:-0700
TZNAME:PDT
DTSTART:20230312T100000
END:DAYLIGHT
BEGIN:STANDARD
TZOFFSETFROM:-0700
TZOFFSETTO:-0800
TZNAME:PST
DTSTART:20231105T090000
END:STANDARD
BEGIN:DAYLIGHT
TZOFFSETFROM:-0800
TZOFFSETTO:-0700
TZNAME:PDT
DTSTART:20240310T100000
END:DAYLIGHT
BEGIN:STANDARD
TZOFFSETFROM:-0700
TZOFFSETTO:-0800
TZNAME:PST
DTSTART:20241103T090000
END:STANDARD
END:VTIMEZONE
BEGIN:VEVENT
DTSTART;VALUE=DATE:20230506
DTEND;VALUE=DATE:20230507
DTSTAMP:20260423T001927
CREATED:20230131T210415Z
LAST-MODIFIED:20230506T023421Z
UID:2008-1683331200-1683417599@jacksonvillecottages.com
SUMMARY:2023 Southern Oregon Home Show
DESCRIPTION:www.buildso.com
URL:https://jacksonvillecottages.com/event/2023-southern-oregon-home-show/
LOCATION:Jackson County Expo\, 1 Peninger Rd\, Central Point\, OR 97502\, USA
END:VEVENT
BEGIN:VEVENT
DTSTART;TZID=America/Los_Angeles:20230506T090000
DTEND;TZID=America/Los_Angeles:20230506T140000
DTSTAMP:20260423T001927
CREATED:20230401T234928Z
LAST-MODIFIED:20230506T023421Z
UID:2423-1683363600-1683381600@jacksonvillecottages.com
SUMMARY:Jacksonville’s Wildfire Community Preparedness Day
DESCRIPTION:Wildfire Community PreparednessDay is a national Firewise campaign to raise awareness and reduce risks fromwildfires. Jacksonville is vulnerable to wildfires due to manyhomes being located in close proximity to woodlands and forests. Because ofsevere drought and upcoming extremely hot weather\, this summer and early fallpromise to be a bad year for severe wildfires.  \nJacksonville’s Wildfire Community Preparedness Day isSaturday\, May 6\, 9am-2pm in the D Street Parking lot. Residents of Jacksonville may bring branches and othervegetation to be chipped and disposed of by the Oregon Department of Forestry(ODF). Two dumpsters will be available\, one for small vegetation debris\, andone for debris that needs to be chipped. Members of the Jacksonville CommunityEmergency Response Team (CERT) coordinate and manage the event in conjunctionwith the Jacksonville Fire Department.  \nJacksonvillehas 32 Firewise neighborhoods: Westmont\, Gold Terrace\,Royal Mobile Estates\, Vineyard View\,Vintage\, G Street\, Valley Lane\, Jackson/Creekside\, North/South 3rd\, BrittGardens Neighborhood\, Rich Gulch\, Timber Ridge\, Applegate/Graham\, Hangman Way\,Pheasant Meadows\, Hill Street\, Brookview\, Wagon Trail\, Gold Terrace Heights\,Whippleville\, Applegate Fireflies JVille East\, Beekman Square\, Fire Station\, PonderosaWay\, S 4th St.\, Nunan Square\, Laurelwood Drive\, Stagecoach\, Chainsaw\, Coachman\,and Daisy Creek. \nPleasetake advantage of this opportunity to dispose of branches\, dead trees\, and deadshrubs found on your property. Removing dead vegetation and debris\,removing/trimming flammable trees and shrubs in close proximity to your homeand pruning tree limbs so that the lowest branches are 6 to 10 feet above theground will help protect your home from wildfire. \nIfyou have any questions\, please contact Linda Davis\, Jacksonville FirewiseCoordinator\, at lmdavis425@gmail.com\, or by phone at (541) 690-5688 or stop byyour Fire Department for more information. \n 
URL:https://jacksonvillecottages.com/event/jacksonvilles-wildfire-community-preparedness-day/
LOCATION:D Street Parking lot\, Jacksonville\, OR
END:VEVENT
BEGIN:VEVENT
DTSTART;TZID=America/Los_Angeles:20230506T090000
DTEND;TZID=America/Los_Angeles:20230506T150000
DTSTAMP:20260423T001927
CREATED:20230208T213431Z
LAST-MODIFIED:20230308T231927Z
UID:2060-1683363600-1683385200@jacksonvillecottages.com
SUMMARY:Jackson County Master Gardener™ Association 2023 Spring Garden Fair
DESCRIPTION:Jackson County Master Gardener™ Association 2023 Spring Garden Fair \n  \nGarden for Life \nMay 6\, 2023 9:00 to 3:00 \nAdmission is Free!  \n \nLocation:  SOREC Extension \n569 Hanley Road  \nCentral Point OR 97502 \n 
URL:https://jacksonvillecottages.com/event/jackson-county-master-gardener-association-2023-spring-garden-fair/
LOCATION:Southern Oregon Research & Extension Center\, 569 Hanley Rd\, Central Point\, OR 97502\, USA
END:VEVENT
BEGIN:VEVENT
DTSTART;TZID=America/Los_Angeles:20230506T090000
DTEND;TZID=America/Los_Angeles:20230506T150000
DTSTAMP:20260423T001927
CREATED:20230309T231939Z
LAST-MODIFIED:20230506T023421Z
UID:2283-1683363600-1683385200@jacksonvillecottages.com
SUMMARY:The Jackson County Master Gardener™ Association 2023 Spring Garden Fair
DESCRIPTION:The Jackson County Master Gardener™ Association is proud to announce the 2023 Spring Garden Fair on Saturday\, May 6\, from 9am-3pm\, at the OSU Extension\, 569 Hanley Road\, Central Point.  The largest gardening event in Southern Oregon\, this year marks the return of many perennial vendors who have stood by through the COVID years. Plant Clinic volunteers who can diagnose and advise solutions to gardening problems will be on hand\, as well.  The Native plant nursery will be selling a variety of native plants\, with other plants grown by student volunteers including vegetable plants and herbs. The propagation nursery will have a variety of ornamental plants available. Admission is free. For more information\, contact Sandy Hansen at 541-227-1358 or visit www.Jacksoncountymga.org.
URL:https://jacksonvillecottages.com/event/the-jackson-county-master-gardener-association-2023-spring-garden-fair/
LOCATION:OSU Extension\, 569 Hanley Road\, Central Point
END:VEVENT
BEGIN:VEVENT
DTSTART;TZID=America/Los_Angeles:20230506T100000
DTEND;TZID=America/Los_Angeles:20230506T120000
DTSTAMP:20260423T001927
CREATED:20230222T223427Z
LAST-MODIFIED:20230506T023421Z
UID:2127-1683367200-1683374400@jacksonvillecottages.com
SUMMARY:Shooting Star Nursery Class: Mother’s Day Kids Class
DESCRIPTION:May 6th\,10 am to noon (come anytime within the 2 hour window):  \nMother’sDay Kids Class \nMake Mom’s dayspecial and bring the kids to craft something from the heart and for thegarden. We will be painting pots\, with the kids choosing a plant to fill itwith. \nRegistration fee -$10 per child\, adults free  \n Spring 2023 Class schedule \nAll classes are located at the nurseryunless indicated otherwise\, and space is limited so please be sure to registeron our website: www.roguevalleynursery.com/class \nA minimum of 5 attendees is needed for aclass\, otherwise the class may be canceled. Maximum is usually 20 participants. \n 
URL:https://jacksonvillecottages.com/event/shooting-star-nursery-class-mothers-day-kids-class/
LOCATION:Shooting Star Nursery\, 3223 Taylor Rd\, Central Point\, OR 97502\, USA
END:VEVENT
END:VCALENDAR