BEGIN:VCALENDAR
VERSION:2.0
PRODID:-//Jacksonville Cottages - Nightly &amp; Monthly Rentals in Jacksonville, Oregon - ECPv6.15.20//NONSGML v1.0//EN
CALSCALE:GREGORIAN
METHOD:PUBLISH
X-ORIGINAL-URL:https://jacksonvillecottages.com
X-WR-CALDESC:Events for Jacksonville Cottages - Nightly &amp; Monthly Rentals in Jacksonville, Oregon
REFRESH-INTERVAL;VALUE=DURATION:PT1H
X-Robots-Tag:noindex
X-PUBLISHED-TTL:PT1H
BEGIN:VTIMEZONE
TZID:America/Los_Angeles
BEGIN:DAYLIGHT
TZOFFSETFROM:-0800
TZOFFSETTO:-0700
TZNAME:PDT
DTSTART:20220313T100000
END:DAYLIGHT
BEGIN:STANDARD
TZOFFSETFROM:-0700
TZOFFSETTO:-0800
TZNAME:PST
DTSTART:20221106T090000
END:STANDARD
BEGIN:DAYLIGHT
TZOFFSETFROM:-0800
TZOFFSETTO:-0700
TZNAME:PDT
DTSTART:20230312T100000
END:DAYLIGHT
BEGIN:STANDARD
TZOFFSETFROM:-0700
TZOFFSETTO:-0800
TZNAME:PST
DTSTART:20231105T090000
END:STANDARD
BEGIN:DAYLIGHT
TZOFFSETFROM:-0800
TZOFFSETTO:-0700
TZNAME:PDT
DTSTART:20240310T100000
END:DAYLIGHT
BEGIN:STANDARD
TZOFFSETFROM:-0700
TZOFFSETTO:-0800
TZNAME:PST
DTSTART:20241103T090000
END:STANDARD
END:VTIMEZONE
BEGIN:VEVENT
DTSTART;TZID=America/Los_Angeles:20230514T090000
DTEND;TZID=America/Los_Angeles:20230514T140000
DTSTAMP:20260422T230845
CREATED:20230502T003414Z
LAST-MODIFIED:20230514T024915Z
UID:2646-1684054800-1684072800@jacksonvillecottages.com
SUMMARY:Mother's Day Brunch at Bella Union
DESCRIPTION:Join us for some of your Bella favorites\, such as Eggs Belledict\, Cranberry French Toast\, & Hand Carved Certified Angus® Prime Rib – Includes Champagne\, mimosas\, cider\, & juice If you’d rather celebrate with dinner from 4-9pm — choose from pasta\, pizza\, or a selection from the Special Sheet\, including Certified Angus® Steaks
URL:https://jacksonvillecottages.com/event/mothers-day-brunch-at-bella-union/
LOCATION:Bella Union Restaurant\, 170 W California St #9237\, Jacksonville\, OR 97530\, USA
END:VEVENT
BEGIN:VEVENT
DTSTART;TZID=America/Los_Angeles:20230514T110000
DTEND;TZID=America/Los_Angeles:20230514T130000
DTSTAMP:20260422T230845
CREATED:20230502T003414Z
LAST-MODIFIED:20230514T024915Z
UID:2647-1684062000-1684069200@jacksonvillecottages.com
SUMMARY:EdenVale Winery 'Music and Mimosas' begins Mother's Day Weekend!
DESCRIPTION:‘Music and Mimosas’ begins Mother’s Day Weekend!Join us every Sunday this summer for Live Music from 11:00am-1:00pm\, starting off with Sarah Dion Brooks on May 14th! Mimosasand special plates will be available for purchase all summer for theperfect Sunday brunch! Musician schedule available on our website. www.edenvalewines.com (541) 512-2955
URL:https://jacksonvillecottages.com/event/edenvale-winery-music-and-mimosas-begins-mothers-day-weekend/
LOCATION:EdenVale Winery\, 2310 Voorhies Rd\, Medford\, OR 97501\, USA
END:VEVENT
BEGIN:VEVENT
DTSTART;TZID=America/Los_Angeles:20230514T110000
DTEND;TZID=America/Los_Angeles:20230514T170000
DTSTAMP:20260422T230845
CREATED:20230401T234929Z
LAST-MODIFIED:20230514T024915Z
UID:2427-1684062000-1684083600@jacksonvillecottages.com
SUMMARY:Mother's Day Celebration at Red Lily Vineyards
DESCRIPTION:Sunday\, May 14\, 11am-5pm: Mother’s Day Celebration at Red Lily Vineyards.\n \nTickets at redlilyvineyards.com
URL:https://jacksonvillecottages.com/event/mothers-day-celebration-at-red-lily-vineyards/
LOCATION:Red Lily Vineyards\, 11777 OR-238\, Jacksonville\, OR 97530\, USA
END:VEVENT
END:VCALENDAR