BEGIN:VCALENDAR
VERSION:2.0
PRODID:-//Jacksonville Cottages - Nightly &amp; Monthly Rentals in Jacksonville, Oregon - ECPv6.15.20//NONSGML v1.0//EN
CALSCALE:GREGORIAN
METHOD:PUBLISH
X-WR-CALNAME:Jacksonville Cottages - Nightly &amp; Monthly Rentals in Jacksonville, Oregon
X-ORIGINAL-URL:https://jacksonvillecottages.com
X-WR-CALDESC:Events for Jacksonville Cottages - Nightly &amp; Monthly Rentals in Jacksonville, Oregon
REFRESH-INTERVAL;VALUE=DURATION:PT1H
X-Robots-Tag:noindex
X-PUBLISHED-TTL:PT1H
BEGIN:VTIMEZONE
TZID:America/Los_Angeles
BEGIN:DAYLIGHT
TZOFFSETFROM:-0800
TZOFFSETTO:-0700
TZNAME:PDT
DTSTART:20220313T100000
END:DAYLIGHT
BEGIN:STANDARD
TZOFFSETFROM:-0700
TZOFFSETTO:-0800
TZNAME:PST
DTSTART:20221106T090000
END:STANDARD
BEGIN:DAYLIGHT
TZOFFSETFROM:-0800
TZOFFSETTO:-0700
TZNAME:PDT
DTSTART:20230312T100000
END:DAYLIGHT
BEGIN:STANDARD
TZOFFSETFROM:-0700
TZOFFSETTO:-0800
TZNAME:PST
DTSTART:20231105T090000
END:STANDARD
BEGIN:DAYLIGHT
TZOFFSETFROM:-0800
TZOFFSETTO:-0700
TZNAME:PDT
DTSTART:20240310T100000
END:DAYLIGHT
BEGIN:STANDARD
TZOFFSETFROM:-0700
TZOFFSETTO:-0800
TZNAME:PST
DTSTART:20241103T090000
END:STANDARD
END:VTIMEZONE
BEGIN:VEVENT
DTSTART;TZID=America/Los_Angeles:20230524T163000
DTEND;TZID=America/Los_Angeles:20230524T180000
DTSTAMP:20260422T230741
CREATED:20230408T000431Z
LAST-MODIFIED:20230524T030501Z
UID:2454-1684945800-1684951200@jacksonvillecottages.com
SUMMARY:Community Meeting: Citizens for a Safer Jacksonville - Stop the Speeders
DESCRIPTION:The community is invited toattend the first meeting of a newly-formed group\, Citizens for a SaferJacksonville\, which is hoping to stop the speeders. The meeting will be on Wednesday\,May 24 from 4:30-6:00 pm at the Naversen Room at the Jacksonville Library. The focus is currently on the speeding and safety issues facing pedestrians in Jacksonville.  \nMembers of the City Council andstaff are expected to be in attendance along with representatives of the policedepartment\, who are working closely with group leaders to identify\, prioritizeand develop safe and affordable solutions.    \nIf you want to join theendeavor\, have ideas about traffic safety to share\, or find out more\, please attendthis meeting\, designed as a Q & A between the community and our electedofficials to increase understanding and leading to an action plan of solutions.  \nFor questions\, please contactCindy Rasmussen at 510-406-3954\, or email her at oregongal@me.com or call Debra Herriott at 641-841-1444.
URL:https://jacksonvillecottages.com/event/community-meeting-citizens-for-a-safer-jacksonville-stop-the-speeders/
LOCATION:Naversen Room\, Jacksonville Library\, 340 W C St\, Jacksonville\, OR 97530\, USA
END:VEVENT
BEGIN:VEVENT
DTSTART;TZID=America/Los_Angeles:20230524T170000
DTEND;TZID=America/Los_Angeles:20230524T200000
DTSTAMP:20260422T230741
CREATED:20230418T001916Z
LAST-MODIFIED:20230524T030501Z
UID:2483-1684947600-1684958400@jacksonvillecottages.com
SUMMARY:HARC Meeting
DESCRIPTION:All meeting held at New City Hall Assembly Room (NCHAR) CITY COUNCIL: Tuesday\, May 2\, 6:00pmCITIZEN ADVISORY COMMITTEE:  Tuesday\, May 9\, 2:30pmPLANNING COMMISSION MEETING: Wednesday\, May 10\, 6:00pmCITY COUNCIL WORK SESSION: Tuesday\, May 16\, noonCITIZEN ADVISORY COMMITTEE:  Tuesday\, May 23\, 2:30pmHISTORIC & ARCHITECTURAL REVIEW COMMISSION (HARC): Wednesday\, May 24\, 5:00pm
URL:https://jacksonvillecottages.com/event/harc-meeting-10/
LOCATION:Jacksonville City Hall\, 206 N 5th St\, Jacksonville\, OR 97530\, USA
END:VEVENT
END:VCALENDAR