BEGIN:VCALENDAR
VERSION:2.0
PRODID:-//Jacksonville Cottages - Nightly &amp; Monthly Rentals in Jacksonville, Oregon - ECPv6.15.20//NONSGML v1.0//EN
CALSCALE:GREGORIAN
METHOD:PUBLISH
X-WR-CALNAME:Jacksonville Cottages - Nightly &amp; Monthly Rentals in Jacksonville, Oregon
X-ORIGINAL-URL:https://jacksonvillecottages.com
X-WR-CALDESC:Events for Jacksonville Cottages - Nightly &amp; Monthly Rentals in Jacksonville, Oregon
REFRESH-INTERVAL;VALUE=DURATION:PT1H
X-Robots-Tag:noindex
X-PUBLISHED-TTL:PT1H
BEGIN:VTIMEZONE
TZID:America/Los_Angeles
BEGIN:DAYLIGHT
TZOFFSETFROM:-0800
TZOFFSETTO:-0700
TZNAME:PDT
DTSTART:20220313T100000
END:DAYLIGHT
BEGIN:STANDARD
TZOFFSETFROM:-0700
TZOFFSETTO:-0800
TZNAME:PST
DTSTART:20221106T090000
END:STANDARD
BEGIN:DAYLIGHT
TZOFFSETFROM:-0800
TZOFFSETTO:-0700
TZNAME:PDT
DTSTART:20230312T100000
END:DAYLIGHT
BEGIN:STANDARD
TZOFFSETFROM:-0700
TZOFFSETTO:-0800
TZNAME:PST
DTSTART:20231105T090000
END:STANDARD
BEGIN:DAYLIGHT
TZOFFSETFROM:-0800
TZOFFSETTO:-0700
TZNAME:PDT
DTSTART:20240310T100000
END:DAYLIGHT
BEGIN:STANDARD
TZOFFSETFROM:-0700
TZOFFSETTO:-0800
TZNAME:PST
DTSTART:20241103T090000
END:STANDARD
END:VTIMEZONE
BEGIN:VEVENT
DTSTART;TZID=America/Los_Angeles:20230528T110000
DTEND;TZID=America/Los_Angeles:20230528T130000
DTSTAMP:20260422T151958
CREATED:20230502T003416Z
LAST-MODIFIED:20230528T030424Z
UID:2652-1685271600-1685278800@jacksonvillecottages.com
SUMMARY:EdenVale Winery 'Music and Mimosas'
DESCRIPTION:‘Music and Mimosas’ – Join us every Sunday this summer for Live Music from 11:00am-1:00pm Mimosas and special plates will be available for purchase all summer for the perfect Sunday brunch!  Musician schedule available on our website. www.edenvalewines.com (541) 512-2955
URL:https://jacksonvillecottages.com/event/edenvale-winery-music-and-mimosas-2/
LOCATION:EdenVale Winery\, 2310 Voorhies Rd\, Medford\, OR 97501\, USA
END:VEVENT
BEGIN:VEVENT
DTSTART;TZID=America/Los_Angeles:20230528T110000
DTEND;TZID=America/Los_Angeles:20230528T150000
DTSTAMP:20260422T151958
CREATED:20230427T003423Z
LAST-MODIFIED:20230528T030424Z
UID:2513-1685271600-1685286000@jacksonvillecottages.com
SUMMARY:Beekman Bank “Behind the Counter” Tours
DESCRIPTION:Saturdays and Sundays\, May 27 thru September 3\, 11am-3pm – “Behind the Counter” BeekmanBank Tours.   Step behind the counterof the oldest financial institution in the Pacific Northwest\, preserved as amuseum since 1915.  The Beekman Bank\,located at 110 W. California Street in Jacksonville\, saw over $40 million ingold cross its counters during Jacksonville’s heyday in the late 1800s—theequivalent of over $1 billion today. Interact with costumed docents sharing stories of late 19thCentury banking practices\, gold shipping\, and handshake deals.  Step behind the counter and peer in drawerscontaining old checks\, stage schedules\, and paperwork.  Enter the vault that stored all thosemillions in gold!  Admission is FREE butdonations are encouraged with all monies going towards the preservation andmaintenance of this historic legacy!  Additionalinformation is available at https://www.historicjacksonville.org/behind-the-counter-tours/. \n 
URL:https://jacksonvillecottages.com/event/beekman-bank-behind-the-counter-tours-20/
LOCATION:Beekman Bank 1863\, 110 W California St\, Jacksonville\, OR 97530\, USA
END:VEVENT
BEGIN:VEVENT
DTSTART;TZID=America/Los_Angeles:20230528T130000
DTEND;TZID=America/Los_Angeles:20230528T150000
DTSTAMP:20260422T151958
CREATED:20230502T003416Z
LAST-MODIFIED:20230528T030424Z
UID:2654-1685278800-1685286000@jacksonvillecottages.com
SUMMARY:Author Brenda Novak - “Bookstream”an Airstream Traveling Bookstore & Mini Coffee Shop
DESCRIPTION:AuthorBrenda Novak is on the road in her “Bookstream”—an Airstream TravelingBookstore & Mini Coffee Shop—for a national book tour to promote thepublication of her 75th book\, The Seaside Library. On Sunday May 28\,at 1pm\, Rebel Heart Books will be hosting her stop in Jacksonville\, at BighamKnoll where she will be in conversation with best-selling author Maisey Yates.Brenda will discuss The Seaside Library\, answer audience questions andsign books.  \nThe SeasideLibrary is set on a small island with pristine beaches\, an iconiclighthouse\, and a beautiful old library. Ivy\, Ariana\, and Cam grew up there andwere teenagers when a young girl went missing. Twenty years later they returnjust as new evidence emerges on the case\, calling into question everything thethree friends thought they knew and trusted.  \nBrenda is an award-winning New York Timesand USA TODAY bestselling author with more than nine million books inprint\, translated into twenty languages. She also runs Brenda Novak for theCure\, a charity to raise money for diabetes research (her youngest son hasdiabetes). To date\, she’s raised $2.6 million. \nMaisey Yates is a New York Timesbestselling author\, who has written over one hundred novels\, including domesticsuspense\, romantic westerns\, and multigenerational family sagas. Her next book\,One Little Spark\, will be released under the pseudonym Ellie Banks onMay 23\, 2023.  \nThe event is free toattend\, but RSVPs are encouraged. You can let us know you’re coming\, pre-purchasea signed and personalized copy of The Seaside Library\, or even purchasea VIP tour package including a “Bookstream” tote and matchingbookmark on Brenda’s website at https://brendanovakstore.com/products/booktour. \nFor moreinformation\, contact Eileen Bobek at Rebel Heart Books 541-702-2665\, 157 W.California Street in downtown Jacksonville. See ad below. \n 
URL:https://jacksonvillecottages.com/event/author-brenda-novak-bookstreaman-airstream-traveling-bookstore-mini-coffee-shop/
LOCATION:Bigham Knoll Campus\, 525 Bigham Knoll Dr\, Jacksonville\, OR 97530\, USA
END:VEVENT
END:VCALENDAR