BEGIN:VCALENDAR
VERSION:2.0
PRODID:-//Jacksonville Cottages - Nightly &amp; Monthly Rentals in Jacksonville, Oregon - ECPv6.15.20//NONSGML v1.0//EN
CALSCALE:GREGORIAN
METHOD:PUBLISH
X-ORIGINAL-URL:https://jacksonvillecottages.com
X-WR-CALDESC:Events for Jacksonville Cottages - Nightly &amp; Monthly Rentals in Jacksonville, Oregon
REFRESH-INTERVAL;VALUE=DURATION:PT1H
X-Robots-Tag:noindex
X-PUBLISHED-TTL:PT1H
BEGIN:VTIMEZONE
TZID:America/Los_Angeles
BEGIN:DAYLIGHT
TZOFFSETFROM:-0800
TZOFFSETTO:-0700
TZNAME:PDT
DTSTART:20220313T100000
END:DAYLIGHT
BEGIN:STANDARD
TZOFFSETFROM:-0700
TZOFFSETTO:-0800
TZNAME:PST
DTSTART:20221106T090000
END:STANDARD
BEGIN:DAYLIGHT
TZOFFSETFROM:-0800
TZOFFSETTO:-0700
TZNAME:PDT
DTSTART:20230312T100000
END:DAYLIGHT
BEGIN:STANDARD
TZOFFSETFROM:-0700
TZOFFSETTO:-0800
TZNAME:PST
DTSTART:20231105T090000
END:STANDARD
BEGIN:DAYLIGHT
TZOFFSETFROM:-0800
TZOFFSETTO:-0700
TZNAME:PDT
DTSTART:20240310T100000
END:DAYLIGHT
BEGIN:STANDARD
TZOFFSETFROM:-0700
TZOFFSETTO:-0800
TZNAME:PST
DTSTART:20241103T090000
END:STANDARD
END:VTIMEZONE
BEGIN:VEVENT
DTSTART;TZID=America/Los_Angeles:20230606T133000
DTEND;TZID=America/Los_Angeles:20230606T150000
DTSTAMP:20260422T152032
CREATED:20220708T172640Z
LAST-MODIFIED:20230606T031935Z
UID:222-1686058200-1686063600@jacksonvillecottages.com
SUMMARY:CT- Lets Create!
DESCRIPTION:JCC Cottage \n1st and 3rd Tuesdays \nTuesday\, January 4th and 18th \n1:30 pm- 3:00 pm \nDonations appreciated.  \nNo registration required.  \n\nDescription:  \nBring a project from home (knitting\, crocheting\, wreath making\, etc)  to work on while chatting \nwith neighbors\, learning new skills\, and making new friends! \n  \nParticipant Requirements 8.27.2021
URL:https://jacksonvillecottages.com/event/ct-lets-create-22/
END:VEVENT
BEGIN:VEVENT
DTSTART;TZID=America/Los_Angeles:20230606T140000
DTEND;TZID=America/Los_Angeles:20230606T153000
DTSTAMP:20260422T152032
CREATED:20220914T235017Z
LAST-MODIFIED:20230606T031935Z
UID:1357-1686060000-1686065400@jacksonvillecottages.com
SUMMARY:CT - Jville Shut Up & Write
DESCRIPTION:This program is sponsored by the Jacksonville Commmunity Center(JCC). JCC is a charitable 501(c)(3) non-profit organization. \nJacksonville Shut Up & Write \nJCC Cottage \nTuesdays \n10/4\, 10/11\, 10/18\, & 10/25 \n2:00 pm – 3:30 pm \n$5 Suggested Donation(scholarships available) \nPre-registration required.  \nhttps://jacksonvillecommunitycenter.org/eventer/jacksonville-shut-up-write-10-2022/edate/ \nDescription \nJacksonville is a community of writers! Schedule weekly time to write in the company of people who take writing seriously. Ours is the local chapter of an international non-profit called ‘Shut Up & Write’ which supports the advancement of writing of any kind to become more articulate and more creative. \n \nPresenter: Mike Bowman \nMike Bowman came to Oregon in 2005 after teaching high school in California for 10 years. While teaching reading for RCC\, he created and managed the education program for a local non-profit until coming to RVTD as Travel Trainer in 2011.
URL:https://jacksonvillecottages.com/event/ct-jville-shut-up-write-36/
END:VEVENT
BEGIN:VEVENT
DTSTART;TZID=America/Los_Angeles:20230606T143000
DTEND;TZID=America/Los_Angeles:20230606T173000
DTSTAMP:20260422T152032
CREATED:20230516T024945Z
LAST-MODIFIED:20230606T031936Z
UID:2719-1686061800-1686072600@jacksonvillecottages.com
SUMMARY:Citizens Advisory Committee
DESCRIPTION:All meeting held at New City Hall Assembly Room (NCHAR) CITIZEN ADVISORY COMMITTEE:  Tuesday\, June 6\, 2:30pm CITY COUNCIL: Tuesday\, June 6\, 6pmPLANNING COMMISSION MEETING: Wednesday\, June 7\, 6pmCITY COUNCIL WORK SESSION: Tuesday\, June 20\, noonCITIZEN ADVISORY COMMITTEE: Tuesday\, June 20\, 2:30pmHISTORIC & ARCHITECTURAL REVIEW COMMISSION (HARC): Wednesday\, June 21\, 5pm
URL:https://jacksonvillecottages.com/event/citizens-advisory-committee-20/
LOCATION:Jacksonville City Hall\, 206 N 5th St\, Jacksonville\, OR 97530\, USA
END:VEVENT
BEGIN:VEVENT
DTSTART;TZID=America/Los_Angeles:20230606T180000
DTEND;TZID=America/Los_Angeles:20230606T210000
DTSTAMP:20260422T152032
CREATED:20230516T024945Z
LAST-MODIFIED:20230607T031913Z
UID:2720-1686074400-1686085200@jacksonvillecottages.com
SUMMARY:City Council Meeting
DESCRIPTION:All meeting held at New City Hall Assembly Room (NCHAR) CITIZEN ADVISORY COMMITTEE:  Tuesday\, June 6\, 2:30pm CITY COUNCIL: Tuesday\, June 6\, 6pmPLANNING COMMISSION MEETING: Wednesday\, June 7\, 6pmCITY COUNCIL WORK SESSION: Tuesday\, June 20\, noonCITIZEN ADVISORY COMMITTEE: Tuesday\, June 20\, 2:30pmHISTORIC & ARCHITECTURAL REVIEW COMMISSION (HARC): Wednesday\, June 21\, 5pm
URL:https://jacksonvillecottages.com/event/city-council-meeting-9/
LOCATION:Jacksonville City Hall\, 206 N 5th St\, Jacksonville\, OR 97530\, USA
END:VEVENT
END:VCALENDAR