BEGIN:VCALENDAR
VERSION:2.0
PRODID:-//Jacksonville Cottages - Nightly &amp; Monthly Rentals in Jacksonville, Oregon - ECPv6.15.20//NONSGML v1.0//EN
CALSCALE:GREGORIAN
METHOD:PUBLISH
X-WR-CALNAME:Jacksonville Cottages - Nightly &amp; Monthly Rentals in Jacksonville, Oregon
X-ORIGINAL-URL:https://jacksonvillecottages.com
X-WR-CALDESC:Events for Jacksonville Cottages - Nightly &amp; Monthly Rentals in Jacksonville, Oregon
REFRESH-INTERVAL;VALUE=DURATION:PT1H
X-Robots-Tag:noindex
X-PUBLISHED-TTL:PT1H
BEGIN:VTIMEZONE
TZID:America/Los_Angeles
BEGIN:DAYLIGHT
TZOFFSETFROM:-0800
TZOFFSETTO:-0700
TZNAME:PDT
DTSTART:20220313T100000
END:DAYLIGHT
BEGIN:STANDARD
TZOFFSETFROM:-0700
TZOFFSETTO:-0800
TZNAME:PST
DTSTART:20221106T090000
END:STANDARD
BEGIN:DAYLIGHT
TZOFFSETFROM:-0800
TZOFFSETTO:-0700
TZNAME:PDT
DTSTART:20230312T100000
END:DAYLIGHT
BEGIN:STANDARD
TZOFFSETFROM:-0700
TZOFFSETTO:-0800
TZNAME:PST
DTSTART:20231105T090000
END:STANDARD
BEGIN:DAYLIGHT
TZOFFSETFROM:-0800
TZOFFSETTO:-0700
TZNAME:PDT
DTSTART:20240310T100000
END:DAYLIGHT
BEGIN:STANDARD
TZOFFSETFROM:-0700
TZOFFSETTO:-0800
TZNAME:PST
DTSTART:20241103T090000
END:STANDARD
END:VTIMEZONE
BEGIN:VEVENT
DTSTART;TZID=America/Los_Angeles:20230609T170000
DTEND;TZID=America/Los_Angeles:20230609T190000
DTSTAMP:20260422T203346
CREATED:20230524T030501Z
LAST-MODIFIED:20230609T031915Z
UID:2777-1686330000-1686337200@jacksonvillecottages.com
SUMMARY:Artist Reception for Karen Whitaker at Artist & Gardener.
DESCRIPTION:Friday\, June 9\, 5-7pm: Artist Reception for Karen Whitaker – at Artist & Gardener.
URL:https://jacksonvillecottages.com/event/artist-reception-for-karen-whitaker-at-artist-gardener/
LOCATION:Artist and Gardener\, 130 S 3rd St\, Jacksonville\, OR 97530\, USA
END:VEVENT
BEGIN:VEVENT
DTSTART;TZID=America/Los_Angeles:20230609T190000
DTEND;TZID=America/Los_Angeles:20230609T194500
DTSTAMP:20260422T203346
CREATED:20230524T030501Z
LAST-MODIFIED:20230609T031915Z
UID:2778-1686337200-1686339900@jacksonvillecottages.com
SUMMARY:Historic Jacksonville Haunted History Tours
DESCRIPTION:Historic Jacksonville Haunted History Tours.  Friday\, June 9 – Tours 7:00\, 7:15\, 7:30 & 7:45pm 2 different tours – 2 different times! Not your ordinary “ghost tours\,” but history tours about real hauntings resulting from past events! $10 per person – Tour group size limited Tickets and information at www.historicjacksonville.org/haunted-history-tours/
URL:https://jacksonvillecottages.com/event/historic-jacksonville-haunted-history-tours/
END:VEVENT
END:VCALENDAR