BEGIN:VCALENDAR
VERSION:2.0
PRODID:-//Jacksonville Cottages - Nightly &amp; Monthly Rentals in Jacksonville, Oregon - ECPv6.15.20//NONSGML v1.0//EN
CALSCALE:GREGORIAN
METHOD:PUBLISH
X-WR-CALNAME:Jacksonville Cottages - Nightly &amp; Monthly Rentals in Jacksonville, Oregon
X-ORIGINAL-URL:https://jacksonvillecottages.com
X-WR-CALDESC:Events for Jacksonville Cottages - Nightly &amp; Monthly Rentals in Jacksonville, Oregon
REFRESH-INTERVAL;VALUE=DURATION:PT1H
X-Robots-Tag:noindex
X-PUBLISHED-TTL:PT1H
BEGIN:VTIMEZONE
TZID:America/Los_Angeles
BEGIN:DAYLIGHT
TZOFFSETFROM:-0800
TZOFFSETTO:-0700
TZNAME:PDT
DTSTART:20220313T100000
END:DAYLIGHT
BEGIN:STANDARD
TZOFFSETFROM:-0700
TZOFFSETTO:-0800
TZNAME:PST
DTSTART:20221106T090000
END:STANDARD
BEGIN:DAYLIGHT
TZOFFSETFROM:-0800
TZOFFSETTO:-0700
TZNAME:PDT
DTSTART:20230312T100000
END:DAYLIGHT
BEGIN:STANDARD
TZOFFSETFROM:-0700
TZOFFSETTO:-0800
TZNAME:PST
DTSTART:20231105T090000
END:STANDARD
BEGIN:DAYLIGHT
TZOFFSETFROM:-0800
TZOFFSETTO:-0700
TZNAME:PDT
DTSTART:20240310T100000
END:DAYLIGHT
BEGIN:STANDARD
TZOFFSETFROM:-0700
TZOFFSETTO:-0800
TZNAME:PST
DTSTART:20241103T090000
END:STANDARD
END:VTIMEZONE
BEGIN:VEVENT
DTSTART;TZID=America/Los_Angeles:20230611T110000
DTEND;TZID=America/Los_Angeles:20230611T130000
DTSTAMP:20260422T152000
CREATED:20230502T003417Z
LAST-MODIFIED:20230611T031932Z
UID:2656-1686481200-1686488400@jacksonvillecottages.com
SUMMARY:EdenVale Winery 'Music and Mimosas'
DESCRIPTION:‘Music and Mimosas’ – Join us every Sunday this summer for Live Music from 11:00am-1:00pm Mimosas and special plates will be available for purchase all summer for the perfect Sunday brunch!  Musician schedule available on our website. www.edenvalewines.com (541) 512-2955
URL:https://jacksonvillecottages.com/event/edenvale-winery-music-and-mimosas-4/
LOCATION:EdenVale Winery\, 2310 Voorhies Rd\, Medford\, OR 97501\, USA
END:VEVENT
BEGIN:VEVENT
DTSTART;TZID=America/Los_Angeles:20230611T110000
DTEND;TZID=America/Los_Angeles:20230611T150000
DTSTAMP:20260422T152000
CREATED:20230427T003424Z
LAST-MODIFIED:20230611T031932Z
UID:2521-1686481200-1686495600@jacksonvillecottages.com
SUMMARY:Beekman Bank “Behind the Counter” Tours
DESCRIPTION:Saturdays and Sundays\, May 27 thru September 3\, 11am-3pm – “Behind the Counter” BeekmanBank Tours.   Step behind the counterof the oldest financial institution in the Pacific Northwest\, preserved as amuseum since 1915.  The Beekman Bank\,located at 110 W. California Street in Jacksonville\, saw over $40 million ingold cross its counters during Jacksonville’s heyday in the late 1800s—theequivalent of over $1 billion today. Interact with costumed docents sharing stories of late 19thCentury banking practices\, gold shipping\, and handshake deals.  Step behind the counter and peer in drawerscontaining old checks\, stage schedules\, and paperwork.  Enter the vault that stored all thosemillions in gold!  Admission is FREE butdonations are encouraged with all monies going towards the preservation andmaintenance of this historic legacy!  Additionalinformation is available at https://www.historicjacksonville.org/behind-the-counter-tours/. \n 
URL:https://jacksonvillecottages.com/event/beekman-bank-behind-the-counter-tours-24/
LOCATION:Beekman Bank 1863\, 110 W California St\, Jacksonville\, OR 97530\, USA
END:VEVENT
BEGIN:VEVENT
DTSTART;TZID=America/Los_Angeles:20230611T163000
DTEND;TZID=America/Los_Angeles:20230611T193000
DTSTAMP:20260422T152000
CREATED:20230316T233423Z
LAST-MODIFIED:20230611T031932Z
UID:2368-1686501000-1686511800@jacksonvillecottages.com
SUMMARY:J-ville Fork & Cork (Rotary BBQ)
DESCRIPTION:Jacksonville-Applegate Rotary’s 1st Annual BBQ ~Auction~Wine Raffle.  Come enjoy some live music\, tri-tip and fundraising at Dos Mariposas Vineyards & Lavender Farm.  Tickets are $50 per person – OR reserve a entire table for 6 @ $350 and 8 @ $450.   This is a reservation only event\,  there will not be tickets sold at the door.  Reserve NOW before it is sold out.  \nhttps://jacksonvilleapplegaterotary.org/jacksonville-fork-cork/ 
URL:https://jacksonvillecottages.com/event/j-ville-fork-cork-rotary-bbq/
LOCATION:Dos Mariposas Vineyards & Lavender\, 3976 Bellinger Ln\, Medford\, OR 97501\, USA
END:VEVENT
END:VCALENDAR