BEGIN:VCALENDAR
VERSION:2.0
PRODID:-//Jacksonville Cottages - Nightly &amp; Monthly Rentals in Jacksonville, Oregon - ECPv6.15.20//NONSGML v1.0//EN
CALSCALE:GREGORIAN
METHOD:PUBLISH
X-ORIGINAL-URL:https://jacksonvillecottages.com
X-WR-CALDESC:Events for Jacksonville Cottages - Nightly &amp; Monthly Rentals in Jacksonville, Oregon
REFRESH-INTERVAL;VALUE=DURATION:PT1H
X-Robots-Tag:noindex
X-PUBLISHED-TTL:PT1H
BEGIN:VTIMEZONE
TZID:America/Los_Angeles
BEGIN:DAYLIGHT
TZOFFSETFROM:-0800
TZOFFSETTO:-0700
TZNAME:PDT
DTSTART:20220313T100000
END:DAYLIGHT
BEGIN:STANDARD
TZOFFSETFROM:-0700
TZOFFSETTO:-0800
TZNAME:PST
DTSTART:20221106T090000
END:STANDARD
BEGIN:DAYLIGHT
TZOFFSETFROM:-0800
TZOFFSETTO:-0700
TZNAME:PDT
DTSTART:20230312T100000
END:DAYLIGHT
BEGIN:STANDARD
TZOFFSETFROM:-0700
TZOFFSETTO:-0800
TZNAME:PST
DTSTART:20231105T090000
END:STANDARD
BEGIN:DAYLIGHT
TZOFFSETFROM:-0800
TZOFFSETTO:-0700
TZNAME:PDT
DTSTART:20240310T100000
END:DAYLIGHT
BEGIN:STANDARD
TZOFFSETFROM:-0700
TZOFFSETTO:-0800
TZNAME:PST
DTSTART:20241103T090000
END:STANDARD
END:VTIMEZONE
BEGIN:VEVENT
DTSTART;TZID=America/Los_Angeles:20230627T140000
DTEND;TZID=America/Los_Angeles:20230627T153000
DTSTAMP:20260422T152023
CREATED:20220914T235018Z
LAST-MODIFIED:20230627T040418Z
UID:1360-1687874400-1687879800@jacksonvillecottages.com
SUMMARY:CT - Jville Shut Up & Write
DESCRIPTION:This program is sponsored by the Jacksonville Commmunity Center(JCC). JCC is a charitable 501(c)(3) non-profit organization. \nJacksonville Shut Up & Write \nJCC Cottage \nTuesdays \n10/4\, 10/11\, 10/18\, & 10/25 \n2:00 pm – 3:30 pm \n$5 Suggested Donation(scholarships available) \nPre-registration required.  \nhttps://jacksonvillecommunitycenter.org/eventer/jacksonville-shut-up-write-10-2022/edate/ \nDescription \nJacksonville is a community of writers! Schedule weekly time to write in the company of people who take writing seriously. Ours is the local chapter of an international non-profit called ‘Shut Up & Write’ which supports the advancement of writing of any kind to become more articulate and more creative. \n \nPresenter: Mike Bowman \nMike Bowman came to Oregon in 2005 after teaching high school in California for 10 years. While teaching reading for RCC\, he created and managed the education program for a local non-profit until coming to RVTD as Travel Trainer in 2011.
URL:https://jacksonvillecottages.com/event/ct-jville-shut-up-write-39/
END:VEVENT
BEGIN:VEVENT
DTSTART;TZID=America/Los_Angeles:20230627T180000
DTEND;TZID=America/Los_Angeles:20230627T190000
DTSTAMP:20260422T152023
CREATED:20230606T031935Z
LAST-MODIFIED:20230627T040418Z
UID:2838-1687888800-1687892400@jacksonvillecottages.com
SUMMARY:SOCAN Monthly General Meeting - 'Divest Oregon'
DESCRIPTION:The Southern Oregon Climate Action Now monthly general meeting in June will focus on the efforts of Divest Oregon to bring the Treasury more in line with the wishes of the majority of Oregon citizens.  The program will feature Rory Cowal from Divest Oregon who will discuss the reasons for divestment\, the efforts of Divest Oregon to achieve it\, what the next steps will be subsequent to the failure of HB2601 during the 2023 session\, and what we can do individually to invest conscientiously. \n  \nThe program will be on Tuesday\, June 27th from 6:00 – 7:00 via ZOOM.  There is no charge for joining the ZOOM meeting\, but participants must register at the link on the SOCAN calendar event. https://socan.eco/divest-together @divestoregon #ORClimateAction #orpol #divest
URL:https://jacksonvillecottages.com/event/socan-monthly-general-meeting-divest-oregon/
LOCATION:zoom meeting
END:VEVENT
END:VCALENDAR