BEGIN:VCALENDAR
VERSION:2.0
PRODID:-//Jacksonville Cottages - Nightly &amp; Monthly Rentals in Jacksonville, Oregon - ECPv6.15.20//NONSGML v1.0//EN
CALSCALE:GREGORIAN
METHOD:PUBLISH
X-ORIGINAL-URL:https://jacksonvillecottages.com
X-WR-CALDESC:Events for Jacksonville Cottages - Nightly &amp; Monthly Rentals in Jacksonville, Oregon
REFRESH-INTERVAL;VALUE=DURATION:PT1H
X-Robots-Tag:noindex
X-PUBLISHED-TTL:PT1H
BEGIN:VTIMEZONE
TZID:America/Los_Angeles
BEGIN:DAYLIGHT
TZOFFSETFROM:-0800
TZOFFSETTO:-0700
TZNAME:PDT
DTSTART:20220313T100000
END:DAYLIGHT
BEGIN:STANDARD
TZOFFSETFROM:-0700
TZOFFSETTO:-0800
TZNAME:PST
DTSTART:20221106T090000
END:STANDARD
BEGIN:DAYLIGHT
TZOFFSETFROM:-0800
TZOFFSETTO:-0700
TZNAME:PDT
DTSTART:20230312T100000
END:DAYLIGHT
BEGIN:STANDARD
TZOFFSETFROM:-0700
TZOFFSETTO:-0800
TZNAME:PST
DTSTART:20231105T090000
END:STANDARD
BEGIN:DAYLIGHT
TZOFFSETFROM:-0800
TZOFFSETTO:-0700
TZNAME:PDT
DTSTART:20240310T100000
END:DAYLIGHT
BEGIN:STANDARD
TZOFFSETFROM:-0700
TZOFFSETTO:-0800
TZNAME:PST
DTSTART:20241103T090000
END:STANDARD
END:VTIMEZONE
BEGIN:VEVENT
DTSTART;TZID=America/Los_Angeles:20230709T110000
DTEND;TZID=America/Los_Angeles:20230709T130000
DTSTAMP:20260422T152117
CREATED:20230502T003419Z
LAST-MODIFIED:20230709T043439Z
UID:2660-1688900400-1688907600@jacksonvillecottages.com
SUMMARY:EdenVale Winery 'Music and Mimosas'
DESCRIPTION:‘Music and Mimosas’ – Join us every Sunday this summer for Live Music from 11:00am-1:00pm Mimosas and special plates will be available for purchase all summer for the perfect Sunday brunch!  Musician schedule available on our website. www.edenvalewines.com (541) 512-2955
URL:https://jacksonvillecottages.com/event/edenvale-winery-music-and-mimosas-8/
LOCATION:EdenVale Winery\, 2310 Voorhies Rd\, Medford\, OR 97501\, USA
END:VEVENT
BEGIN:VEVENT
DTSTART;TZID=America/Los_Angeles:20230709T110000
DTEND;TZID=America/Los_Angeles:20230709T150000
DTSTAMP:20260422T152117
CREATED:20230427T003426Z
LAST-MODIFIED:20230709T043439Z
UID:2537-1688900400-1688914800@jacksonvillecottages.com
SUMMARY:Beekman Bank “Behind the Counter” Tours
DESCRIPTION:Saturdays and Sundays\, May 27 thru September 3\, 11am-3pm – “Behind the Counter” BeekmanBank Tours.   Step behind the counterof the oldest financial institution in the Pacific Northwest\, preserved as amuseum since 1915.  The Beekman Bank\,located at 110 W. California Street in Jacksonville\, saw over $40 million ingold cross its counters during Jacksonville’s heyday in the late 1800s—theequivalent of over $1 billion today. Interact with costumed docents sharing stories of late 19thCentury banking practices\, gold shipping\, and handshake deals.  Step behind the counter and peer in drawerscontaining old checks\, stage schedules\, and paperwork.  Enter the vault that stored all thosemillions in gold!  Admission is FREE butdonations are encouraged with all monies going towards the preservation andmaintenance of this historic legacy!  Additionalinformation is available at https://www.historicjacksonville.org/behind-the-counter-tours/. \n 
URL:https://jacksonvillecottages.com/event/beekman-bank-behind-the-counter-tours-32/
LOCATION:Beekman Bank 1863\, 110 W California St\, Jacksonville\, OR 97530\, USA
END:VEVENT
BEGIN:VEVENT
DTSTART;TZID=America/Los_Angeles:20230709T163000
DTEND;TZID=America/Los_Angeles:20230709T203000
DTSTAMP:20260422T152117
CREATED:20230630T041918Z
LAST-MODIFIED:20230709T043439Z
UID:2971-1688920200-1688934600@jacksonvillecottages.com
SUMMARY:Storytelling Guild's 57th Annual Children’s Festival
DESCRIPTION:Everyone likes to play games and Fred is no exception. He likes all games but especially ones he can play with friends like you! Whether it’s sports\, chess\, or video games\, Fred is always up for some friendly competition. With that\, we are excited to reveal this year’s Children’s Festival theme…GAME ON! \nThis innovative 3-day event held at Britt Gardens in Jacksonville will bring out the creativity of both the young and young at heart as it has for generations. Be prepared for lots of hands-on fun with over 30 arts & crafts booths including\, clay\, face painting\, science\, gold panning\, leather\, carpentry\, storytelling\, child-focused stage performances\, and much\, much more! You won't want to miss these fun filled days of affordable family entertainment! \nThe Storytelling Guild proudly presents their 57th Annual Children’s Festival\, Saturday-Monday\, July 8-10\, at Britt Gardens:• Saturday\, July 8\, 4:30-8:30pm• Sunday\, July 9\, 4:30-8:30pm• Monday\, July 10\, 9:30am-1:00pm \nAdmission to the Children's Festival is only $3 per person. Children and parents can enjoy over 30 hands-on arts\, crafts\, and science projects (all included with the price of admission). In addition to our fun hands-on projects\, you can sit back and enjoy child-focused entertainment and stage performers! Food will be available for purchase at Dragon Deli\, and families are always welcome to bring a picnic from home. You won't want to miss our popular litter-eating and recycling Dragons\, Rosabelle and Pebbles! \nAll admission and food sales benefit The Storytelling Guild\, a non-profit organization. For more information\, see storytellingguild.org and follow us on Facebook\, Instagram and Twitter for updates on booths\, performances\, volunteer opportunities\, and chances to win free tickets!
URL:https://jacksonvillecottages.com/event/storytelling-guilds-57th-annual-childrens-festival-2/
LOCATION:Britt Festival Pavilion\, 350 S 1st St\, Jacksonville\, OR 97530\, USA
END:VEVENT
END:VCALENDAR