BEGIN:VCALENDAR
VERSION:2.0
PRODID:-//Jacksonville Cottages - Nightly &amp; Monthly Rentals in Jacksonville, Oregon - ECPv6.15.20//NONSGML v1.0//EN
CALSCALE:GREGORIAN
METHOD:PUBLISH
X-WR-CALNAME:Jacksonville Cottages - Nightly &amp; Monthly Rentals in Jacksonville, Oregon
X-ORIGINAL-URL:https://jacksonvillecottages.com
X-WR-CALDESC:Events for Jacksonville Cottages - Nightly &amp; Monthly Rentals in Jacksonville, Oregon
REFRESH-INTERVAL;VALUE=DURATION:PT1H
X-Robots-Tag:noindex
X-PUBLISHED-TTL:PT1H
BEGIN:VTIMEZONE
TZID:America/Los_Angeles
BEGIN:DAYLIGHT
TZOFFSETFROM:-0800
TZOFFSETTO:-0700
TZNAME:PDT
DTSTART:20220313T100000
END:DAYLIGHT
BEGIN:STANDARD
TZOFFSETFROM:-0700
TZOFFSETTO:-0800
TZNAME:PST
DTSTART:20221106T090000
END:STANDARD
BEGIN:DAYLIGHT
TZOFFSETFROM:-0800
TZOFFSETTO:-0700
TZNAME:PDT
DTSTART:20230312T100000
END:DAYLIGHT
BEGIN:STANDARD
TZOFFSETFROM:-0700
TZOFFSETTO:-0800
TZNAME:PST
DTSTART:20231105T090000
END:STANDARD
BEGIN:DAYLIGHT
TZOFFSETFROM:-0800
TZOFFSETTO:-0700
TZNAME:PDT
DTSTART:20240310T100000
END:DAYLIGHT
BEGIN:STANDARD
TZOFFSETFROM:-0700
TZOFFSETTO:-0800
TZNAME:PST
DTSTART:20241103T090000
END:STANDARD
END:VTIMEZONE
BEGIN:VEVENT
DTSTART;TZID=America/Los_Angeles:20230710T093000
DTEND;TZID=America/Los_Angeles:20230710T130000
DTSTAMP:20260424T024459
CREATED:20230630T041918Z
LAST-MODIFIED:20230709T043439Z
UID:2972-1688981400-1688994000@jacksonvillecottages.com
SUMMARY:Storytelling Guild's 57th Annual Children’s Festival
DESCRIPTION:Everyone likes to play games and Fred is no exception. He likes all games but especially ones he can play with friends like you! Whether it’s sports\, chess\, or video games\, Fred is always up for some friendly competition. With that\, we are excited to reveal this year’s Children’s Festival theme…GAME ON! \nThis innovative 3-day event held at Britt Gardens in Jacksonville will bring out the creativity of both the young and young at heart as it has for generations. Be prepared for lots of hands-on fun with over 30 arts & crafts booths including\, clay\, face painting\, science\, gold panning\, leather\, carpentry\, storytelling\, child-focused stage performances\, and much\, much more! You won't want to miss these fun filled days of affordable family entertainment! \nThe Storytelling Guild proudly presents their 57th Annual Children’s Festival\, Saturday-Monday\, July 8-10\, at Britt Gardens:• Saturday\, July 8\, 4:30-8:30pm• Sunday\, July 9\, 4:30-8:30pm• Monday\, July 10\, 9:30am-1:00pm \nAdmission to the Children's Festival is only $3 per person. Children and parents can enjoy over 30 hands-on arts\, crafts\, and science projects (all included with the price of admission). In addition to our fun hands-on projects\, you can sit back and enjoy child-focused entertainment and stage performers! Food will be available for purchase at Dragon Deli\, and families are always welcome to bring a picnic from home. You won't want to miss our popular litter-eating and recycling Dragons\, Rosabelle and Pebbles! \nAll admission and food sales benefit The Storytelling Guild\, a non-profit organization. For more information\, see storytellingguild.org and follow us on Facebook\, Instagram and Twitter for updates on booths\, performances\, volunteer opportunities\, and chances to win free tickets!
URL:https://jacksonvillecottages.com/event/storytelling-guilds-57th-annual-childrens-festival-3/
LOCATION:Britt Festival Pavilion\, 350 S 1st St\, Jacksonville\, OR 97530\, USA
END:VEVENT
END:VCALENDAR