BEGIN:VCALENDAR
VERSION:2.0
PRODID:-//Jacksonville Cottages - Nightly &amp; Monthly Rentals in Jacksonville, Oregon - ECPv6.15.20//NONSGML v1.0//EN
CALSCALE:GREGORIAN
METHOD:PUBLISH
X-ORIGINAL-URL:https://jacksonvillecottages.com
X-WR-CALDESC:Events for Jacksonville Cottages - Nightly &amp; Monthly Rentals in Jacksonville, Oregon
REFRESH-INTERVAL;VALUE=DURATION:PT1H
X-Robots-Tag:noindex
X-PUBLISHED-TTL:PT1H
BEGIN:VTIMEZONE
TZID:America/Los_Angeles
BEGIN:DAYLIGHT
TZOFFSETFROM:-0800
TZOFFSETTO:-0700
TZNAME:PDT
DTSTART:20220313T100000
END:DAYLIGHT
BEGIN:STANDARD
TZOFFSETFROM:-0700
TZOFFSETTO:-0800
TZNAME:PST
DTSTART:20221106T090000
END:STANDARD
BEGIN:DAYLIGHT
TZOFFSETFROM:-0800
TZOFFSETTO:-0700
TZNAME:PDT
DTSTART:20230312T100000
END:DAYLIGHT
BEGIN:STANDARD
TZOFFSETFROM:-0700
TZOFFSETTO:-0800
TZNAME:PST
DTSTART:20231105T090000
END:STANDARD
BEGIN:DAYLIGHT
TZOFFSETFROM:-0800
TZOFFSETTO:-0700
TZNAME:PDT
DTSTART:20240310T100000
END:DAYLIGHT
BEGIN:STANDARD
TZOFFSETFROM:-0700
TZOFFSETTO:-0800
TZNAME:PST
DTSTART:20241103T090000
END:STANDARD
END:VTIMEZONE
BEGIN:VEVENT
DTSTART;VALUE=DATE:20230714
DTEND;VALUE=DATE:20230717
DTSTAMP:20260422T152118
CREATED:20230523T030424Z
LAST-MODIFIED:20230716T234913Z
UID:2758-1689292800-1689551999@jacksonvillecottages.com
SUMMARY:Southern Oregon Lavender Trail: Lavender Festival Weekend
DESCRIPTION:Southern Oregon Lavender Trail: Lavender Festival Weekend\n \nSummer’s Spectacular Lavender Blooms—Every June and July\, visitors are drawn to the stunning\, multi-sensory experience that our Jacksonville area lavender farms provide. The soft fragrance\, the fields of fierce violet\, along with the many colorful bumblebees and butterflies make the experience worth celebrating. But it only lasts 6 to 8 weeks\, so… you have to pay attention. \nLuckily\, the Southern Oregon Lavender Trail (southernoregonlavendertrail.com) schedules two lavender festivals to make it easy to remember when all that beauty is happening. This year’s lavender festival dates are Friday\, June 23 through Sunday\, June 25 and Friday\, July 14 through Sunday\, July 16—hours are 10am to 5pm on festival days. \nEach farm has different activities and events planned for the lavender festival days. They often include U-Cut fresh lavender bouquets\, food\, drinks\, snacks\, local artisans\, local wineries and live music. Check each farm’s social media page for the full details of what they have planned. Admission to both festivals is free and this year there are six lavender farms and nurseries participating: \n  \nApplegate River Lavender Farm \n375 Hamilton Road\, Jacksonville \n541-702-2250\, applegateriverlavender.com \n  \nDos Mariposas Vineyards & Lavender \n3976 Bellinger Ln\, Medford\, 541-224-7881 \ndosmariposasvineyards.com/lavender \nGoodwin Creek Gardens \n970 Cedar Flat Road\, Williams \n541-846-7357\, goodwincreekgardens.com \n  \nKingfisher Farm \n7717 Upper Applegate Road\, Jacksonville \n541-702-2019\, kingfisherlavenderfarm.com \n  \nLavender Ally Farm \n5734 Pleasant Creek Road\, Rogue River \n541 582-8998\, lavenderally.com \n  \nThe English Lavender Farm \n8040 Thompson Creek Rd\, Applegate \n541-846-0375\, englishlavenderfarm.com \n  \nDownload a festival map and description of each farm at southernoregonlavendertrail.com.
URL:https://jacksonvillecottages.com/event/southern-oregon-lavender-trail-lavender-festival-weekend-2/
END:VEVENT
BEGIN:VEVENT
DTSTART;TZID=America/Los_Angeles:20230715T090000
DTEND;TZID=America/Los_Angeles:20230715T120000
DTSTAMP:20260422T152119
CREATED:20230630T041919Z
LAST-MODIFIED:20230715T184912Z
UID:2979-1689411600-1689422400@jacksonvillecottages.com
SUMMARY:Cemetery Marker Cleaning Workshop
DESCRIPTION:Marker Cleaning Workshop\, Saturday\, July 15\, 9am-noon—Please join us and learn to safely clean and help preserve the many grave markers in our cemetery that are covered in moss\, lichen\, and dirt and have become difficult to read. This is a hands-on workshop\, so dress accordingly. Bring a stool to sit on\, sunscreen and a hat. Meet at the Sexton’s Tool House\, top of Cemetery Road near the flagpole\, for detailed instructions and to pick up cleaning tools and supplies. Parking within the cemetery grounds.\nPlease check our website at friendsjvillecemetery.org for future events and activities.
URL:https://jacksonvillecottages.com/event/cemetery-marker-cleaning-workshop-5/
LOCATION:Jacksonville Cemetery\, Cemetery Rd\, Jacksonville\, OR 97530\, USA
END:VEVENT
BEGIN:VEVENT
DTSTART;TZID=America/Los_Angeles:20230715T100000
DTEND;TZID=America/Los_Angeles:20230715T110000
DTSTAMP:20260422T152119
CREATED:20230427T003426Z
LAST-MODIFIED:20230715T173433Z
UID:2538-1689415200-1689418800@jacksonvillecottages.com
SUMMARY:“Walk through Jacksonville History” Tours
DESCRIPTION:Saturdays\,May 27 thru September 2\, 10am – “Walk through Jacksonville History” Tours.  Stretch your legs in the comfort of morning temperatureswhile learning a little Jacksonville\, Oregon history!  Hear how gambling money built a church; howthe Civil War ended a successful mercantile partnership; how a saloon housedthe county’s first museum; how fire reshaped the town; and how a railroad bothdestroyed the town and preserved it. Join Historic Jacksonville\, Inc. at 10am at Jacksonville’s New City Hallat 206 North 5th Street for a combination of exercise\, education\, andentertainment!  The tour covers about 1mile and lasts about 1 hour.  The tour isFREE\, but donations are always welcomed—all monies go towards maintaining andpreserving historic buildings seen on the tour. Additional information is available at https://www.historicjacksonville.org/walk-through-history/. 
URL:https://jacksonvillecottages.com/event/walk-through-jacksonville-history-tours-8/
LOCATION:Jacksonville City Hall\, 206 N 5th St\, Jacksonville\, OR 97530\, USA
END:VEVENT
BEGIN:VEVENT
DTSTART;TZID=America/Los_Angeles:20230715T110000
DTEND;TZID=America/Los_Angeles:20230715T150000
DTSTAMP:20260422T152119
CREATED:20230427T003426Z
LAST-MODIFIED:20230715T214919Z
UID:2539-1689418800-1689433200@jacksonvillecottages.com
SUMMARY:Beekman Bank “Behind the Counter” Tours
DESCRIPTION:Saturdays and Sundays\, May 27 thru September 3\, 11am-3pm – “Behind the Counter” BeekmanBank Tours.   Step behind the counterof the oldest financial institution in the Pacific Northwest\, preserved as amuseum since 1915.  The Beekman Bank\,located at 110 W. California Street in Jacksonville\, saw over $40 million ingold cross its counters during Jacksonville’s heyday in the late 1800s—theequivalent of over $1 billion today. Interact with costumed docents sharing stories of late 19thCentury banking practices\, gold shipping\, and handshake deals.  Step behind the counter and peer in drawerscontaining old checks\, stage schedules\, and paperwork.  Enter the vault that stored all thosemillions in gold!  Admission is FREE butdonations are encouraged with all monies going towards the preservation andmaintenance of this historic legacy!  Additionalinformation is available at https://www.historicjacksonville.org/behind-the-counter-tours/. \n 
URL:https://jacksonvillecottages.com/event/beekman-bank-behind-the-counter-tours-33/
LOCATION:Beekman Bank 1863\, 110 W California St\, Jacksonville\, OR 97530\, USA
END:VEVENT
BEGIN:VEVENT
DTSTART;TZID=America/Los_Angeles:20230715T120000
DTEND;TZID=America/Los_Angeles:20230715T150000
DTSTAMP:20260422T152119
CREATED:20230427T003427Z
LAST-MODIFIED:20230715T214919Z
UID:2540-1689422400-1689433200@jacksonvillecottages.com
SUMMARY:Beekman House “19th Century Family Life” Tours
DESCRIPTION:Saturdays\,May 27 thru September 2\, 12n – 3pm – “19th Century Family Life” Tours.  VisitJacksonville’s 1870s Beekman House Museum\, home to the town’s wealthiest andmost prominent pioneer family\, and catch a glimpse of how an upper-class Jacksonville family wouldhave lived in the late 1800s.  “FamilyLife” tours highlight 19th Century daily life\, changes brought about by theIndustrial Revolution\, and Victorian architectural and designinnovations\, providing insights into an upper-class Jacksonville lifestyleduring the town’s heyday.  Costumed docents offer 30-minute tours between12 noon and 3 p.m.  The Beekman HouseMuseum\, completely furnished with Beekman family artifacts\, is located at 470E. California Street in Jacksonville. The $5 admission goes to the on-going maintenance of this historiclandmark.  Additional information isavailable at https://www.historicjacksonville.org/19th-century-family-life/.
URL:https://jacksonvillecottages.com/event/beekman-house-19th-century-family-life-tours-8/
LOCATION:Beekman House\, 452 E California St\, Jacksonville\, OR 97530\, USA
END:VEVENT
END:VCALENDAR